{"text_format":"1","workbook":"xlsx","n_sheets":21,"sheets":["Important - Wichtig","Démarrage","PremiersPas","Hilfe","Aide","Htemp","Archive","nrA","Ticket","Factures1","Articles","Partners","FichePartners","CdeFourn","Stats","Tab.de bord","Débiteurs","Variables","Temp","z","Structure"],"not_rendered":{"charts":0,"images":2,"macros":1,"external_links":0,"defined_names":52,"comments":8,"pivot_tables":0},"unopened":[],"bounds":{"document_bytes":16777216,"sheet_cells":100000,"rows_first":2000,"rows_last":500,"rows_between":2000,"halvings":0,"cell_chars":16384,"cell_head_chars":4096},"cells_cut":0,"cells_raw":0,"read":"whole","date_system":"1900"}

{"sheet":"Important - Wichtig","index":0,"n_rows":26,"n_cols":1,"rows_kept":26,"cut":false,"hidden":true,"merged":[]}
["Si ce message s'affiche, c'est qu'Excelgestion n'est pas correctement installé…"]
["Comment ouvrir (= installer) excelgestion>>>"]
["excelgestion>>> contient des macros, il faut les activer à l’ouverture du fichier que vous venez de télécharger:"]
["• Sur Excel® 97/98 et 2000, à l’ouverture du fichier, veuillez cocher le bouton “Activer les macros”"]
["• Sur Excel® 2003/XP allez dans Menu Outils, Options, onglet Sécurité, bouton Sécurité des macros et cochez Niveau de sécurité moyen, puis fermez et réouvrez le fichier"]
["• Sur Excel® 2007/2010/2013/2016, voyez sur notre site le lien :"]
["www.christian-roux.ch/excelgestion/Macros_excel2007.htm\n"]
["\nExcelgestion>>> est sûr, ne contient ni virus, ni spyware.\nNous ne signons pas nos applications Excel® numériquement car cela coûte beaucoup d'argent, argent qui devrait forcément se reporter sur le prix de nos logiciels. Cependant soyez assurés que nos macros sont sûres et écrites dans les règles de l'art.\n"]
[]
["If this message is displayed, that's Excelgestion isn't correctly installed…"]
["How to open (= install) excelgestion>>>"]
["excelgestion>>> contains macros, you muss activate them when you open the present file:"]
["• With Excel® 97/98 et 2000, when opening the file, choose “Activate macros”"]
["• With Excel® 2003/XP go to the Menu Tools, Options, Tab Security, button macros Security and set up Middle security level, then close and reopen this file"]
["• With Excel® 2007/2010/2013/2016, see in our site the link :"]
["www.christian-roux.ch/excelgestion/Macros_excel2007.htm\n"]
["\nExcelgestion>>> is sure, do not contains virus or spyware.\nWe do not sign our Excel® applications numericaly because it's very expensive. However be sure that our macros are carefully written.\n"]
[]
["Wenn sich diese Nachricht lesen können, Excelgestion ist nicht richtig eingerichtet…"]
["Wie excelgestion>>> öffnen (= einrichten)"]
["excelgestion>>> enthält Macros, man muss die aktivieren wenn man diese Datei öffnet:"]
["• Mit Excel® 97/98 et 2000, wenn sie die Datei öffnen, wählen Sie \"Makros aktivieren\""]
["• Mit Excel® 2003/XP allez dans Menu Outils, Options, onglet Sécurité, bouton Sécurité des macros et cochez Niveau de sécurité moyen, puis fermez et réouvrez le fichier"]
["• Mit Excel® 2007/2010/2013/2016, Sehen Sie auf unserer Webseite den Links:"]
["www.christian-roux.ch/excelgestion/Macros_excel2007.htm\n"]
["\nExcelgestion > > > ist sicher, enthält weder Virus, noch spyware.\nWir unterschreiben nicht unsere Excel ®-Anwendungen numerisch weil das viel Geld kostet, Geld, das sich auf dem Preis von unseren Softwaren notgedrungen beziehen sollte. Doch seien Sie versichert, daß unsere Macros und in den Regeln der Art geschrieben, sicher sind.\n"]

{"sheet":"Démarrage","index":1,"n_rows":14,"n_cols":1,"rows_kept":14,"cut":false,"hidden":false,"merged":[]}
[]
["L'essentiel en bref"]
["Le programme excelgestion>>> est un programme de facturation et de gestion de stock pour PC/Mac qui fonctionne sur Microsoft Excel avec de la programmation VBA."]
["Malgré qu'il semble n'être que des feuilles Excel®, il est un véritable programme qui peut gérer à satisfaction de gros volumes de devis, de factures (etc.), de commandes aux fournisseurs et fournir des statistiques."]
["Des boutons se trouvent sur les feuilles qui permettent d'exécuter des tâches automatisées et d'interragir avec l'utilisateur. Pour lancer une tâche du programme, pressez sur le bouton correspondant (voir aussi sous\"Macro\" ainsi que les \"raccourcis-clavier\" dans l'Aide)."]
["L'aide indispensable se trouve dans la feuille \"Aide\" (voir les onglets ci-dessous). Si vous voulez utiliser le programme nous vous recommandons vivement de lire les \"Premiers pas\". Pour une utilisation optimale et complète, il est nécessaire de lire toute l'Aide."]
["Souvent nous avons ajouté des commentaires au cellules en haut de feuilles. Lisez-les!"]
["Certaines feuilles et les macros sont protégées pour vous éviter des effacements accidentels. Mais malgré cela il ne faut absolument pas effacer des données au hasard ou faire des copier(ou couper)-coller… Notament, ne jamais effacer des données en bleu."]
["Nous vous souhaitons beaucoup de plaisir et de satisfaction dans l'utilisation de ce programme, autant que nous en avons eu à le réaliser."]
["Ce programme, basé sur la structure d'Excel, peut aisément être complété d'autres fonctions et adapté à des usages très différents. Il est utilisé par des garagistes, des dentistes ou des entreprises de produits horlogers, notamment. Faites-nous part de vos besoins spécifiques."]
["De même pour d'autres langues ou d'autres pays, ce programme peut être adapté; voir dans la feuille Aide en Personnalisation. Pour d'autres monnaies, veuillez nous consulter."]
["Le présent programme démo contient des données factices pour expliciter son fonctionnement. La version pleine ne les contient pas."]
["Nous déclinons toute responsabilité quant à la perte éventuelle de vos données, de même nous ne pourrions être tenus pour responsables de malfonctionnement malgré toute la peine que nous nous sommes donnée. Les éventuels bugs ne sont pas couverts. La garantie se limite à l'envoi de questions et à leurs réponses par e-mail."]
["Voir aussi notre site: www.christian.roux.ch/excelgestion\nPour nous contacter: excelgestion@bluewin.ch \n© Christian Roux, oct-2002-2026"]

{"sheet":"PremiersPas","index":2,"n_rows":10,"n_cols":2,"rows_kept":10,"cut":false,"hidden":false,"merged":[]}
["Premiers pas","Action en rouge macro, en bleu feuille, en vert tâche"]
["Important à prendre en compte","Ne faites JAMAIS de \"Couper-Coller\" en Excelgestion, toujours des \"Copier-Collage spécial, 'Valeurs'), puis au besoin effacez les données inutiles\n   Lisez la feuille Aide, imprimez-là en couleurs au besoin et/ou faites des recherches dedans (CTRL+F) pour trouver ce que vous recherchez.\n   En principe TOUT est indiqué en Aide. Je réponds aussi à vos questions par e-mail: excelgestion@bluewin.ch\n   Enregistrez le document, surtout au début de votre utilisation, souvent et sous des noms différents, pour qu'en cas de problème, vous puissiez revenir à une version précédente\n   Ne modifiez pas la stucture du document tel ajouter/supprimer/masquer des lignes et/ou colonnes, renommer/supprimer/masquer des feuilles, etc. Faites bien attention de ne jamais effacer des formules, en particulier dans la feuille \"Articles\"\n   Les feuilles \"Archive\", \"Factures1\", \"FichePartners\", \"CdeFourn\", \"Stats\", \"Tab.de bord\" sont en partie ou complètement protégées"]
["Pour bien commencer","Dans l'Aide et dans cette feuille \"PremiersPas\", quand nous indiquons le nom d'une feuille Excel, nous l'indiquons en bleu (p.ex. \"Factures1\"). Quand nous parlons d'un bouton de programme à presser, nous l'indiquons en rouge (p.ex \"Envoyer à Archive\"). Enfin si nous indiquons d'aller à une rubrique de l'aide, nous utilisons le vert (p.ex. allez maintenant à \"Pour ajouter un article\"). Veuillez noter que, généralement, nous indiquons le mot \"Facture\" pour tout type de document (Offre, Devis, etc.)"]
["Comprendre l'usage des principales feuilles","La feuille \"Factures1\" contient la facture en cours. Beaucoup de cellules sont protégées. Pour passer d'un champ à l'autre pressez TAB ou MAJ+TAB pour revenir en arrière\n   La feuille \"Articles\" contient vos articles. Il est possible (dans la pluspart des cas), de facturer depuis cette feuille\n   La feuille \"Partners\" contient vos clients\n   La feuille \"Archive\" stocke les factures (ou autres documents) que vous avez facturé, chaque ligne est un article facturé. La 1ère ligne contient les infos valides pour l'entier du document"]
["Pour créer une facture","Allez maintenant dans \"Factures1\" en A11, sélectionnez à l'aide de la souris ou en pressant ALT+BAS le type \"Facture\" puis pressez la touche Enter (ou TAB), en A12 indiquez au besoin (facultatif) une description de votre document. D'autres étapes sont à faire: en B15 indiquez le numéro du client; pressez \"N° auto\" pour numéroter le document, voyez l'aide \"Numéro de facture\"\n   Allez maintenant dans \"Articles\". Pour ajouter un nouvel article, pressez sur \"Art.New\", indiquez le numéro de l'article, puis Enter, le numéro se positionne dans la colonne A à la ligne qui correspond au numéro (ne changez pas l'ordre des lignes), complétez les champs (Prix de vente1, Unité*, Prix d'achat* et TVA* (*facultatif). Voir l'Aide pour la suite"]
["Saisir la facture","En feuille \"Articles\" vous allez repérer l'article souhaité en colonne B. Le principe est de se placer (n'importe où), de la ligne 6 aux suivantes qui contiennent vos articles sur la ligne de l'article à facturer et de presser le bouton \"Facturer\". \n   Si vous avez plus d'articles que l'écran ne peut en afficher, pressez \"Chercher article\" et indiquez une chaîne de caractères significative, p.ex. pour, en colonne B \"Astérix le Gaulois\", tapez p.ex \"rix\" ou \"Asté\" ou \"gaulois\" (puis Enter puis au besoin une deuxième chaîne, telle que la 1ère, pour préciser votre recherche; sinon laissez tel quel, puis Enter), la colonne B se filtre. \n   Activez une cellule de la  ligne que vous voulez facturer, puis pressez \"Facturer\", indiquez la quantité, et un éventuel rabais. Recommencez l'opération pour chaque article, puis rendez-vous sur la feuille \"Factures1\""]
["Pour indiquer le nom d'un client sur la facture","Les clients se trouvent dans la feuille \"Partner\". Notez dans la colonne de gauche, le numéro du client (p.ex. \"5\") à qui vous voulez adresser votre facture\n   Placez-vous sur la ligne où se trouve votre client (ou fournisseur), au besoin utilisez \"Chercher client\", puis pressez \"Choisir client\"\n   ou\n   Dans la feuille \"Factures1\", en cellule B15, saisissez le numéro du client. Utilisez la touche TAB pour vous déplacer d'un champ à l'autre"]
["Imprimer la facture","En feuille \"Factures1\", pressez \"Preview & impression\" ou \"Impression (Mac)\", contrôlez que tout est en ordre puis cliquez sur imprimer et confirmez par OK (ou cliquez sur Annuler si vous ne voulez pas imprimer)"]
["Placer les données dans la feuille d'archive (pour pouvoir les réutiliser plus tard)","En feuille \"Factures1\", pressez le bouton \"Envoyer à Archive\""]
["Vider la facture (pour pouvoir en saisir une nouvelle)","En feuille \"Factures1\", pressez le bouton \"Réinitialiser\", confirmez par OK, vous êtes à nouveau en A11…"]

{"sheet":"Hilfe","index":3,"n_rows":57,"n_cols":2,"rows_kept":57,"cut":false,"hidden":false,"merged":[]}
["Aufgabe (von A - Z)","Handlung in rot macro, in blau Blatt, in grün Aufgabe"]
[]
["Um gut zu starten","Um richtig auf Deutsch zu starten, müssen Sie zuerst die Oberfläche auf Deutsch zu legen. Tippen Sie CTRL+Shift+L, dann Ok, dann \"3\". Excel - das Programm - ist immer in seine Sprache (vermutlich für Sie auf Deutsch), aber auf das Dokument, die Texte sind jetzt auf Deutsch. Um unten die Liste der Blätter in der englischen Sprache (leider, nicht auf deutsch) zu haben, müssen Sie drücken \"CTRL+Shift+L\" und tippen \"2\", und wieder \"CTRL+Shift+L\" und tippen \"3\". Dann wird die Liste \"Start, How to begin, Hilfe, Aide, Archive, Bill1, Articles, Partners, OrderSuppl., Statistics, Variables\", so aussehen. Das sind die Liste der Blätter (falls Sie Problemen haben, fragen Sie uns und/oder schauen Sie das Microsoft-Excel Handbuch um die Basis zu kennen, und um besser Excelgestion zu geniessen).\n   Im Blatt diesem \"Hilfe\", wenn wir den Namen eines Blattes Excel geben, geben wir ihn in der Bläue (zum Beispiel \"Bill1 \"). Wenn wir über einen Knopf der Programm um zu drücken sprechen, geben wir ihm im Rot (z.B. \"Archivieren\"). Endlich , wenn wir geben, in eine Rubrik des Hilfe-Blatt zu gehen, benutzen wir das Grün (z.B., gehen Sie jetzt in \"Um gut zu starten\").\n\nWichtig: Bemerken Sie bitte, daß wir, im allgemeinen, das Wort \"Rechnung\" für \njeden Typ von Dokument geben (Anbieten, Kostenanschlag, u.s.w.).\n\nListe der wichtigste Blätter: \nArchive - wo die Rechnungen die Sie erfasst haben, gelagert sind. \nBill1 - wo Sie die Rechnungen erfassen. \nArticles - wo Ihre Artikel-Liste steht. \nPartners - wo die Kunden und Lieferanten (falls Sie Lieferanten haben) sind."]
["Abschlagszahlung, Accompte","Um einer Abschlagszahlung oder accompte gutzuschreiben, erfassen Sie zuerst ein virtuellen Artikel \"Vorauszahlung\" (sehen Sie Artikel, neuen erfassen). Dann fakturieren Sie diese Artikel mit Menge \"1\". Drücken Sie das Knopf \"Zusatztext einfügen\" und tippen Sie, als Einzel-Preis,die Vorauszahlung mit MINUS (z.B. \"-100\").\nSpäter werden Sie diesen Betrag dem Artikel oder den Artikeln gewähren sollen, für die die Vorauszahlung bestimmt war. "]
["Aktualisierung des LagerBestandes","Wenn Sie eine Rechnung oder eine Gutschrift erschaffen, wird der Status der Lagerbestand geändert (für andere Dokument ist das LagerBestand nicht modifiziert). Sehen Sie auch \"Archive\".\n   Sehen Sie \"Bestellung an Lieferant\" und \"Warenempfang\""]
["Archive","Wenn Sie eine Rechnung in \"Bill1\" erfassen, können Sie sie bewahren, klickend \"Archivieren\" (eine Kopie von allen Daten ist auf dem Blatt \"Archive\" bewahrt). Später, z.B., wenn Sie von ein Angebot in eine Rechnung verwandeln wollen, können Sie sie die in \"Bill1\" \"wieder zuführen\". Im Blatt \"Archive\", activieren Sie eine Zelle der Zeile die Sie \"wieder zuführen\" wollen, klicken Sie auf \"ArchiveToFactures1\" (oben links). Dann im \"Bill1\" wenn nötig ändern Sie die Daten, die gerade vorbeigegangen sind  von \"Archive\" zu \"Bill1\" (sehen Sie u.A. \"Zusatzt Text einfügen\"). Wenn nicht alle Zeilen sichtbar sind (in \"Archive\", Sie können \"See all\" anklicken um alle Zeilen zu sehen."]
["Articles (Artikel Blatt)","Enthält alle Artikel-Daten. Es stehen oben rotes Dreieck für viele Spalenten es sind Kommentaren zu sehen (auf französisch),\nErfassen Sie Ihre eigenen Daten in der Struktur. Die Spalten mit blauen Texten müssen NICHT und nie erfasst oder gelöscht sein. Die Spalten mit Kopf \"Freies Feld...\" können nach Ihrem Belieben gefüllt sein aber (sehr wichig) füllen Sie Ihre Texten auf Blatt \"Variables\" (sehen Sie \"Setups\"). Sehen Sie auch \"Artikel neuen erfassen\".\n   Tippen Sie CTRL+Shift+F um dem \"Auto-Filter\" zu sehen oder verstecken.\n   Tippen Sie CTRL+F um eine Suche in dieses Blatt zu starten."]
["Artikel, neuen erfassen","Um einen neuen Artikel zu erfassen, gehen Sie auf Blatt \"Articles\". Drücken Sie den Knopf \"Art. New\", es wird Ihnen eine Nummer von Artikel gefragt, geben Sie Ihre gewünschte Nummer (z.B. A34GW oder 33156, seien Sie so einfach wie möglich). Der neue Artikel legt sich automatisch pro alphabetische Ordnung in die Liste. Wichtig, diese Ordnung NICHT und nie ändern.\n   Füllen Sie minimal die folgende Felder (auf die aktuelle Zeile): Bechreibung, Verkaufspreis, Einheit, MWSt-Code. Das ist alles für jetzt.\n   Es ist sehr wichtig, daß sich keine Zeilen als auch Spalten völlig leer in Blatt Artikel und Partners befindet. Fügen Sie immer neue Artikeln immer auf diese Art und Weise, und nicht zur Hand."]
["Aufgabe","Das Wort \"Aufgabe\" nach links ist eines"]
["Aut. Numm (Nummerierung automatisch)","Klicken Sie auf \"Aut Numm\". Das 1. Mal wird es Sie der 1. und 2. gewünschte Nummern gefragt (tippen Sie, z.B. \"1\" und \"2\", oder \"F001\" und \"F002\"), dann stellt sich der 3. automatisch zur Schau. Seitdem ein Druck erhöht in der nächsten Nummer automatisch. Die Initialen dieses, der fakturiert, sind auch gefragt, aber Sie können sie ignorieren."]
["Automatisch Rechnen (Handberechnung)","Diese Funktionalität von Excel, die macht, daß in jedem Zeit, alle Berechnungen des Blattes \"a jour\" sind, ist in der Praxis sehr launisch. Die Handberechnung macht sich sehr einfach, drücken Sie Taste \"F9\""]
["Bestellung an Lieferant","Im voraus, sollen Sie im Blatt \"Articles\" Informationen erfasst haben, damit das Programm weiß, was zu machen. Besonders erfüllen Sie ein \"Ref. Lieferant\" (Spalten J) und eine Bestellmenge (Spalten AE - sehen Sie unten)\n   Drücken Sie den Knopf CF1 dann (im Bedürfnis) filtrieren Sie nach einem \"Ref. Lieferant\" \" zur Auswahl; nach Bestellvorschlag (Spalten AD, besonders nötig sind auch Spalten AB, AC), tippen Sie die gewünschte Bestellung (Spalten AE und Datum AF), \n   Drücken Sie den Knopf CF2 , und tippen Sie der \"Ref. Lieferant\" beim dem Sie bestellen wollen. Die Bestellung macht sich sichtbar in \"OrderSuppl.\".\n   Fügen Sie eventuelle Bemerkungen rechts von jedem Artikel und in den letzten 3 Zeilen des Formulars hinzu.\n   Drücken Sie den Knopf \"BestLieferantPreview\" und drucken Sie die Bestellung. Dann auf  CF3, um die Daten zu leeren."]
["Bi-Fenêtre (Modus)","Diese Modus, im Betrieb bis zur Version 4g19, ist durch die \"Fakturierung serienmäßig\" auf dem Blatt \"Articles\" ersetzt gewesen."]
["Blatt","Ein Blatt ist eine \"Datenseite\". Zum Beispiel sind Sie jetzt auf dem Blatt \"Hilfe\" (Sehen Sie unten). Wenn wir einen Blatt nennen wollen, schreiben wir in Bläue"]
["CF1 CF2 CF3","CF1 zeigt nur die nützlichen Säulen, um eine Bestellung zu verbringen (drücken Sie ein zweites Mal, um alle Säulen wieder zu sehen)\nCF2 verbringt die Bestellung\nCF3 löscht das Blatt \"OrderSuppl.\"\nSehen Sie auch \"Bestellung an Lieferant\" eine  und \"Warenempfang\""]
["Datum erfassen","Auf Blatt \"Bill1\", Zelle B13, die Datum ist automatisch \"heute\", sie können aber auch eine andere Datum tippen"]
["Drücken Sie das Blatt \"Bill1\"","Drücken Sie das Knopf \"Ansicht und drücken\" dans prüfen Sie das Ansicht. Wenn Ok, drücken Sie Drucken"]
["Eine Line in \"Manual-Modus\" im \"Automatische-Modus\" zurückzustellen","Auf dem Blatt \"Bill1\", liegen Sie auf der Zeile, die im Manual-Modus (Z-Text einfügen/löschen) gelegt gewesen ist und drücken Sie CTRL+Shift+R"]
["Einer Zelle (=Feld) anderem zu gehen / einer Zelle Heraufsteigen (=Feld) anderem","Drücken Sie TAB und Shift+TAB"]
["Fakturierung serienmäßig","Schnelle Fakturierungsmodus. Im Blatt \"Articles\" drücken Sie \"Art.Berec\" (CTRL+MAJ+A) wenn Sie sind auf der Zeilen des Artikels der Sie fakturieren möchten. Der Zustand des LagerBestandes zeigt sicht. Es wird gefragt eine Menge und ein eventuelle Rabatt (lassen Sie leer, wenn es keinen Rabatt gibt, geben Sie \"20\" für 20 %). Wiederholen Sie die Operation nach Ihrem Belieben für andere Artikel. Dann gehen Sie auf dem Blatt \"Bill1\" und seit der Zelle A11, geben Sie das, was er sein soll: Typ doc, Nummer von Dokument, Kundennummer, u.s.w."]
["Filter (Automatik)","Excel erlaubt, auf der ersten Zeile ein automatischer Filter zu stellen (sehen Sie Hilfe und/od. Handbuch von Excel). Auf Excelgestion, nur das Blatt \"Articles\" kann ein Automatik Filter haben. Stellen Sie das Filter mit CTRL+Shift+F, oder ziehen Sie ihn gleich zurück. WICHTIG ziehen Sie den Filter zurück vorher wenn Sie ein Knopf drücken. Das Blatt \"Partners\" kann auch ein Filter zu haben. Sie können ihn immer lassen."]
["Gutschrift","Tippen Sie die Mengen im Negativ (mit das Zeichen  \"-\" vor). Sie können auch so ein Artikel gutschreiben in eine Rechnung."]
["Kopieren / Kleben / Schneiden","Sie können Kopieren/Kleben Funktionnen (CTRL+C, CTRL+V) in den Blättern \"Partners\" und \"Articles\". Aber im Blatt \"Bill1\" muß man das nicht machen, unter Androhung die \"Mechanik\" des Programms zu verstellen. Wenn überhaupt Sie einen Kopieren/Kleben machen müssen in \"Bill1\", machen Sie es so: editieren Sie die Start-Zelle mit \"F2\" und auslesen den Texte, gehen Sie auf die End-Zelle und editieren Sie mit \"F2\" und dann Kleben Sie den Text.\nMan darf nicht Schneiden (CTRL+X) auf Excelgestion (auf Ihre eigene Risiko)."]
["Kunde, den Namen des Kunden in der Rechnung zu zeigen","Tippen Sie sein Nummer (gemäss Blatt \"Partners\") in der Zelle B15 des Blattes \"Bill1\" oder, in Blatt \"Partners\"; stellen Sie Sie auf der Zeile des partner zu fakturieren, dann drücken Sie \"Kunden wählen\""]
["Kunde, neue erfassen","Im Blatt \"Partners\", erfassen Sie Personalien gemäss der gegebenen Struktur. Die Nummer in der Spalten A soll vorwärtschreitend sein."]
["Lagerbestand im Blatt \"Bill1\"","Wenn Sie fakturieren, zeigt Ihnen das Blatt \"Bill1\" in der Spalten J den LagerBestand (inklusive Saldo, was Sie fakturieren)."]
["Letzte Position löschen","In  \"Bill1\" löscht den letzte Getippte Artickel (CTRL+Z)"]
["Löschen","Man muß keine Daten löschen. Besonders muß man keine Zeilen im Blatt \"Archive\" löschen, selbst wenn das (Momentan) möglich ist. Es ergäbe sich daraus aus Funktionsstörungen."]
["MAC Macintosch","Dieses Programm funktioniert auf Microsoft-Excel für Macintosh, ab version 98. Wir haben aber kein Test auf neuen Version gemacht. Sagen Sie uns Ihre Erfahrung. Nach Microsoft, es sollte alles gehen."]
["Macro, Starten Sie eine ….","Ein macro ist die Erfüllung eines Programms. Sie starten, wenn Sie auf der Knopf drücken (mit dem Maus). In dieser Hilfe ist der Name der macro im Rot immer gezeigt"]
["Maximas","In alle Programmen sind Grenzen. Für das Blatt \"Bill1\" können Sie bis 33 Positionen gleichzeitig fakturieren (wenn Sie mehr zu fakturieren haben, müssen Sie mehrere Dokumenten erstellen). Für die Artikeln, ist es begrenzt bis 3000 Positionen (wir können viel mehr anbieten, aber bitte, fragen Sie uns). Für die Partners und die Archive, keine Limits (65000)."]
["MWSt, Code und Status","Um den Satz von MWSt zu ändern, gehen Sie im Blatt \"Variable\", und ändern Sie Satz 1 in A2 und Satz 2 in A3."]
["Netzwerk","Dieses Programm funktioniert im Netzwerk (auf mehreren Posten gleichzeitig) nicht. Sie können aber es auf ein Server deponieren und auf mehrere PC/MAC arbeiten (aber nicht gleichzeitig)."]
["Neu beginnen","Leere den Inhalt des Blattes \"Bill1\""]
["Partners","Die Gesamtheit der Kontakte (Kunden, Lieferanten, usw) sind im Blatt \"Partners\" gehalten.\nIn der Spalten I: Sprache, In K-L: Rabatt (als Hinweise, nicht Automatisch)\nIn der Spalten R (Gruppe), tippen Sie K für Kunden, L für Lieferanten. Ein Partner kann mehreren Gruppen gehören.\nDer Spalten S (Umsatz) gibt den Umsatz, Kunde pro Kunde (funktionniert nur wenn Sie nur Rechnungen/Gutschrift erstellen, sonst benutzen Sie das Blatt \"Tabl.de Bord/Statistics\")"]
["Partners und Artikeln, Neuen","Es ist sehr wichtig, daß sich keine Zeile als auch leere Spalten in Blatt \"Articles\" und \"Partners\" befindet. Die Nummern sollen in der zunehmenden Ordnung(Auftrag) immer gehen: \" 1,2,5,9,19, u.s.w. \""]
["Partners, Datenfilterung","Das Blatt \"Partners\" ist nicht geschützt, man kann die Daten also filtrieren"]
["Payment / Pay.Multliple","Seit dem Blatt \"Archive\" tippen Sie die Bezahlungen. Drücken Sie den Knopf (alles rechts vom Blatt oder Tasten CTRL+MAJ+P), geben Sie die Rechnungsnummer und erfassen Sie den Betrag tatsächlich bezahlt.\nIm Blatt \"Statistics\", im Umsatz (Zelle J4-J5) geben Sie die Daten, für die Sie wünschen, die bekommenen Bezahlungen, den Umsatz anzuzeigen. Wenn Sie in J3 tippen \"Visa\" (z.B.) nur die Beträge mit \"Visa\" (im Spalten IT von Archive) werden berechnet\nWenn Sie auf \"Pay.Multiple\" anklicken, das Program die Rech.-Nr verlangt. So Sie können mehrere Zahlungmodus für eine einzige Rech.-Nr haben (z.B. ein Teil \"Cash\" und ein Teil \"Paypal\"). Sie müssen aber selber prüfen dass die Summe diese Beträge entspricht die Rechungsbeträg"]
["Präliminarien / Kommentars","Auf Blatt \"Bill1\", Sie können Präliminarien unter dem Titel \"Rechnung\" aufnehmen (in der Zeile A12) und Kommentars unter dem Preis in der Zeile B52. Sie können auch auf irgend eine Zeile (17 bis 50), mit \"Zusatztext einfügen\" und tippen Sie Ihre Kommentar."]
["Quittung","Für ihre Verkäufe mit Quittung ein Partner \"Vorübergehendert \" (Partner Nr 3) existiert . Sie können auch im Weißen zu lassen (Nr 1)"]
["Registrierung/Sicherung der Datei","Wenn Sie mit dem Programm anfangen, nehmen Sie die Gewohnheit, die Datei aufzunehmen, BEVOR eine neue und unbekannte Aufgabe zu machen. Wenn das Ergebnis ist nicht befriedigend, Sie können das Dokument dann schließen und es in seiner letzten Version wieder öffnen, ohne daß er geändert ist."]
["Reisespesen ","Sie sind unter Form eines Artikels zu erfassen (zum Beispiel: N ° 200 Reisespesen, Einheitspreis \"0.85\", Einheit: \"Km\")"]
["Scanner","Die Benutzung einen Scanner und das Drucken von Etiketten sind voll möglich aber nicht in Preis einbegriffen. Fragen Sie uns."]
["Sprache","Die Auswahl der Sprache (1, 2 od. 3) ist jeder Öffnung des Programms vorgeschlagen (Tippen Sie \"No\" wenn Sie dieses Dialog nicht mehr sehen wollen). Wenn Sie nichts zu ändern wünschen, drücken Sie Taste \"Esc\". Um Sprache im Laufe der Benutzung zu ändern, drücken Sie CTRL+MAJ+L.."]
["Statistics (Statistiken)","Zeige Ihnen den Zustand des Lagernestandes (der nur während Rechnungen und Gutschriften geändert sind) im Blatt \"Articles\". Der Wert des Lagerbestandes und der Gesamt-Verkaufspreis sind auch berechnet, Rechnung nach Rechnung. Sie müssen ein Kaufpreis (Spalte G) für jede Artikel geben um alle Statistiken zu bekommen."]
["Statistiken auf…","Diese neue Funktionalität seit Version 4f befindet sich im Blatt \"Statistics\" in den Zellen H1-I6. Es erlaubt Ihnen, den Schlußbetrag von den Unterlagen nach einer Kundennummer zu kennen (im Zelle I2 zu erfassen). Wenn Sie nichts in diesem Feld erfassen, werden alle Kunden), ein Typ von Dokument ausgewählt sein (in I3 - Aufmerksam bitte zu erfassen, lassen Sie keinen Tippfehler) und seit/bis zu einem gegebenen Datum (in I4 und I5 erfassen). Der entsprechende Betrag ist in I6 angezeigt"]
["Suche auf Blatt Articles, Partners, oder andere","Benützen Sie CTRL+F, tippen Sie das Wort/Werte, dann \"Enter\""]
["Tastaturbefehle (wichtigsten)","CTRL+Shift+S = Archivieren (im Bill1)\nCTRL+ Shift+R = Zusatztext einfügen (im Bill1)\nCTRL+R = Eine Line in \"Manual-Modus\" im \"Automatische-Modus\" zurückzustellen (im Bill1)\nCTRL+Shift+Z = Neu beginnen (im Bill1)\nCTRL+Shift+I = Ansicht & Drucken (im Bill1)\nCTRL+Shift+N = Aut. Numm. (im Bill1)\nCTRL+Shift+A = Art. berechnen (im Articles)\nCTRL+Shift+C = Kunde wahlen (im Partners)\nCTRL+Shift+L = Sprache Auswahl (irgendwo)\nCTRL+Shift+P = Payment (im Archive)\nCTRL+Shift+F = Put/Remove Filter (im Articles)\nCTRL+Shift+M = Alle Windows-Infos wieder schauen (igendwo)\nCTRL+Z = Letzte Position löschen (im Bill1)"]
["Tour guidé (TG) / Guided Tout (GT)","In jedem Start von Excel, können Sie den \"Tour Guidé (french)\" oder \"Guided Tour (englisch)\" starten (noch nicht auf deutsch). Wenn das Dialog kommt nicht mehr, drücken Sie CTRL+Shit+L um wieder zu schauen. Dann tippen Sie TG oder GT. Diese Hilfe-Seite (die Sie jetzt lesen) ist aber mehr detailliert."]
["Transportkosten","Die Transportkosten sind zu erschaffen als ein / mehrere Artikeln. Auch wie ein Artikel zu fakturieren. Wir empfehlen Ihnen, viele mit verschieden Beträgen (zum Beispiel nach dem Posttarif) zu erschaffen, mit Nummern leicht zu erinnern. Geben Sie das richtige MWSt status."]
["Variables","Das Blatt \"Variables\" zeigt Ihnen die Kriterien, die Sie ändern können: MWSt-Tarife, Texte in den Füßen von Seite, sogar die Beschreibung des Dokumentes und seine Sprache. Wichtig, ändern Sie keine Zeilen 1-39 , 79 und 119. Die Zeilen 40-76 betreffen französische Sprache, Zeilen 80-116 englische Sprache und Zeilen 120-156 der Deutsche.\n   Nach die Änderungen, CTRL+Shift+L und Sprache wählen, um zu aktualisieren.\n   In A9 Tippen Sie ihre Firmenbezeichnung; sie wird dem Eindruck, im Fuß von Seite erscheinen."]
["Verkaufsbedingungen","Sehen Sie Fuß von Seites, Verkaufsbedingengen…"]
["Verkaufsbedingungen im Fuß von Seite","Im Blatt \"Variables\" finden Sie im Spalten C und D die Liste der Bedingungen. Sie können sie ändern / ergänzen aber achten darauf, daß die Nummern in der Spalte C immer vorwärtschreitend sind. Um andere Füße von Seiten zu ändern / hinzufügen, geben Sie in Zeile 40-55 für französische Sprache, in 80-95 für englische Sprache und in 120-135 für Deutschen. Dann CTRL-MAJ-L um zu aktualisieren.\n   Im Blatt \"Bill1\", erfassen Sie in A56 das Nummern, die Sie wünschen anzuzeigen (zu bemerken, daß diese Nummer - im Weiß und unsichtbar ist - er sieht sich also nur oben wo der Formeln sind und wird nicht gedruckt)."]
["Von einem Blatt zu anderem vorbeizugehen","CTRL+PGDown (recht) und CTRL+PGUp (links)"]
["Wahrungs (auländischen, umrechnen)","Das benutzte Geld ist der Schweizerische Franc ( CHF); wir passen gern das Programm in Euros ( € ) an. Das Blatt \"Articles\" erlaubt den Kauf in jedem Geld und seiner Umdrehung in den Schweizerischen Francs. Das Mix CHF/€ ist möglich, aber nicht inklusive. Fragen Sie uns.\nWenn Sie wollen umrechnen (die Gesamtsumme) Ihre Rechnung von einer Währung zu einer andere (zum Beispiel von CHF zu EUR), geben Sie 1° den Wechselkurs im Blatt \"Variables\", in A7 , 2° in F56 des Blattes \"Factures1\", geben Sie die Währung (z.B. \"EUR\") und das Programm wird die Ganze Betrag der Rechnung im neue Währung umrechnen. (Bemerken Sie, daß , wenn Sie ein Dokument im Blatt \"Archive\" archivieren, die Währung, der Wechselkurs und der Betrag im ausländischen Geld sind, in diesem Fall, nicht bewahrt sind, behalten Sie diese Informationnen [z.B \"EUR 1.6\"] in der Zelle B53 des Blattes \"Factures1\") und räumen Sie sie um, wenn das Angebot in Rechnung umgerechnet muss. Wenn Sie nicht wünschen daß sich die Zellen F56-G56 im Grau schauen, löschen Sie den Inhalt der Zelle F56 (Taste Delete)"]
["Warenempfang","Wenn Sie die Ware daß Sie bestellt haben bekommen, gehen Sie auf dem Blatt \"Articles\". Starten Sie CF1, um alle Spalten nicht zu sehen\n   Falls Sie es haben, nehmen Sie Ihre Bestellformulare , was Sie für Sie gedruckt hatten. Filtrieren Sie die Daten auf diesem Lieferanten (Spalte S). Löschen Sie die Menge, die in Bestellung bekommen ist (Spalte AE) und führen Sie da im Eingang (Spalte J) ein, prüfen Sie die Preise von Ihrem Lieferanten und passen Sie ihre Preise dementsprechend dem Bedürfnis an\n   Drücken Sie auf \"Eingang\" (Spalte O) um die Waren einzutrete\n   Schließlich drücken Sie CF1 wieder um alle Spalten zu sehen"]
["Z-Text einfügen/löschen (und rückkehr in Auto-Modus)","Sie können in \"Bill1\" eine Zeile von Kommentar oder einen Handverkauf aufnehmen. Dazu, aktivieren Sie einen Zeile auf der Zeile, die Sie erfassen möchten und drücken Sie der Knopf \"Zusatztext einfügen/löschen\" (CTRL+MAJ+R). \n• Wenn es ein Kommentar (im Prinzip unten des Artikels) ist, erfassen Sie ihn im Feld \"Beschreibung\"\n• Wenn es ein Verkauf eines Artikels außer dem Artikelliste ist, wird sie als Article 0 - auf Blatt \"Articles\" gerechnet sein - Sie sollen den 0 in der Nummer von Artikel lassen und von Hand alle entsprechenden Felder erfüllen (Beschreibung, Menge, Preis, Rabatt, TVA1 oder 2). Sie können auch ein Artikel (z.B. Nr 999) erschaffen und alle Handverkauf auf dieses Artikel zuschreiben (sehen Sie unten).\n• Wenn es ein generisch-Artikel ist, machen Sie wie oben.\n   Note: es ist notwendig, daß die Spalte A mindestens einen Punkt enthält. Erstellen Sie ein Artikel mit \".\" als Nummer in Blatt \"Articles\".\n   Wenn der Verkauf gedruckt ist, muss man \"Neu beginnen\", und nicht nur die Daten ändern.\n   Für rückkehr in Auto-Modus, sehen Sie \"Eine Line in \"Manual-Modus\" im \"Automatische-Modus\" zurückzustellen\""]

{"sheet":"Aide","index":4,"n_rows":78,"n_cols":2,"rows_kept":78,"cut":false,"hidden":false,"merged":[]}
["Tâches (de A - Z)","Action en rouge macro, en bleu feuille, en vert tâche"]
["+1 ou -1 (macros)","Permet d'ajouter ou de retirer, par incrément de 1, dans les colonnes Qté et % (Rabais), de la feuille Factures1 et la colonne D de Articles."]
["Archivage de la commande au fournisseur (1) et Réception de marchandise (2) en feuille Articles","Enregistrez votre fichier AVANT de lancer ces opérations!\n(1) Passez les quantité commandées de la colonne AE à l'une des colonnes W, X, Y ou Z (faites un tournus sur ces 4 colonnes pour conserver vos 4 dernières commandes aux fournisseurs)\n- Pressez le bouton \"Dépl.(acer)\" et choisissez col. W, X, Y ou Z)\n- Cliquez sur \"Cde\" (ligne 4) et effacez les quantités (Delete) en colonne AE.\n(2) Quand vous recevez la marchandise que vous avez commandé\n- Dans la colonne qui correspond à la livraison, contrôlez (et au besoin modifiez) les quantités que vous avez effectivement reçues (filtrez les données sur la colonne au besoin)\n- Enlevez le filtre. Cliquez en ligne 4 sur \"Cde Fourn 1, 2, 3 ou 4\" puis le bouton \"Cumuler Entrées\", les quantités s'additionnent aux valeurs existantes en colonne M.\nContrôlez que tout est juste puis enregistrez votre fichier!"]
["Articles (feuille)","Contient toutes les données articles. Voir les commentaires (triangle rouge en haut à droite de la cellule) pour plusieurs des colonnes.\nSaisissez vos propres données selon la structure établie (voir l'aide \"Articles, Nouveaux...\"). Vous pouvez mettre vos propres intitulés de colonne dans les colonnes marquées \"vide\", mais ne changez pas les autres colonnes. Surtout ne déplacez pas l'ordre des colonnes, sinon le programme ne fonctionnera plus\n• Faire très attention de ne pas effacer des données en bleu\n• Faire CTRL+MAJ+F pour afficher/masquer le filtre ou pressez sur le bouton \"Filtre\"\n• Les numéros doivent être en ordre croissant: \"1,5,9,11, etc.\", les éventuels zéros devant ne sont que visuels, ne pas les saisir."]
["Articles, Nouveaux …","Pour créer un nouvel article, pressez le bouton \"Art.New\" (il vous sera demandé un numéro d'article à choix) en cliquant sur le bouton correspondant dans la feuille \"Articles\" et saisissez les données. Les données sont automatiquement retriées selon l'ordre des numéros, n'en modifiez pas l'ordre.\nIl est très important qu'aucune ligne ni colonne totalement vide ne se trouve dans les feuille Articles et Partners."]
["Avance sur paiement, Accompte","Pour déduire une avance ou un accompte, procédez ainsi: 1) en Factures1 indiquez le montant que vous recevez en C220 (p.ex. \"500\"), vous voyez qu'il s'indique en négatif et en rouge en G220, 2) une fois que vous avez passé la facture en Archive, il faut enregistrer le montant de l'acompte en col AB de Archive, indiquez \"500\" en regard de la facture. Note: les statistiques fonctionnent et indiqueront le total (payé et encours), avance comprise."]
["Bi-Fenêtre (mode)","Ce mode, en service jusqu'à la version 4g19, a été remplacé par la \"facturation en série\" depuis la feuille Articles."]
["Calcul Automatique","Cette fonctionnalité d'Excel, qui fait que à chaque passage du curseur d'une cellule à l'autre, tous les calculs de la feuille en cours sont mis à jour, est très capricieuse en programmation. Le calcul manuel se fait en pressant la touche \"F9\", quant au réglage oui ou non de \"Calcul Automatique\", il se trouve dans menu Outils, Options, onglet Calcul, et choisir le Mode de calcul."]
["CF1 CF2 CF3","CF1 ne montre que les colonnes utiles pour passer une commande (pressez une seconde fois pour voir toutes les colonnes)\nCF2 passe la commande, CF3 efface la feuille CdeFourn\nVoir \"Commande fournisseur, Créer une\" et \"Réception de marchandise\"."]
["Chercher Article(Q)","Permet de filtrer deux mots sur la désignation d'article (colonne B). Lors de la prochaine pression, le programme enlève et filtre automatique, il faut represser pour faire une nouvelle demande. CTRL+MAJ+Q. Quand on revient sur Factures1, et qu'on veut lancer d'autres portions du programme, il faut que la liste soit déroulée et non filtrée."]
["Chercher Client(q)","Permet de filtrer sur le nom et/ou la localité que vous recherchez en les indiquant dans les boîtes de dialogue. Par exemple \"Ro\" \"Matran\" montrera tous les partners dont le nom contient \"Ro\" et sont à \"Matran\". Lors de la prochaine pression, le programme enlève et filtre automatique, il faut represser pour faire une nouvelle demande. CTRL+Q."]
["Choisir une valeur dans une liste déroulante","ALT+Flèche BAS, puis ENTER."]
["Client, créer un client","Dans la feuille Partners, saisissez ses coordonnées selon la structure donnée. Le numéro en colonne A doit être progressif."]
["Client, indiquer le nom du client dans la facture","Tapez son numéro (selon les indication du client de la feuille Partners) en cellule B15 de la feuille \"Factures1\" ou, en Partner; placez vous sur la ligne du partner à facturer puis pressez sur \"Choisir client\"."]
["Commande fournisseur, Créer une","Sur la feuille \"Articles\", lorsque le stock baisse (col. K) et que le programme vous propose de passer une commande (col. AD), saisissez les quantités en col AE, que vous voudrez commander. Faites-le pour un (1) fournisseur (col. J). (Au besoin pressez le bouton \"CF1\" pour masquer certaines colonnes inutiles à ce stade). Quand vous avez saisi toutes ces quantités, pressez le bouton \"CF2\", indiquez le numéro du fournisseur auprès de qui vous voulez commander, et les quantités et données basculent dans la feuille \"CdeFourn\". Lancez le bouton \"CdeFournPreview\", etc.\n   Voir: Archivage de la commande au fournisseur (1) et Réception de marchandise (2) en feuille Articles"]
["Conditions de ventes","Voir Pied de page, Conditions de vente en…"]
["Copier/Coller","Vous pouvez-faire des copier-coller dans les feuilles \"Partners\" et \"Articles\". Mais dans la feuille \"Factures1\", il ne faut pas le faire sous peine de dérégler la \"mécanique\" du programme. Si toutefois vous devez faire un copier-coller en \"Factures1\", procédez ainsi: 1) éditez la cellule que vous désirez copier (F2), 2) positionnez-vous sur la cellule d'arrivée et pressez F2, 3) Collez les données (CTRL+V)."]
["Déplacement (Frais de...)","Ils sont à créer sous forme d'un article (p.ex. N° 200 Frais de déplacement, Prix unitaire 0.85 (le km) et, pour tel mandat facturez 223km à 0.85. Simple n'est-ce pas?"]
["Échéance","En G15 feuille Factures1 s’affiche l’échéance, soit la date du jour plus le nombre de jours (en A17 feuille Variables). Si vous effacez G15, l’échéance est effacée pour la facture en cours. Si vous indiquez \"0\" en A17, l’échéance ne s’affiche plus. En feuille Archive, colonne Z, quand la date est dépassée, l’échéance devient en couleur, pour vous indiquer qu'il faut envoyer un rappel. Quand le paiement est effectué par le client, il faut effacer l'échéance en col. Z."]
["Effacement(s)","Il ne faut pas effacer des données \"comme ça\". Il ne faut JAMAIS faire des Couper-coller, mais des Copier-collage spécial (Valeurs), puis Effacer les données restantes au besoin. Il ne faut ni effacer, modifier la structure des feuille, effacer des formules. Il en résulterait des dysfonctionnements."]
["Effacer dernière position","Efface la dernière position sur la feuille \"Factures1\" (CTRL+Z)."]
["Enregistrement de fichier","Si vous débutez avec le programme, prenez l'habitude d'enregistrer le fichier AVANT de faire une tâche nouvelle et inconnue. Si le résultat n'est pas celui escompté vous pouvez alors fermer le document et le rouvrir dans sa dernière version sans qu'il ne soit altéré."]
["Envoyer à Archives","Si vous saisissez une facture en \"Factures1\", vous pouvez/devez la conserver en cliquant sur \"Envoyer à Archives\" (une copie de toutes les données est conservée sur la feuille \"Archives\"). Ultérieurement, par ex. si vous voulez transformer une offre en facture, vous pouvez la \"réinjecter\" en \"Factures1\". Dans la feuille \"Archives\", lancez la macro Hist.à Fac.1 et indiquez le numéro de la facture  que vous voulez \"réinjecter\". De retour sur \"Factures1\",  modifiez au besoin les données qui viennent de passer. À noter que toutes les données (notamment \"Description\" sont maintenant en \"texte pur\" et non en lien à la feuille \"Articles\", vous pouvez les remettre en automatique (voir Ligne manuel/auto)). C'est au moment où vous lancez cette action que la mise à jour du stock s'exécute, seulement si vous envoyez une Facture ou une Note de crédit (pour tout autre document, le stock n'est pas mis à jour)\n   La feuille Archive est protégée mais SANS mot de passe. Vous pouvez donc faire des modifications (à vos risques et périls), mais il ne faut EN AUCUN CAS effacer ou supprimer des lignes. Pour reprotéger la feuille, veuillez décocher \"Objets\" et ne pas donner de mot de passe."]
["Espace en haut de facture (Ligne 12)","Le haut de la facture (feuille Factures1) peut être dégagé plus ou moins (ligne 12) pour une question d'esthétique. Utilisez le bouton L12 pour régler la hauteur de cette ligne. Par défaut \"12.75\" soit une ligne, mettez-la à \"25.5\" ou plus si vous le souhaitez. La valeur est mémorisée jusqu'au prochain changement."]
["État du stock","NEW: L'état du stock par unité s'affiche en \"Factures1\", en colonne J (de 17 à 216), comme cela vous pouvez savoir si l'article que vous facturez est en stock ou non."]
["Facturation \"à la volée\"","Mode rapide de facturation. Directement depuis la feuille \"Articles\", vous  indiquez, l'une après l'autre, les quantités à facturer en colonne D \"Commande\". Quand vous avez indiqué tous vos articles, vous pressez le bouton \"Facture'à la Volée'\" et le contenu de la col D se transfert en feuille \"Factures1\". Puis pour effacer la col D, vous pressez \"Reset'à la Volée'\". Il n'est pas possible d'indiquer à cette étape des rabais ou des \"lignes manuelles\". Mais quand vous avez transféré les quantités dans \"Factures1\" vous pouvez le faire. La facture présentera les articles dans l'ordre de la feuille \"Articles\"."]
["Facturation en série","Mode de facturation. Depuis la feuille Articles, vous pressez Fact.Art (au clavier: CTRL+MAJ+A) en étant sur la ligne de l'article à facturer. Le stock actuel vous est indiqué. Il vous est demandé la quantité à facturer ainsi que le rabais éventuel (laissez vierge s'il n'y a pas de rabais, indiquez \"20\" pour 20%). Répétez l'opération à votre convenance pour d'autres articles. Puis allez sur la feuille Factures1 et depuis la cellule A11 indiquez ce qui doit l'être: type de doc, numéro de document, numéro de clients, etc."]
["Facture","Quand vous facturez, la feuille \"Factures1\" vous indique en colonne J le solde du stock (inclus ce que vous êtes en train de facturer)."]
["Feuille","Une feuille est une \"page de données\". P.ex. vous êtes maintenant sur la feuille \"Aide\" (voir onglet ci-dessous). L'appel à une feuille donnée se marque en bleu."]
["Filtre (automatique)","Excel permet de placer sur la première ligne un filtre automatique (voir Aide Excel). Par défaut seule la feuille \"Articles\" peut recevoir le filtre. IMPORTANT Avant d'exécuter les macro, la feuille \"Articles\" ne doit PAS avoir le filtre sous risque de malfonctionnement\n• Pour mettre ou enlever le filtre tapez CTRL+MAJ+F."]
["Frais de transport","Les frais de transport sont à créer et à facturer comme un/des article(s). Nous vous conseillons d'en créer plusieurs de montants différents (p.ex. selon le tarif postal) avec des numéros d'articles faciles à retenir de montants et de taux de TVA adaptés à vos besoins."]
["Impression (Mac)","Réalise la même tâche que Preview & Impression mais en deux temps (pour Mac): 1) la feuille \"Factures1\" est filtrée en vue l'impression. Imprimez ou faites un PDF sur Mac (Vous pouvez au besoin enregistrer le fichier, l'ouvrir sur un clône d'Excel qui offre l'impression en PDF et, telle qu'elle, imprimer la feuille \"Factures1\"). 2) Après impression, relancez la macro qui remet la feuille \"Factures1\" dans son état originel."]
["Impression de la feuille Factures1","Pressez \"Preview & impression (PC)\" ou \"Impression (Mac)\"\nNote: les rayures jaune-pâles ne seront pas imprimée. Si vous souhaitez les imprimer (toujours) dites-moi et je ferai en sorte."]
["Langue","Le choix de la langue est proposé à chaque ouverture du programme. Si vous souhaitez ne rien changer, pressez Esc. Pour changer de langue en cours d'utilisation, pressez CTRL+MAJ+L. En principe il ne faut pas changer les noms de macros en français, car sinon la présente feuille d'Aide devient incompréhensible."]
["Ligne manuel/auto(R)","Si vous devez remettre une ligne en automatique, pressez CTRL+R. Refaites l'opération pour chaque ligne. Cette fonction passe de manuel à auto et de auto à manuel à chaque pression (valable pour la ligne en cours uniquement)."]
["Ligne manuel/auto(R) (et la remettre automatiquement au besoin)","IMPORTANT: Excelgestion ne doit pas avoir de lignes vides dans les lignes 17-50. \nMais vous pouvez insérer dans Factures1 une ligne vide ou une ligne de commentaire ou encore une vente manuelle. \n• Pour insérer une ligne vide, commencez par créer un article (dans la feuille \"Articles\") ayant comme numéro un point \".\", puis facturez cet article (en colonne A de la feuille \"Factures1\")\n• Si c'est un commentaire, créez aussi un article ayant comme numéro un point \".\", puis dans la feuille \"Factures1\" sur la ligne du commentaire, pressez CTRL+MAJ+R pour mettre la ligne en manuel, puis saisissez le commentaire en colonne B\n• Pour une vente manuelle nous conseillons vivement de créer un n° d'article spécifique (p.ex. \"Générique1\") qui servira à toutes les ventes manuelles (ou créez deux numéros s'il y a deux taux de TVA possibles), puis facturez sur ce numéro en modifiant le libellé (comme ci-dessus, pressez CTRL+MAJ+R)\nQuand la vente est imprimée, il faut réinitialiser la feuille Factures1 par Réinitialiser\n• Si vous ajoutez une/des ligne(s) manuelle(s) et que vous archivez le document, lors du rappel, toutes les lignes apparaîtront comme vous les aviez saisies. Elles seront en manuel. De même tout le document (lignes auto ou manuelles) sera en manuel.\nVous pouvez faire des modifications de prix et quantités mais le champ \"Désignation\" ne se mettra plus à jour. Remettez les lignes manuelles en automatique (voir Remettre une ligne \"manuelle\" en automatique)."]
["Liste(s) déroulante(s)","Voir \"Choisir une valeur dans une liste déroulante\"."]
["MAC Macintosch","Ce programme fonctionne sur Excel de Microsoft pour le Macintosh, dès la version 98 mais pas sur la version 2008 (car les macros n'ont pas été implémentées). Il faut que en cellule A5 de la feuille \"Variables\", vous choisissiez \"Mac\" pour que le programme soit opérationnel sur un ordinateur Macintosh. Effacez le \"Mac\" à chaque fois que le programme est lancé depuis un PC. Testé sur version Office de 2011."]
["Macro, Lancer une…","Une macro est l'exécution d'un programme. Elles s'exécutent en cliquant sur des boutons. Dans cette aide le nom des macro est toujours indiqué en rouge."]
["Manuel","L'exécution de cette macro (aussi CTRL+Maj+M) remet l'affichage standard d'Excel."]
["Maximas","Prenez garde de ne pas dépasser le nombre d'articles possibles sur un document: Pour les Factures 200 positions, pour l'Archives 3000 (plus sur demande) lignes, pour les Articles et les Partners, nous avons testé avec 15000 positions et le programme est actuellement limité à 3000 Articles et/ou Partners. Si vous avez plus d'articles, nous consulter pour que nous adaptions le programme."]
["Monnaies (étrangères), conversions","La monnaie utilisée est le franc suisse (CHF); nous adaptons volontiers le programme en Euros (€). La feuille \"Articles\" permet l'achat en toute monnaie et sa conversion en francs suisses\nSi vous voulez convertir (le total de) votre facture d'une monnaie à une autre (p.ex. de CHF à EUR), 1° indiquez le taux de change dans la feuille \"Variables\", en A7, 2° en F56 de la feuille \"Factures1\" indiquez la monnaie (p.ex. \"EUR\") et le programme converti le total de la facture dans la monnaie. (A noter que si vous stockez un document en feuille \"Archive\", la monnaie, le taux de change et le montant en monnaie étrangère ne sont PAS conservés, dans ce cas, gardez ces infos [p.ex. \"EUR 1.6\"] dans la cellule B53 de la feuille \"Factures1\") et déplacez-les quand l'offre est convertie en facture. Si vous ne voulez pas que les cellules F56-G56 s'affichent en gris, effacez le contenu de la cellule F56 (touche Del)."]
["NEW: Compilation de plusieurs Bulletins de livraison sur une facture","Permet de facturer en une fois plusieurs bulletins de livraison (BL) réalisés précédemment\n• Réalisez le 1er BL (type de document: Bulletin de livraison) normalement, mais pour le numéro, donner le numéro suivant (N° auto) ajouté d'un \"A\" (p.ex. \"1019A + vos initiales si souhaité\")\n• Optionnel: créez un 1er article (sur la 1ère ligne de facturation) avec texte manuel sur ce BL (et tous les suivants) avec comme article \".\" (point) en texte \"Livraison du XX.XX.XXXX\")\n• Créez une FichePartner et indiquer que le client \"2538\" (p.ex.) est crédité d'un BL \"1019A\"\n• Créez ultérieurement un prochain BL pour ce client, en indiquant comme n° \"1019B\" puis \"1019C\", etc. Consignez la dernière lettre donnée dans FichePartner\n• Quand vous voulez facturer, dans feuille Archive, lancez \"ArchToFact1\" et indiquez \"1019\". Tous les BL 1019 s'ajoutent dans Factures1 (max 200 lignes), donnez comme numéro \"1019Z\" et tracez l'indication dans FichePartner\n• Terminez la facture comme normalement."]
["Next typ","Si vous utilisez une tablette, il peut être difficile de choisir le type de document en A11 de \"Factures1\" via la liste déroulante, aussi nous avons placé le bouton \"Next typ\" que vous pouvez presser pour choisir le type de document. Presser une ou plusieurs fois jusqu'à l'affichage souhaité."]
["Note de crédit","Indiquez les quantités en négatif (mettre le signe \"-\" devant)."]
["Nouvelle facture (CTRL+MAJ+V)","Imprime le document, le place en Archive, le réinitialise et insère le prochain numéro de facture. (Cette macro n'est plus en service, mais nous la réinsérons sur demande)."]
["Numéro de facture","Cliquez en \"Factures1\" sur N° auto, le prochain numéro apparaît. Saisissez le numéro de départ en feuille \"Variables, en cellule A21. Dès lors une pression sur N° auto incrémentera au prochain numéro automatiquement. Les initiales de celui qui facture sont aussi demandées (mais vous pouvez les ignorer).\n   En A22 vous pouvez indiquer une partie fixe du numéro, p.ex. \"2020-\", le numéro sera \"2020-1000\""]
["Partners","L'ensemble des contacts (Clients, Prospects, Fournisseurs, Employés) est tenu dans la feuille \"Partners\"\nIndiquer dans la colonne Groupe: C pour Client, F pour Fournisseur, P pour Prospect et E pour Employé. Un partner peut appartenir à plusieurs groupes\nEn colonne S s'affiche le chiffre d'affaires, client par client (ne fonctionne que si vous ne faites que des Factures/Notes de crédit, sinon utiliser la feuille \"Tabl.de bord\")\nDans les deux dernières colonnes, on peut indiquer qui (et à quelle date) a fait la dernière mutation. Cela peut être important pour la traçabilité."]
["Partners, Fiche","La feuille \"FichePartners\" vous permet de collecter et conserver toute l'information sur vos échanges avec vos clients, fournisseurs et prospects\n   Les données-modèle que vous trouvez sur la 1ère ligne de cette feuille vous expliquent l'usage à faire. Dans la feuille \"Variables\" colonnes O-R, vous pouvez ajouter des Types d'Activité, Sujets, Priorités, Statuts, si nécessaire."]
["Partners, Filtrage de données","La feuille \"Partners\" n'est pas protégée, on peut donc filtrer les données."]
["Partners, Nouveaux …","Il est très important qu'aucune ligne ni colonne vide ne se trouve dans les feuille Articles et Partners. Les numéros doivent toujours aller dans l'ordre croissant: \"1,2,5,9,19, etc\"."]
["Passer d'une cellule (=champ)  à l'autre / Remonter d'une cellule (= champ) à l'autre","TAB / MAJ+TAB."]
["Passer d'une feuille à l'autre","CTRL+PGDown ou CTRL+PGUp."]
["Personnalisation","La feuille \"Variables\" vous indique les critères que vous pouvez changer: TVA, textes en pieds de page, même la description du document et sa langue. Important, ne changez pas les lignes 1-39, 79 et 119. Les lignes 40-76 concernent le français, les lignes 80-116 l'anglais et les lignes 120-156 l'allemand\n• En A9 indiquez votre raison sociale; elle apparaîtra à l'impression, en pied de page."]
["Pied de page n° 2 et n° 3","Il vous est possible d'ajouter deux autres niveaux de pied de page en Factures1\nPour le pied de page 2, indiquez le texte que vous souhaitez en A225 de Factures1\nPour le pied de page 3, indiquez des textes prédéfinis en feuille Variables, col N, puis indiquez le numéro en col M du pied de page souhaité en A222 de la feuille Variables (numéro en blanc, ne s'affiche ni ne s'imprime). Utilisez les boutons L225 et L226 pour régler la hauteur de ces lignes."]
["Pied de page, Conditions de vente en…","Dans la feuille Variables, vous trouvez en colonne C et D la liste des conditions. Vous pouvez la modifier/compléter mais veillez à ce que les numéros en colonne C soient toujours progressifs. Pour changer/ajouter d'autres pieds de pages, indiquez-les en lignes 40-55 pour le français, en 80-95 pour l'anglais et en 120-135 pour l'allemand. Puis relancez la langue (en pressant CTRL-MAJ-L)\nSaisissez en Factures1 en 223, le numéros que vous souhaitez afficher (à noter que ce numéro est invisible - en blanc - il ne se voit donc que dans la Barre des formules et ne sera pas imprimé)\nUtilisez le bouton L224 pour régler la hauteur de cette ligne."]
["Placer/Enlever le mode filtre en Articles","CTRL+MAJ+F ou pressez sur le bouton Filtre en Haut à gauche de la feuille Articles."]
["PmtOuverts (Voir les paiements ouverts)","Depuis la feuille \"Archives\" vous enregistrez les paiements. Pressez le bouton (tout à gauche de la feuille), indiquez le numéro de facture (au besoin faire une recherche sur la colonne M) et saisissez le montant effectivement payé en col. AB. Indiquez la date du paiement en AC, le type de paiement en AD et une remarque éventuelle en AE. Si le paiement est complet, vous pouvez effacer le Dépassement (effacez simplement la cellule en AA). Si vous recevez plusieurs paiements partiel, indiquez (p.ex.) \"=400+300+150\"\n   En feuille \"Stats\" vous pouvez voir l'était des paiements en ligne 13, et la Balance, en ligne 14."]
["Poids","Vous pouvez connaître le poids total de tous les articles d'un document.\n   Sur chaque article (sauf les prestations), indiquez le poids en kg en col. AH de la feuille Articles.\n   Faites votre document et voyez au fur et à mesure le poids total de tous les articles, en G14 de la feuille Factures1.\n   Ainsi vous pouvez déterminer le prix du transport (frais d'envoi)"]
["Préliminaires/Commentaires","Vous pouvez insérer des préliminaires sous le titre \"Facture\" (en cellule A12) et des commentaires sous le prix hors TVA (en cellule B52)."]
["Quantité totale","La Quantité totale d'éléments dans un document s'affiche en feuille \"Factures1\", en C219."]
["Quittance","Pour vos ventes sur le champ dans le magasin, un partner \"Passant\" existe (n° 2, n° 3 en allemand) à moins que vous ne préfériez laisser en blanc (n° 1)."]
["Raccourcis clavier (principaux)","CTRL+MAJ+S = Envoyer à Archives (en Factures1)\nCTRL+ MAJ+R = Remplir ligne manuellement (en Factures1)\nCTRL+R = Ligne manuel/auto(R) (en Factures1)\nCTRL+MAJ+Z = Réinitialiser (en Factures1)\nCTRL+MAJ+I = Preview + Impression (en Factures1)\nCTRL+MAJ+N = N° auto (en Factures1)\nCTRL+MAJ+A = Facturer Article (en Articles)\nCTRL+MAJ+C = Choisir client (en Partners)\nCTRL+MAJ+L = Choisir langue (partout)\nCTRL+MAJ+F = Mettre/Enlever Filtre (en Articles)\nCTRL+Z = Effacer dernière position (en Factures1)\nCTRL+Q = Chercher client (en Partners)\nCTRL+MAJ+Q = Chercher article (en Articles)."]
["Recherche sur une des feuilles Article ou Partners","Utilisez la fonction intégrée à Excel: CTRL+F."]
["Réinitialiser","Vide le contenu de la feuille \"Factures1\"."]
["Réseau, Fonctionnement en","Ce programme ne fonctionne pas en réseau (sur plusieurs postes en même temps)."]
["Saisie de nouveaux articles, de nouveaux partners et de nouveau Textes en pied (important)","Les numéros (en colonne A) doivent toujours être progressifs (1, 2, 3, etc) sinon le programme ne fonctionne pas correctement."]
["Saisir la date","• Vous pouvez saisir la date en la tapant en Factures1, cellule B13. Mais pour aller plus vite vous pouvez saisir la date du jour ainsi: CTRL+MAJ+, (=virgule), Enter ou TAB."]
["Scanner (ou douchette)","L'utilisation d'un scanner pour une saisie des factures plus rapide est tout-à-fait possible. Veuillez nous consulter."]
["Statistiques","Vous indique l'état du stock (qui ne change que lors de Factures et de Notes de crédit) dans la feuille \"Articles\". La Valeur du Stock et le Prix de vente total sont aussi calculés facture après facture."]
["Statistiques des ventes","La feuille \"Stats\" vous donne de nombreuses statistiques. Pressez le bouton \"Stats\"."]
["Statistiques sur…","Se trouve en feuille Tab.de bord, dans les colonne B à G. Pressez \"Statistiques du jour/heure\" pour ajouter une nouvelle ligne avec les données de l'instant."]
["Stats","Vous indiquez (ou non):\nDate départ / Date fin (mention obligatoire)\nPartner n° (mention facultative)\nTypeDoc1 (p.ex. Facture)\nTypeDoc2 (p.ex. Avoir), ainsi vous pouvez visualiser deux types en même temps\nArt n° (mention facultative)\nEn B8 à B19 s'affichent les résultats, selon ce que vous avez indiqué."]
["Stock (mise à jour du)","Dès la version 3g, Excelgestion>>> vous permet de gérer votre stock\nVoir \"Commande fournisseur, Créer une\", \"Réception de marchandise\" et \"Envoyer à Archives\"."]
["Tâche","Le mot \"Tâche\" à gauche en est une. Chaque ligne de cette feuille d'aide est une action à faire, une tâche, l'appel à une tâche se désigne en vert."]
["Tour guidé (TG)","A chaque lancement d'Excel, vous pouvez lancer le Tour guidé, en indiquant \"TG\" lors de la demande de choix de langue. Vous pouvez aussi en tout temps le relancer en pressant CTRL+MAJ+T. Le Tour guidé présente Excelgestion de façon simple et didactique, mais la présente aide est toutefois plus complète."]
["Travailler avec plusieurs PC/Mac simultanément. Travailler \"en réseau\"","Si vous avez une liste des clients et articles stable, il est possible de faire des offres, devis (tous documents sauf \"Facture, Avoir, Quittance et Note d'honoraires\") sur plusieurs PC/Mac simultanément.\n   1.- Déterminez un ordi comme \"Principal\", mettez une copie d'Excelgestion XLS sur chaque machine. Attribuez des nouveaux numéros de documents différents pour chaque machine (p.ex. dès 1200, dès 1500, etc. Idem pour les nouveaux clients et articles s'il y en a).\n   2.- Travaillez normalement sur chaque poste. S'il y a des mutations d'articles ou de clients, mettez-les en rouge, bien visibles.\n   3.- En fin de journée, regroupez les fichiers sur un ordi. Copiez-collez les nouveaux documents de la feuille Archive (déprotegez la feuille, sans mot de passe), en sélectionnant les lignes en cliquant-glissant dans l'entête, de chaque machine, dans l'ordi principal.\n   4.- mettez à jour de la même façon les nouveaux clients et les mutations d'articles et de clients.\n   Si vous êtes en réseau cela facilitera mais ce n'est pas obligatoire, une clé USB suffit. Demandez-moi!"]
["TVA, Taux de TVA et prix HT/TTC","Pour modifier le taux de TVA, aller en feuille \"Variables\", et modifiez le ou les taux 1 en A2 et le taux 2 en A3. Tout le reste est fixe.\nVous pouvez choisir en Variables, en A13 des prix HT ou TTC.\nSi vous devez faire une facture pour l'export, deux cas de figures:\n• Si vos prix sont HT, effacez article par article le chiffre 1 ou 2 de la colonne H en feuille Factures1 (lancez le programme \"Remplir ligne manuellement\")\n• Si vos prix sont TTC et que vos prix export doivent être HT, saisissez dans la colonne T de la feuille Articles, p.ex. \"=C2*0.929368\" pour que tous vos prix ayent une variante HT.\nLors de la facturation, indiquez \"2\" en C15 de Factures1 et de même effacez article par article le chiffre 1 ou 2 de la colonne H en Feuille Factures1."]

{"sheet":"Htemp","index":5,"n_rows":4,"n_cols":36,"rows_kept":4,"cut":false,"hidden":true,"merged":[]}
[" Référence"," Désignation","Qté","Unité","P.U.","%","Total net","T","TVA","Type doc","Date doc","Rem1","N°/réf.","V/n° client","Val C15","Total net","TVA","Total final","PiedPageN°","Total TVA1","Total TVA2","Imprimer","Cat. Pers","En faveur\nN°","En faveur Nom","Échéance","Dépassement","Paiement (inclure l'éventuel Acompte col AI)","Date Paiement","Type Paiement","Remarque","Blank","Ligne225","Ligne226","Acompte","État du stock"]
[1017,"Tintin L'Oreille Cassée",1,"BD",17.8,0,17.8,2,0.43414634146341413,"Facture",45986,0,"1008 / cr",3,1,984.86817492130342,74.931825078696491,1059.8,2,74.497678737233073,0.43414634146341413,"Imprimer",0,0,{"$error":"#N/A"},46016,-30,null,null,null,null,null,0,1,0,0]
[1020,"Peinture intérieur dispersion\nChambre Ouest Surface murale: 128m2\nLe prix comprend:\n- fourniture à pied d’oeuvre des matériaux et matériels nécessaires;\n- protection des parties d’ouvrage non concernées;\n- grattage des peintures existantes;\n- brossage à la brosse métallique, lavage, jusqu’à l’obtention d’un support propre;\n- 1 couche d’impression;\n- nettoyage après travaux",1,"Forfait",1034,0,1034,1,73.925719591457778,"Facture",45986,null,"1008 / cr",3]
[9999,"Frais d'envoi",1,"Selon poids",8,0,8,1,0.57195914577530171,"Facture",45986,null,"1008 / cr",3]

{"sheet":"Archive","index":6,"n_rows":231,"n_cols":36,"rows_kept":231,"cut":false,"hidden":false,"merged":[]}
[" Référence"," Désignation","Qté","Unité","Prix unitaire","%","Total net","T","TVA","Type doc","Date doc","Rem1","Fact. n°/réf.","V/n° client","Val C15","Total net","TVA","Total final","PiedPageN°","Total TVA1","Total TVA2","Imprimer","Cat. Pers","En faveur\nN°","En faveur Nom","Échéance","Dépassement","Paiement","Date Paiement","Type Paiement","Remarque","Blank","Ligne225","Ligne226","Acompte","MB Unit"]
[{"$f":"Factures1!A17","v":1019},{"$f":"Factures1!B17","v":"Tintin et les Picaros"},{"$f":"Factures1!C17","v":1},{"$f":"Factures1!D17","v":"BD"},{"$f":"Factures1!E17","v":17.8},{"$f":"Factures1!F17","v":0},{"$f":"IF(Variables!$A$13=\"HT\",Factures1!G17+I2,Factures1!G17)","v":17.8},{"$f":"Factures1!H17","v":2},{"$f":"Factures1!I17","v":0.43414634146341413},{"$f":"Factures1!$A$11","v":"Facture"},{"$f":"Factures1!$B$13","v":"2025-11-26"},{"$f":"Factures1!$A$12","v":0},{"$f":"Factures1!$B$14","v":"1011 / cr"},{"$f":"Factures1!$B$15","v":3338},{"$f":"Factures1!$C$15","v":1},{"$f":"Factures1!$G$217","v":364.62676359354123},{"$f":"Factures1!$G$218","v":27.173236406458756},{"$f":"Factures1!$F$221","v":391.8},{"$f":"Factures1!$A$223","v":2},{"$f":"Factures1!$C$222","v":26.739090064995342},{"$f":"Factures1!$D$222","v":0.43414634146341413},"Imprimer",{"$f":"Factures1!$G$13","v":0},{"$f":"Factures1!C13","v":0},{"$f":"IF(ISBLANK(VLOOKUP($X$2,Partners!$A$2:$R$3000,3)),\"\",VLOOKUP($X$2,Partners!$A$2:$R$3000,3))","v":{"$error":"#N/A"}},{"$f":"Factures1!$G$15","v":"2026-01-25"},{"$f":"TODAY()-Z2","v":-60},null,null,null,null,null,{"$f":"Factures1!A225","v":0},{"$f":"Factures1!A222","v":1},{"$f":"Factures1!C220","v":0},{"$f":"Factures1!J217","v":0}]
[{"$f":"Factures1!A18","v":7613312141120},{"$f":"Factures1!B18","v":"Micro voix avec interrupteur Shure SM58"},{"$f":"Factures1!C18","v":1},{"$f":"Factures1!D18","v":"Sono"},{"$f":"Factures1!E18","v":340},{"$f":"Factures1!F18","v":0},{"$f":"IF(Variables!$A$13=\"HT\",Factures1!G18+I3,Factures1!G18)","v":340},{"$f":"Factures1!H18","v":1},{"$f":"Factures1!I18","v":24.308263695450307},{"$f":"Factures1!$A$11","v":"Facture"},{"$f":"Factures1!$B$13","v":"2025-11-26"},null,{"$f":"Factures1!$B$14","v":"1011 / cr"},{"$f":"Factures1!$B$15","v":3338}]
[{"$f":"Factures1!A19","v":9999},{"$f":"Factures1!B19","v":"Frais d'envoi"},{"$f":"Factures1!C19","v":1},{"$f":"Factures1!D19","v":"Selon poids"},{"$f":"Factures1!E19","v":34},{"$f":"Factures1!F19","v":0},{"$f":"IF(Variables!$A$13=\"HT\",Factures1!G19+I4,Factures1!G19)","v":34},{"$f":"Factures1!H19","v":1},{"$f":"Factures1!I19","v":2.4308263695450343},{"$f":"Factures1!$A$11","v":"Facture"},{"$f":"Factures1!$B$13","v":"2025-11-26"},null,{"$f":"Factures1!$B$14","v":"1011 / cr"},{"$f":"Factures1!$B$15","v":3338}]
[{"$f":"Factures1!A20","v":0},{"$f":"Factures1!B20","v":""},{"$f":"Factures1!C20","v":0},{"$f":"Factures1!D20","v":""},{"$f":"Factures1!E20","v":""},{"$f":"Factures1!F20","v":0},{"$f":"IF(Variables!$A$13=\"HT\",Factures1!G20+I5,Factures1!G20)","v":0},{"$f":"Factures1!H20","v":0},{"$f":"Factures1!I20","v":0},{"$f":"Factures1!$A$11","v":"Facture"},{"$f":"Factures1!$B$13","v":"2025-11-26"},null,{"$f":"Factures1!$B$14","v":"1011 / cr"},{"$f":"Factures1!$B$15","v":3338}]
[{"$f":"Factures1!A21","v":0},{"$f":"Factures1!B21","v":""},{"$f":"Factures1!C21","v":0},{"$f":"Factures1!D21","v":""},{"$f":"Factures1!E21","v":""},{"$f":"Factures1!F21","v":0},{"$f":"IF(Variables!$A$13=\"HT\",Factures1!G21+I6,Factures1!G21)","v":0},{"$f":"Factures1!H21","v":0},{"$f":"Factures1!I21","v":0},{"$f":"Factures1!$A$11","v":"Facture"},{"$f":"Factures1!$B$13","v":"2025-11-26"},null,{"$f":"Factures1!$B$14","v":"1011 / cr"},{"$f":"Factures1!$B$15","v":3338}]
[{"$f":"Factures1!A22","v":0},{"$f":"Factures1!B22","v":""},{"$f":"Factures1!C22","v":0},{"$f":"Factures1!D22","v":""},{"$f":"Factures1!E22","v":""},{"$f":"Factures1!F22","v":0},{"$f":"IF(Variables!$A$13=\"HT\",Factures1!G22+I7,Factures1!G22)","v":0},{"$f":"Factures1!H22","v":0},{"$f":"Factures1!I22","v":0},{"$f":"Factures1!$A$11","v":"Facture"},{"$f":"Factures1!$B$13","v":"2025-11-26"},null,{"$f":"Factures1!$B$14","v":"1011 / cr"},{"$f":"Factures1!$B$15","v":3338}]
[{"$f":"Factures1!A23","v":0},{"$f":"Factures1!B23","v":""},{"$f":"Factures1!C23","v":0},{"$f":"Factures1!D23","v":""},{"$f":"Factures1!E23","v":""},{"$f":"Factures1!F23","v":0},{"$f":"IF(Variables!$A$13=\"HT\",Factures1!G23+I8,Factures1!G23)","v":0},{"$f":"Factures1!H23","v":0},{"$f":"Factures1!I23","v":0},{"$f":"Factures1!$A$11","v":"Facture"},{"$f":"Factures1!$B$13","v":"2025-11-26"},null,{"$f":"Factures1!$B$14","v":"1011 / cr"},{"$f":"Factures1!$B$15","v":3338}]
[{"$f":"Factures1!A24","v":0},{"$f":"Factures1!B24","v":""},{"$f":"Factures1!C24","v":0},{"$f":"Factures1!D24","v":""},{"$f":"Factures1!E24","v":""},{"$f":"Factures1!F24","v":0},{"$f":"IF(Variables!$A$13=\"HT\",Factures1!G24+I9,Factures1!G24)","v":0},{"$f":"Factures1!H24","v":0},{"$f":"Factures1!I24","v":0},{"$f":"Factures1!$A$11","v":"Facture"},{"$f":"Factures1!$B$13","v":"2025-11-26"},null,{"$f":"Factures1!$B$14","v":"1011 / cr"},{"$f":"Factures1!$B$15","v":3338}]
[{"$f":"Factures1!A25","v":0},{"$f":"Factures1!B25","v":""},{"$f":"Factures1!C25","v":0},{"$f":"Factures1!D25","v":""},{"$f":"Factures1!E25","v":""},{"$f":"Factures1!F25","v":0},{"$f":"IF(Variables!$A$13=\"HT\",Factures1!G25+I10,Factures1!G25)","v":0},{"$f":"Factures1!H25","v":0},{"$f":"Factures1!I25","v":0},{"$f":"Factures1!$A$11","v":"Facture"},{"$f":"Factures1!$B$13","v":"2025-11-26"},null,{"$f":"Factures1!$B$14","v":"1011 / cr"},{"$f":"Factures1!$B$15","v":3338}]
[{"$f":"Factures1!A26","v":0},{"$f":"Factures1!B26","v":""},{"$f":"Factures1!C26","v":0},{"$f":"Factures1!D26","v":""},{"$f":"Factures1!E26","v":""},{"$f":"Factures1!F26","v":0},{"$f":"IF(Variables!$A$13=\"HT\",Factures1!G26+I11,Factures1!G26)","v":0},{"$f":"Factures1!H26","v":0},{"$f":"Factures1!I26","v":0},{"$f":"Factures1!$A$11","v":"Facture"},{"$f":"Factures1!$B$13","v":"2025-11-26"},null,{"$f":"Factures1!$B$14","v":"1011 / cr"},{"$f":"Factures1!$B$15","v":3338}]
[{"$f":"Factures1!A27","v":0},{"$f":"Factures1!B27","v":""},{"$f":"Factures1!C27","v":0},{"$f":"Factures1!D27","v":""},{"$f":"Factures1!E27","v":""},{"$f":"Factures1!F27","v":0},{"$f":"IF(Variables!$A$13=\"HT\",Factures1!G27+I12,Factures1!G27)","v":0},{"$f":"Factures1!H27","v":0},{"$f":"Factures1!I27","v":0},{"$f":"Factures1!$A$11","v":"Facture"},{"$f":"Factures1!$B$13","v":"2025-11-26"},null,{"$f":"Factures1!$B$14","v":"1011 / cr"},{"$f":"Factures1!$B$15","v":3338}]
[{"$f":"Factures1!A28","v":0},{"$f":"Factures1!B28","v":""},{"$f":"Factures1!C28","v":0},{"$f":"Factures1!D28","v":""},{"$f":"Factures1!E28","v":""},{"$f":"Factures1!F28","v":0},{"$f":"IF(Variables!$A$13=\"HT\",Factures1!G28+I13,Factures1!G28)","v":0},{"$f":"Factures1!H28","v":0},{"$f":"Factures1!I28","v":0},{"$f":"Factures1!$A$11","v":"Facture"},{"$f":"Factures1!$B$13","v":"2025-11-26"},null,{"$f":"Factures1!$B$14","v":"1011 / cr"},{"$f":"Factures1!$B$15","v":3338}]
[{"$f":"Factures1!A29","v":0},{"$f":"Factures1!B29","v":""},{"$f":"Factures1!C29","v":0},{"$f":"Factures1!D29","v":""},{"$f":"Factures1!E29","v":""},{"$f":"Factures1!F29","v":0},{"$f":"IF(Variables!$A$13=\"HT\",Factures1!G29+I14,Factures1!G29)","v":0},{"$f":"Factures1!H29","v":0},{"$f":"Factures1!I29","v":0},{"$f":"Factures1!$A$11","v":"Facture"},{"$f":"Factures1!$B$13","v":"2025-11-26"},null,{"$f":"Factures1!$B$14","v":"1011 / cr"},{"$f":"Factures1!$B$15","v":3338}]
[{"$f":"Factures1!A30","v":0},{"$f":"Factures1!B30","v":""},{"$f":"Factures1!C30","v":0},{"$f":"Factures1!D30","v":""},{"$f":"Factures1!E30","v":""},{"$f":"Factures1!F30","v":0},{"$f":"IF(Variables!$A$13=\"HT\",Factures1!G30+I15,Factures1!G30)","v":0},{"$f":"Factures1!H30","v":0},{"$f":"Factures1!I30","v":0},{"$f":"Factures1!$A$11","v":"Facture"},{"$f":"Factures1!$B$13","v":"2025-11-26"},null,{"$f":"Factures1!$B$14","v":"1011 / cr"},{"$f":"Factures1!$B$15","v":3338}]
[{"$f":"Factures1!A31","v":0},{"$f":"Factures1!B31","v":""},{"$f":"Factures1!C31","v":0},{"$f":"Factures1!D31","v":""},{"$f":"Factures1!E31","v":""},{"$f":"Factures1!F31","v":0},{"$f":"IF(Variables!$A$13=\"HT\",Factures1!G31+I16,Factures1!G31)","v":0},{"$f":"Factures1!H31","v":0},{"$f":"Factures1!I31","v":0},{"$f":"Factures1!$A$11","v":"Facture"},{"$f":"Factures1!$B$13","v":"2025-11-26"},null,{"$f":"Factures1!$B$14","v":"1011 / cr"},{"$f":"Factures1!$B$15","v":3338}]
[{"$f":"Factures1!A32","v":0},{"$f":"Factures1!B32","v":""},{"$f":"Factures1!C32","v":0},{"$f":"Factures1!D32","v":""},{"$f":"Factures1!E32","v":""},{"$f":"Factures1!F32","v":0},{"$f":"IF(Variables!$A$13=\"HT\",Factures1!G32+I17,Factures1!G32)","v":0},{"$f":"Factures1!H32","v":0},{"$f":"Factures1!I32","v":0},{"$f":"Factures1!$A$11","v":"Facture"},{"$f":"Factures1!$B$13","v":"2025-11-26"},null,{"$f":"Factures1!$B$14","v":"1011 / cr"},{"$f":"Factures1!$B$15","v":3338}]
[{"$f":"Factures1!A33","v":0},{"$f":"Factures1!B33","v":""},{"$f":"Factures1!C33","v":0},{"$f":"Factures1!D33","v":""},{"$f":"Factures1!E33","v":""},{"$f":"Factures1!F33","v":0},{"$f":"IF(Variables!$A$13=\"HT\",Factures1!G33+I18,Factures1!G33)","v":0},{"$f":"Factures1!H33","v":0},{"$f":"Factures1!I33","v":0},{"$f":"Factures1!$A$11","v":"Facture"},{"$f":"Factures1!$B$13","v":"2025-11-26"},null,{"$f":"Factures1!$B$14","v":"1011 / cr"},{"$f":"Factures1!$B$15","v":3338}]
[{"$f":"Factures1!A34","v":0},{"$f":"Factures1!B34","v":""},{"$f":"Factures1!C34","v":0},{"$f":"Factures1!D34","v":""},{"$f":"Factures1!E34","v":""},{"$f":"Factures1!F34","v":0},{"$f":"IF(Variables!$A$13=\"HT\",Factures1!G34+I19,Factures1!G34)","v":0},{"$f":"Factures1!H34","v":0},{"$f":"Factures1!I34","v":0},{"$f":"Factures1!$A$11","v":"Facture"},{"$f":"Factures1!$B$13","v":"2025-11-26"},null,{"$f":"Factures1!$B$14","v":"1011 / cr"},{"$f":"Factures1!$B$15","v":3338}]
[{"$f":"Factures1!A35","v":0},{"$f":"Factures1!B35","v":""},{"$f":"Factures1!C35","v":0},{"$f":"Factures1!D35","v":""},{"$f":"Factures1!E35","v":""},{"$f":"Factures1!F35","v":0},{"$f":"IF(Variables!$A$13=\"HT\",Factures1!G35+I20,Factures1!G35)","v":0},{"$f":"Factures1!H35","v":0},{"$f":"Factures1!I35","v":0},{"$f":"Factures1!$A$11","v":"Facture"},{"$f":"Factures1!$B$13","v":"2025-11-26"},null,{"$f":"Factures1!$B$14","v":"1011 / cr"},{"$f":"Factures1!$B$15","v":3338}]
[{"$f":"Factures1!A36","v":0},{"$f":"Factures1!B36","v":""},{"$f":"Factures1!C36","v":0},{"$f":"Factures1!D36","v":""},{"$f":"Factures1!E36","v":""},{"$f":"Factures1!F36","v":0},{"$f":"IF(Variables!$A$13=\"HT\",Factures1!G36+I21,Factures1!G36)","v":0},{"$f":"Factures1!H36","v":0},{"$f":"Factures1!I36","v":0},{"$f":"Factures1!$A$11","v":"Facture"},{"$f":"Factures1!$B$13","v":"2025-11-26"},null,{"$f":"Factures1!$B$14","v":"1011 / cr"},{"$f":"Factures1!$B$15","v":3338}]
[{"$f":"Factures1!A37","v":0},{"$f":"Factures1!B37","v":""},{"$f":"Factures1!C37","v":0},{"$f":"Factures1!D37","v":""},{"$f":"Factures1!E37","v":""},{"$f":"Factures1!F37","v":0},{"$f":"IF(Variables!$A$13=\"HT\",Factures1!G37+I22,Factures1!G37)","v":0},{"$f":"Factures1!H37","v":0},{"$f":"Factures1!I37","v":0},{"$f":"Factures1!$A$11","v":"Facture"},{"$f":"Factures1!$B$13","v":"2025-11-26"},null,{"$f":"Factures1!$B$14","v":"1011 / cr"},{"$f":"Factures1!$B$15","v":3338}]
[{"$f":"Factures1!A38","v":0},{"$f":"Factures1!B38","v":""},{"$f":"Factures1!C38","v":0},{"$f":"Factures1!D38","v":""},{"$f":"Factures1!E38","v":""},{"$f":"Factures1!F38","v":0},{"$f":"IF(Variables!$A$13=\"HT\",Factures1!G38+I23,Factures1!G38)","v":0},{"$f":"Factures1!H38","v":0},{"$f":"Factures1!I38","v":0},{"$f":"Factures1!$A$11","v":"Facture"},{"$f":"Factures1!$B$13","v":"2025-11-26"},null,{"$f":"Factures1!$B$14","v":"1011 / cr"},{"$f":"Factures1!$B$15","v":3338}]
[{"$f":"Factures1!A39","v":0},{"$f":"Factures1!B39","v":""},{"$f":"Factures1!C39","v":0},{"$f":"Factures1!D39","v":""},{"$f":"Factures1!E39","v":""},{"$f":"Factures1!F39","v":0},{"$f":"IF(Variables!$A$13=\"HT\",Factures1!G39+I24,Factures1!G39)","v":0},{"$f":"Factures1!H39","v":0},{"$f":"Factures1!I39","v":0},{"$f":"Factures1!$A$11","v":"Facture"},{"$f":"Factures1!$B$13","v":"2025-11-26"},null,{"$f":"Factures1!$B$14","v":"1011 / cr"},{"$f":"Factures1!$B$15","v":3338}]
[{"$f":"Factures1!A40","v":0},{"$f":"Factures1!B40","v":""},{"$f":"Factures1!C40","v":0},{"$f":"Factures1!D40","v":""},{"$f":"Factures1!E40","v":""},{"$f":"Factures1!F40","v":0},{"$f":"IF(Variables!$A$13=\"HT\",Factures1!G40+I25,Factures1!G40)","v":0},{"$f":"Factures1!H40","v":0},{"$f":"Factures1!I40","v":0},{"$f":"Factures1!$A$11","v":"Facture"},{"$f":"Factures1!$B$13","v":"2025-11-26"},null,{"$f":"Factures1!$B$14","v":"1011 / cr"},{"$f":"Factures1!$B$15","v":3338}]
[{"$f":"Factures1!A41","v":0},{"$f":"Factures1!B41","v":""},{"$f":"Factures1!C41","v":0},{"$f":"Factures1!D41","v":""},{"$f":"Factures1!E41","v":""},{"$f":"Factures1!F41","v":0},{"$f":"IF(Variables!$A$13=\"HT\",Factures1!G41+I26,Factures1!G41)","v":0},{"$f":"Factures1!H41","v":0},{"$f":"Factures1!I41","v":0},{"$f":"Factures1!$A$11","v":"Facture"},{"$f":"Factures1!$B$13","v":"2025-11-26"},null,{"$f":"Factures1!$B$14","v":"1011 / cr"},{"$f":"Factures1!$B$15","v":3338}]
[{"$f":"Factures1!A42","v":0},{"$f":"Factures1!B42","v":""},{"$f":"Factures1!C42","v":0},{"$f":"Factures1!D42","v":""},{"$f":"Factures1!E42","v":""},{"$f":"Factures1!F42","v":0},{"$f":"IF(Variables!$A$13=\"HT\",Factures1!G42+I27,Factures1!G42)","v":0},{"$f":"Factures1!H42","v":0},{"$f":"Factures1!I42","v":0},{"$f":"Factures1!$A$11","v":"Facture"},{"$f":"Factures1!$B$13","v":"2025-11-26"},null,{"$f":"Factures1!$B$14","v":"1011 / cr"},{"$f":"Factures1!$B$15","v":3338}]
[{"$f":"Factures1!A43","v":0},{"$f":"Factures1!B43","v":""},{"$f":"Factures1!C43","v":0},{"$f":"Factures1!D43","v":""},{"$f":"Factures1!E43","v":""},{"$f":"Factures1!F43","v":0},{"$f":"IF(Variables!$A$13=\"HT\",Factures1!G43+I28,Factures1!G43)","v":0},{"$f":"Factures1!H43","v":0},{"$f":"Factures1!I43","v":0},{"$f":"Factures1!$A$11","v":"Facture"},{"$f":"Factures1!$B$13","v":"2025-11-26"},null,{"$f":"Factures1!$B$14","v":"1011 / cr"},{"$f":"Factures1!$B$15","v":3338}]
[{"$f":"Factures1!A44","v":0},{"$f":"Factures1!B44","v":""},{"$f":"Factures1!C44","v":0},{"$f":"Factures1!D44","v":""},{"$f":"Factures1!E44","v":""},{"$f":"Factures1!F44","v":0},{"$f":"IF(Variables!$A$13=\"HT\",Factures1!G44+I29,Factures1!G44)","v":0},{"$f":"Factures1!H44","v":0},{"$f":"Factures1!I44","v":0},{"$f":"Factures1!$A$11","v":"Facture"},{"$f":"Factures1!$B$13","v":"2025-11-26"},null,{"$f":"Factures1!$B$14","v":"1011 / cr"},{"$f":"Factures1!$B$15","v":3338}]
[{"$f":"Factures1!A45","v":0},{"$f":"Factures1!B45","v":""},{"$f":"Factures1!C45","v":0},{"$f":"Factures1!D45","v":""},{"$f":"Factures1!E45","v":""},{"$f":"Factures1!F45","v":0},{"$f":"IF(Variables!$A$13=\"HT\",Factures1!G45+I30,Factures1!G45)","v":0},{"$f":"Factures1!H45","v":0},{"$f":"Factures1!I45","v":0},{"$f":"Factures1!$A$11","v":"Facture"},{"$f":"Factures1!$B$13","v":"2025-11-26"},null,{"$f":"Factures1!$B$14","v":"1011 / cr"},{"$f":"Factures1!$B$15","v":3338}]
[{"$f":"Factures1!A46","v":0},{"$f":"Factures1!B46","v":""},{"$f":"Factures1!C46","v":0},{"$f":"Factures1!D46","v":""},{"$f":"Factures1!E46","v":""},{"$f":"Factures1!F46","v":0},{"$f":"IF(Variables!$A$13=\"HT\",Factures1!G46+I31,Factures1!G46)","v":0},{"$f":"Factures1!H46","v":0},{"$f":"Factures1!I46","v":0},{"$f":"Factures1!$A$11","v":"Facture"},{"$f":"Factures1!$B$13","v":"2025-11-26"},null,{"$f":"Factures1!$B$14","v":"1011 / cr"},{"$f":"Factures1!$B$15","v":3338}]
[{"$f":"Factures1!A47","v":0},{"$f":"Factures1!B47","v":""},{"$f":"Factures1!C47","v":0},{"$f":"Factures1!D47","v":""},{"$f":"Factures1!E47","v":""},{"$f":"Factures1!F47","v":0},{"$f":"IF(Variables!$A$13=\"HT\",Factures1!G47+I32,Factures1!G47)","v":0},{"$f":"Factures1!H47","v":0},{"$f":"Factures1!I47","v":0},{"$f":"Factures1!$A$11","v":"Facture"},{"$f":"Factures1!$B$13","v":"2025-11-26"},null,{"$f":"Factures1!$B$14","v":"1011 / cr"},{"$f":"Factures1!$B$15","v":3338}]
[{"$f":"Factures1!A48","v":0},{"$f":"Factures1!B48","v":""},{"$f":"Factures1!C48","v":0},{"$f":"Factures1!D48","v":""},{"$f":"Factures1!E48","v":""},{"$f":"Factures1!F48","v":0},{"$f":"IF(Variables!$A$13=\"HT\",Factures1!G48+I33,Factures1!G48)","v":0},{"$f":"Factures1!H48","v":0},{"$f":"Factures1!I48","v":0},{"$f":"Factures1!$A$11","v":"Facture"},{"$f":"Factures1!$B$13","v":"2025-11-26"},null,{"$f":"Factures1!$B$14","v":"1011 / cr"},{"$f":"Factures1!$B$15","v":3338}]
[{"$f":"Factures1!A49","v":0},{"$f":"Factures1!B49","v":""},{"$f":"Factures1!C49","v":0},{"$f":"Factures1!D49","v":""},{"$f":"Factures1!E49","v":""},{"$f":"Factures1!F49","v":0},{"$f":"IF(Variables!$A$13=\"HT\",Factures1!G49+I34,Factures1!G49)","v":0},{"$f":"Factures1!H49","v":0},{"$f":"Factures1!I49","v":0},{"$f":"Factures1!$A$11","v":"Facture"},{"$f":"Factures1!$B$13","v":"2025-11-26"},null,{"$f":"Factures1!$B$14","v":"1011 / cr"},{"$f":"Factures1!$B$15","v":3338}]
[{"$f":"Factures1!A50","v":0},{"$f":"Factures1!B50","v":""},{"$f":"Factures1!C50","v":0},{"$f":"Factures1!D50","v":""},{"$f":"Factures1!E50","v":""},{"$f":"Factures1!F50","v":0},{"$f":"IF(Variables!$A$13=\"HT\",Factures1!G50+I35,Factures1!G50)","v":0},{"$f":"Factures1!H50","v":0},{"$f":"Factures1!I50","v":0},{"$f":"Factures1!$A$11","v":"Facture"},{"$f":"Factures1!$B$13","v":"2025-11-26"},null,{"$f":"Factures1!$B$14","v":"1011 / cr"},{"$f":"Factures1!$B$15","v":3338}]
[{"$f":"Factures1!A51","v":0},{"$f":"Factures1!B51","v":""},{"$f":"Factures1!C51","v":0},{"$f":"Factures1!D51","v":""},{"$f":"Factures1!E51","v":""},{"$f":"Factures1!F51","v":0},{"$f":"IF(Variables!$A$13=\"HT\",Factures1!G51+I36,Factures1!G51)","v":0},{"$f":"Factures1!H51","v":0},{"$f":"Factures1!I51","v":0},{"$f":"Factures1!$A$11","v":"Facture"},{"$f":"Factures1!$B$13","v":"2025-11-26"},null,{"$f":"Factures1!$B$14","v":"1011 / cr"},{"$f":"Factures1!$B$15","v":3338}]
[{"$f":"Factures1!A52","v":0},{"$f":"Factures1!B52","v":""},{"$f":"Factures1!C52","v":0},{"$f":"Factures1!D52","v":""},{"$f":"Factures1!E52","v":""},{"$f":"Factures1!F52","v":0},{"$f":"IF(Variables!$A$13=\"HT\",Factures1!G52+I37,Factures1!G52)","v":0},{"$f":"Factures1!H52","v":0},{"$f":"Factures1!I52","v":0},{"$f":"Factures1!$A$11","v":"Facture"},{"$f":"Factures1!$B$13","v":"2025-11-26"},null,{"$f":"Factures1!$B$14","v":"1011 / cr"},{"$f":"Factures1!$B$15","v":3338}]
[{"$f":"Factures1!A53","v":0},{"$f":"Factures1!B53","v":""},{"$f":"Factures1!C53","v":0},{"$f":"Factures1!D53","v":""},{"$f":"Factures1!E53","v":""},{"$f":"Factures1!F53","v":0},{"$f":"IF(Variables!$A$13=\"HT\",Factures1!G53+I38,Factures1!G53)","v":0},{"$f":"Factures1!H53","v":0},{"$f":"Factures1!I53","v":0},{"$f":"Factures1!$A$11","v":"Facture"},{"$f":"Factures1!$B$13","v":"2025-11-26"},null,{"$f":"Factures1!$B$14","v":"1011 / cr"},{"$f":"Factures1!$B$15","v":3338}]
[{"$f":"Factures1!A54","v":0},{"$f":"Factures1!B54","v":""},{"$f":"Factures1!C54","v":0},{"$f":"Factures1!D54","v":""},{"$f":"Factures1!E54","v":""},{"$f":"Factures1!F54","v":0},{"$f":"IF(Variables!$A$13=\"HT\",Factures1!G54+I39,Factures1!G54)","v":0},{"$f":"Factures1!H54","v":0},{"$f":"Factures1!I54","v":0},{"$f":"Factures1!$A$11","v":"Facture"},{"$f":"Factures1!$B$13","v":"2025-11-26"},null,{"$f":"Factures1!$B$14","v":"1011 / cr"},{"$f":"Factures1!$B$15","v":3338}]
[{"$f":"Factures1!A55","v":0},{"$f":"Factures1!B55","v":""},{"$f":"Factures1!C55","v":0},{"$f":"Factures1!D55","v":""},{"$f":"Factures1!E55","v":""},{"$f":"Factures1!F55","v":0},{"$f":"IF(Variables!$A$13=\"HT\",Factures1!G55+I40,Factures1!G55)","v":0},{"$f":"Factures1!H55","v":0},{"$f":"Factures1!I55","v":0},{"$f":"Factures1!$A$11","v":"Facture"},{"$f":"Factures1!$B$13","v":"2025-11-26"},null,{"$f":"Factures1!$B$14","v":"1011 / cr"},{"$f":"Factures1!$B$15","v":3338}]
[{"$f":"Factures1!A56","v":0},{"$f":"Factures1!B56","v":""},{"$f":"Factures1!C56","v":0},{"$f":"Factures1!D56","v":""},{"$f":"Factures1!E56","v":""},{"$f":"Factures1!F56","v":0},{"$f":"IF(Variables!$A$13=\"HT\",Factures1!G56+I41,Factures1!G56)","v":0},{"$f":"Factures1!H56","v":0},{"$f":"Factures1!I56","v":0},{"$f":"Factures1!$A$11","v":"Facture"},{"$f":"Factures1!$B$13","v":"2025-11-26"},null,{"$f":"Factures1!$B$14","v":"1011 / cr"},{"$f":"Factures1!$B$15","v":3338}]
[{"$f":"Factures1!A57","v":0},{"$f":"Factures1!B57","v":""},{"$f":"Factures1!C57","v":0},{"$f":"Factures1!D57","v":""},{"$f":"Factures1!E57","v":""},{"$f":"Factures1!F57","v":0},{"$f":"IF(Variables!$A$13=\"HT\",Factures1!G57+I42,Factures1!G57)","v":0},{"$f":"Factures1!H57","v":0},{"$f":"Factures1!I57","v":0},{"$f":"Factures1!$A$11","v":"Facture"},{"$f":"Factures1!$B$13","v":"2025-11-26"},null,{"$f":"Factures1!$B$14","v":"1011 / cr"},{"$f":"Factures1!$B$15","v":3338}]
[{"$f":"Factures1!A58","v":0},{"$f":"Factures1!B58","v":""},{"$f":"Factures1!C58","v":0},{"$f":"Factures1!D58","v":""},{"$f":"Factures1!E58","v":""},{"$f":"Factures1!F58","v":0},{"$f":"IF(Variables!$A$13=\"HT\",Factures1!G58+I43,Factures1!G58)","v":0},{"$f":"Factures1!H58","v":0},{"$f":"Factures1!I58","v":0},{"$f":"Factures1!$A$11","v":"Facture"},{"$f":"Factures1!$B$13","v":"2025-11-26"},null,{"$f":"Factures1!$B$14","v":"1011 / cr"},{"$f":"Factures1!$B$15","v":3338}]
[{"$f":"Factures1!A59","v":0},{"$f":"Factures1!B59","v":""},{"$f":"Factures1!C59","v":0},{"$f":"Factures1!D59","v":""},{"$f":"Factures1!E59","v":""},{"$f":"Factures1!F59","v":0},{"$f":"IF(Variables!$A$13=\"HT\",Factures1!G59+I44,Factures1!G59)","v":0},{"$f":"Factures1!H59","v":0},{"$f":"Factures1!I59","v":0},{"$f":"Factures1!$A$11","v":"Facture"},{"$f":"Factures1!$B$13","v":"2025-11-26"},null,{"$f":"Factures1!$B$14","v":"1011 / cr"},{"$f":"Factures1!$B$15","v":3338}]
[{"$f":"Factures1!A60","v":0},{"$f":"Factures1!B60","v":""},{"$f":"Factures1!C60","v":0},{"$f":"Factures1!D60","v":""},{"$f":"Factures1!E60","v":""},{"$f":"Factures1!F60","v":0},{"$f":"IF(Variables!$A$13=\"HT\",Factures1!G60+I45,Factures1!G60)","v":0},{"$f":"Factures1!H60","v":0},{"$f":"Factures1!I60","v":0},{"$f":"Factures1!$A$11","v":"Facture"},{"$f":"Factures1!$B$13","v":"2025-11-26"},null,{"$f":"Factures1!$B$14","v":"1011 / cr"},{"$f":"Factures1!$B$15","v":3338}]
[{"$f":"Factures1!A61","v":0},{"$f":"Factures1!B61","v":""},{"$f":"Factures1!C61","v":0},{"$f":"Factures1!D61","v":""},{"$f":"Factures1!E61","v":""},{"$f":"Factures1!F61","v":0},{"$f":"IF(Variables!$A$13=\"HT\",Factures1!G61+I46,Factures1!G61)","v":0},{"$f":"Factures1!H61","v":0},{"$f":"Factures1!I61","v":0},{"$f":"Factures1!$A$11","v":"Facture"},{"$f":"Factures1!$B$13","v":"2025-11-26"},null,{"$f":"Factures1!$B$14","v":"1011 / cr"},{"$f":"Factures1!$B$15","v":3338}]
[{"$f":"Factures1!A62","v":0},{"$f":"Factures1!B62","v":""},{"$f":"Factures1!C62","v":0},{"$f":"Factures1!D62","v":""},{"$f":"Factures1!E62","v":""},{"$f":"Factures1!F62","v":0},{"$f":"IF(Variables!$A$13=\"HT\",Factures1!G62+I47,Factures1!G62)","v":0},{"$f":"Factures1!H62","v":0},{"$f":"Factures1!I62","v":0},{"$f":"Factures1!$A$11","v":"Facture"},{"$f":"Factures1!$B$13","v":"2025-11-26"},null,{"$f":"Factures1!$B$14","v":"1011 / cr"},{"$f":"Factures1!$B$15","v":3338}]
[{"$f":"Factures1!A63","v":0},{"$f":"Factures1!B63","v":""},{"$f":"Factures1!C63","v":0},{"$f":"Factures1!D63","v":""},{"$f":"Factures1!E63","v":""},{"$f":"Factures1!F63","v":0},{"$f":"IF(Variables!$A$13=\"HT\",Factures1!G63+I48,Factures1!G63)","v":0},{"$f":"Factures1!H63","v":0},{"$f":"Factures1!I63","v":0},{"$f":"Factures1!$A$11","v":"Facture"},{"$f":"Factures1!$B$13","v":"2025-11-26"},null,{"$f":"Factures1!$B$14","v":"1011 / cr"},{"$f":"Factures1!$B$15","v":3338}]
[{"$f":"Factures1!A64","v":0},{"$f":"Factures1!B64","v":""},{"$f":"Factures1!C64","v":0},{"$f":"Factures1!D64","v":""},{"$f":"Factures1!E64","v":""},{"$f":"Factures1!F64","v":0},{"$f":"IF(Variables!$A$13=\"HT\",Factures1!G64+I49,Factures1!G64)","v":0},{"$f":"Factures1!H64","v":0},{"$f":"Factures1!I64","v":0},{"$f":"Factures1!$A$11","v":"Facture"},{"$f":"Factures1!$B$13","v":"2025-11-26"},null,{"$f":"Factures1!$B$14","v":"1011 / cr"},{"$f":"Factures1!$B$15","v":3338}]
[{"$f":"Factures1!A65","v":0},{"$f":"Factures1!B65","v":""},{"$f":"Factures1!C65","v":0},{"$f":"Factures1!D65","v":""},{"$f":"Factures1!E65","v":""},{"$f":"Factures1!F65","v":0},{"$f":"IF(Variables!$A$13=\"HT\",Factures1!G65+I50,Factures1!G65)","v":0},{"$f":"Factures1!H65","v":0},{"$f":"Factures1!I65","v":0},{"$f":"Factures1!$A$11","v":"Facture"},{"$f":"Factures1!$B$13","v":"2025-11-26"},null,{"$f":"Factures1!$B$14","v":"1011 / cr"},{"$f":"Factures1!$B$15","v":3338}]
[{"$f":"Factures1!A66","v":0},{"$f":"Factures1!B66","v":""},{"$f":"Factures1!C66","v":0},{"$f":"Factures1!D66","v":""},{"$f":"Factures1!E66","v":""},{"$f":"Factures1!F66","v":0},{"$f":"IF(Variables!$A$13=\"HT\",Factures1!G66+I51,Factures1!G66)","v":0},{"$f":"Factures1!H66","v":0},{"$f":"Factures1!I66","v":0},{"$f":"Factures1!$A$11","v":"Facture"},{"$f":"Factures1!$B$13","v":"2025-11-26"},null,{"$f":"Factures1!$B$14","v":"1011 / cr"},{"$f":"Factures1!$B$15","v":3338}]
[{"$f":"Factures1!A67","v":0},{"$f":"Factures1!B67","v":""},{"$f":"Factures1!C67","v":0},{"$f":"Factures1!D67","v":""},{"$f":"Factures1!E67","v":""},{"$f":"Factures1!F67","v":0},{"$f":"IF(Variables!$A$13=\"HT\",Factures1!G67+I52,Factures1!G67)","v":0},{"$f":"Factures1!H67","v":0},{"$f":"Factures1!I67","v":0},{"$f":"Factures1!$A$11","v":"Facture"},{"$f":"Factures1!$B$13","v":"2025-11-26"},null,{"$f":"Factures1!$B$14","v":"1011 / cr"},{"$f":"Factures1!$B$15","v":3338}]
[{"$f":"Factures1!A68","v":0},{"$f":"Factures1!B68","v":""},{"$f":"Factures1!C68","v":0},{"$f":"Factures1!D68","v":""},{"$f":"Factures1!E68","v":""},{"$f":"Factures1!F68","v":0},{"$f":"IF(Variables!$A$13=\"HT\",Factures1!G68+I53,Factures1!G68)","v":0},{"$f":"Factures1!H68","v":0},{"$f":"Factures1!I68","v":0},{"$f":"Factures1!$A$11","v":"Facture"},{"$f":"Factures1!$B$13","v":"2025-11-26"},null,{"$f":"Factures1!$B$14","v":"1011 / cr"},{"$f":"Factures1!$B$15","v":3338}]
[{"$f":"Factures1!A69","v":0},{"$f":"Factures1!B69","v":""},{"$f":"Factures1!C69","v":0},{"$f":"Factures1!D69","v":""},{"$f":"Factures1!E69","v":""},{"$f":"Factures1!F69","v":0},{"$f":"IF(Variables!$A$13=\"HT\",Factures1!G69+I54,Factures1!G69)","v":0},{"$f":"Factures1!H69","v":0},{"$f":"Factures1!I69","v":0},{"$f":"Factures1!$A$11","v":"Facture"},{"$f":"Factures1!$B$13","v":"2025-11-26"},null,{"$f":"Factures1!$B$14","v":"1011 / cr"},{"$f":"Factures1!$B$15","v":3338}]
[{"$f":"Factures1!A70","v":0},{"$f":"Factures1!B70","v":""},{"$f":"Factures1!C70","v":0},{"$f":"Factures1!D70","v":""},{"$f":"Factures1!E70","v":""},{"$f":"Factures1!F70","v":0},{"$f":"IF(Variables!$A$13=\"HT\",Factures1!G70+I55,Factures1!G70)","v":0},{"$f":"Factures1!H70","v":0},{"$f":"Factures1!I70","v":0},{"$f":"Factures1!$A$11","v":"Facture"},{"$f":"Factures1!$B$13","v":"2025-11-26"},null,{"$f":"Factures1!$B$14","v":"1011 / cr"},{"$f":"Factures1!$B$15","v":3338}]
[{"$f":"Factures1!A71","v":0},{"$f":"Factures1!B71","v":""},{"$f":"Factures1!C71","v":0},{"$f":"Factures1!D71","v":""},{"$f":"Factures1!E71","v":""},{"$f":"Factures1!F71","v":0},{"$f":"IF(Variables!$A$13=\"HT\",Factures1!G71+I56,Factures1!G71)","v":0},{"$f":"Factures1!H71","v":0},{"$f":"Factures1!I71","v":0},{"$f":"Factures1!$A$11","v":"Facture"},{"$f":"Factures1!$B$13","v":"2025-11-26"},null,{"$f":"Factures1!$B$14","v":"1011 / cr"},{"$f":"Factures1!$B$15","v":3338}]
[{"$f":"Factures1!A72","v":0},{"$f":"Factures1!B72","v":""},{"$f":"Factures1!C72","v":0},{"$f":"Factures1!D72","v":""},{"$f":"Factures1!E72","v":""},{"$f":"Factures1!F72","v":0},{"$f":"IF(Variables!$A$13=\"HT\",Factures1!G72+I57,Factures1!G72)","v":0},{"$f":"Factures1!H72","v":0},{"$f":"Factures1!I72","v":0},{"$f":"Factures1!$A$11","v":"Facture"},{"$f":"Factures1!$B$13","v":"2025-11-26"},null,{"$f":"Factures1!$B$14","v":"1011 / cr"},{"$f":"Factures1!$B$15","v":3338}]
[{"$f":"Factures1!A73","v":0},{"$f":"Factures1!B73","v":""},{"$f":"Factures1!C73","v":0},{"$f":"Factures1!D73","v":""},{"$f":"Factures1!E73","v":""},{"$f":"Factures1!F73","v":0},{"$f":"IF(Variables!$A$13=\"HT\",Factures1!G73+I58,Factures1!G73)","v":0},{"$f":"Factures1!H73","v":0},{"$f":"Factures1!I73","v":0},{"$f":"Factures1!$A$11","v":"Facture"},{"$f":"Factures1!$B$13","v":"2025-11-26"},null,{"$f":"Factures1!$B$14","v":"1011 / cr"},{"$f":"Factures1!$B$15","v":3338}]
[{"$f":"Factures1!A74","v":0},{"$f":"Factures1!B74","v":""},{"$f":"Factures1!C74","v":0},{"$f":"Factures1!D74","v":""},{"$f":"Factures1!E74","v":""},{"$f":"Factures1!F74","v":0},{"$f":"IF(Variables!$A$13=\"HT\",Factures1!G74+I59,Factures1!G74)","v":0},{"$f":"Factures1!H74","v":0},{"$f":"Factures1!I74","v":0},{"$f":"Factures1!$A$11","v":"Facture"},{"$f":"Factures1!$B$13","v":"2025-11-26"},null,{"$f":"Factures1!$B$14","v":"1011 / cr"},{"$f":"Factures1!$B$15","v":3338}]
[{"$f":"Factures1!A75","v":0},{"$f":"Factures1!B75","v":""},{"$f":"Factures1!C75","v":0},{"$f":"Factures1!D75","v":""},{"$f":"Factures1!E75","v":""},{"$f":"Factures1!F75","v":0},{"$f":"IF(Variables!$A$13=\"HT\",Factures1!G75+I60,Factures1!G75)","v":0},{"$f":"Factures1!H75","v":0},{"$f":"Factures1!I75","v":0},{"$f":"Factures1!$A$11","v":"Facture"},{"$f":"Factures1!$B$13","v":"2025-11-26"},null,{"$f":"Factures1!$B$14","v":"1011 / cr"},{"$f":"Factures1!$B$15","v":3338}]
[{"$f":"Factures1!A76","v":0},{"$f":"Factures1!B76","v":""},{"$f":"Factures1!C76","v":0},{"$f":"Factures1!D76","v":""},{"$f":"Factures1!E76","v":""},{"$f":"Factures1!F76","v":0},{"$f":"IF(Variables!$A$13=\"HT\",Factures1!G76+I61,Factures1!G76)","v":0},{"$f":"Factures1!H76","v":0},{"$f":"Factures1!I76","v":0},{"$f":"Factures1!$A$11","v":"Facture"},{"$f":"Factures1!$B$13","v":"2025-11-26"},null,{"$f":"Factures1!$B$14","v":"1011 / cr"},{"$f":"Factures1!$B$15","v":3338}]
[{"$f":"Factures1!A77","v":0},{"$f":"Factures1!B77","v":""},{"$f":"Factures1!C77","v":0},{"$f":"Factures1!D77","v":""},{"$f":"Factures1!E77","v":""},{"$f":"Factures1!F77","v":0},{"$f":"IF(Variables!$A$13=\"HT\",Factures1!G77+I62,Factures1!G77)","v":0},{"$f":"Factures1!H77","v":0},{"$f":"Factures1!I77","v":0},{"$f":"Factures1!$A$11","v":"Facture"},{"$f":"Factures1!$B$13","v":"2025-11-26"},null,{"$f":"Factures1!$B$14","v":"1011 / cr"},{"$f":"Factures1!$B$15","v":3338}]
[{"$f":"Factures1!A78","v":0},{"$f":"Factures1!B78","v":""},{"$f":"Factures1!C78","v":0},{"$f":"Factures1!D78","v":""},{"$f":"Factures1!E78","v":""},{"$f":"Factures1!F78","v":0},{"$f":"IF(Variables!$A$13=\"HT\",Factures1!G78+I63,Factures1!G78)","v":0},{"$f":"Factures1!H78","v":0},{"$f":"Factures1!I78","v":0},{"$f":"Factures1!$A$11","v":"Facture"},{"$f":"Factures1!$B$13","v":"2025-11-26"},null,{"$f":"Factures1!$B$14","v":"1011 / cr"},{"$f":"Factures1!$B$15","v":3338}]
[{"$f":"Factures1!A79","v":0},{"$f":"Factures1!B79","v":""},{"$f":"Factures1!C79","v":0},{"$f":"Factures1!D79","v":""},{"$f":"Factures1!E79","v":""},{"$f":"Factures1!F79","v":0},{"$f":"IF(Variables!$A$13=\"HT\",Factures1!G79+I64,Factures1!G79)","v":0},{"$f":"Factures1!H79","v":0},{"$f":"Factures1!I79","v":0},{"$f":"Factures1!$A$11","v":"Facture"},{"$f":"Factures1!$B$13","v":"2025-11-26"},null,{"$f":"Factures1!$B$14","v":"1011 / cr"},{"$f":"Factures1!$B$15","v":3338}]
[{"$f":"Factures1!A80","v":0},{"$f":"Factures1!B80","v":""},{"$f":"Factures1!C80","v":0},{"$f":"Factures1!D80","v":""},{"$f":"Factures1!E80","v":""},{"$f":"Factures1!F80","v":0},{"$f":"IF(Variables!$A$13=\"HT\",Factures1!G80+I65,Factures1!G80)","v":0},{"$f":"Factures1!H80","v":0},{"$f":"Factures1!I80","v":0},{"$f":"Factures1!$A$11","v":"Facture"},{"$f":"Factures1!$B$13","v":"2025-11-26"},null,{"$f":"Factures1!$B$14","v":"1011 / cr"},{"$f":"Factures1!$B$15","v":3338}]
[{"$f":"Factures1!A81","v":0},{"$f":"Factures1!B81","v":""},{"$f":"Factures1!C81","v":0},{"$f":"Factures1!D81","v":""},{"$f":"Factures1!E81","v":""},{"$f":"Factures1!F81","v":0},{"$f":"IF(Variables!$A$13=\"HT\",Factures1!G81+I66,Factures1!G81)","v":0},{"$f":"Factures1!H81","v":0},{"$f":"Factures1!I81","v":0},{"$f":"Factures1!$A$11","v":"Facture"},{"$f":"Factures1!$B$13","v":"2025-11-26"},null,{"$f":"Factures1!$B$14","v":"1011 / cr"},{"$f":"Factures1!$B$15","v":3338}]
[{"$f":"Factures1!A82","v":0},{"$f":"Factures1!B82","v":""},{"$f":"Factures1!C82","v":0},{"$f":"Factures1!D82","v":""},{"$f":"Factures1!E82","v":""},{"$f":"Factures1!F82","v":0},{"$f":"IF(Variables!$A$13=\"HT\",Factures1!G82+I67,Factures1!G82)","v":0},{"$f":"Factures1!H82","v":0},{"$f":"Factures1!I82","v":0},{"$f":"Factures1!$A$11","v":"Facture"},{"$f":"Factures1!$B$13","v":"2025-11-26"},null,{"$f":"Factures1!$B$14","v":"1011 / cr"},{"$f":"Factures1!$B$15","v":3338}]
[{"$f":"Factures1!A83","v":0},{"$f":"Factures1!B83","v":""},{"$f":"Factures1!C83","v":0},{"$f":"Factures1!D83","v":""},{"$f":"Factures1!E83","v":""},{"$f":"Factures1!F83","v":0},{"$f":"IF(Variables!$A$13=\"HT\",Factures1!G83+I68,Factures1!G83)","v":0},{"$f":"Factures1!H83","v":0},{"$f":"Factures1!I83","v":0},{"$f":"Factures1!$A$11","v":"Facture"},{"$f":"Factures1!$B$13","v":"2025-11-26"},null,{"$f":"Factures1!$B$14","v":"1011 / cr"},{"$f":"Factures1!$B$15","v":3338}]
[{"$f":"Factures1!A84","v":0},{"$f":"Factures1!B84","v":""},{"$f":"Factures1!C84","v":0},{"$f":"Factures1!D84","v":""},{"$f":"Factures1!E84","v":""},{"$f":"Factures1!F84","v":0},{"$f":"IF(Variables!$A$13=\"HT\",Factures1!G84+I69,Factures1!G84)","v":0},{"$f":"Factures1!H84","v":0},{"$f":"Factures1!I84","v":0},{"$f":"Factures1!$A$11","v":"Facture"},{"$f":"Factures1!$B$13","v":"2025-11-26"},null,{"$f":"Factures1!$B$14","v":"1011 / cr"},{"$f":"Factures1!$B$15","v":3338}]
[{"$f":"Factures1!A85","v":0},{"$f":"Factures1!B85","v":""},{"$f":"Factures1!C85","v":0},{"$f":"Factures1!D85","v":""},{"$f":"Factures1!E85","v":""},{"$f":"Factures1!F85","v":0},{"$f":"IF(Variables!$A$13=\"HT\",Factures1!G85+I70,Factures1!G85)","v":0},{"$f":"Factures1!H85","v":0},{"$f":"Factures1!I85","v":0},{"$f":"Factures1!$A$11","v":"Facture"},{"$f":"Factures1!$B$13","v":"2025-11-26"},null,{"$f":"Factures1!$B$14","v":"1011 / cr"},{"$f":"Factures1!$B$15","v":3338}]
[{"$f":"Factures1!A86","v":0},{"$f":"Factures1!B86","v":""},{"$f":"Factures1!C86","v":0},{"$f":"Factures1!D86","v":""},{"$f":"Factures1!E86","v":""},{"$f":"Factures1!F86","v":0},{"$f":"IF(Variables!$A$13=\"HT\",Factures1!G86+I71,Factures1!G86)","v":0},{"$f":"Factures1!H86","v":0},{"$f":"Factures1!I86","v":0},{"$f":"Factures1!$A$11","v":"Facture"},{"$f":"Factures1!$B$13","v":"2025-11-26"},null,{"$f":"Factures1!$B$14","v":"1011 / cr"},{"$f":"Factures1!$B$15","v":3338}]
[{"$f":"Factures1!A87","v":0},{"$f":"Factures1!B87","v":""},{"$f":"Factures1!C87","v":0},{"$f":"Factures1!D87","v":""},{"$f":"Factures1!E87","v":""},{"$f":"Factures1!F87","v":0},{"$f":"IF(Variables!$A$13=\"HT\",Factures1!G87+I72,Factures1!G87)","v":0},{"$f":"Factures1!H87","v":0},{"$f":"Factures1!I87","v":0},{"$f":"Factures1!$A$11","v":"Facture"},{"$f":"Factures1!$B$13","v":"2025-11-26"},null,{"$f":"Factures1!$B$14","v":"1011 / cr"},{"$f":"Factures1!$B$15","v":3338}]
[{"$f":"Factures1!A88","v":0},{"$f":"Factures1!B88","v":""},{"$f":"Factures1!C88","v":0},{"$f":"Factures1!D88","v":""},{"$f":"Factures1!E88","v":""},{"$f":"Factures1!F88","v":0},{"$f":"IF(Variables!$A$13=\"HT\",Factures1!G88+I73,Factures1!G88)","v":0},{"$f":"Factures1!H88","v":0},{"$f":"Factures1!I88","v":0},{"$f":"Factures1!$A$11","v":"Facture"},{"$f":"Factures1!$B$13","v":"2025-11-26"},null,{"$f":"Factures1!$B$14","v":"1011 / cr"},{"$f":"Factures1!$B$15","v":3338}]
[{"$f":"Factures1!A89","v":0},{"$f":"Factures1!B89","v":""},{"$f":"Factures1!C89","v":0},{"$f":"Factures1!D89","v":""},{"$f":"Factures1!E89","v":""},{"$f":"Factures1!F89","v":0},{"$f":"IF(Variables!$A$13=\"HT\",Factures1!G89+I74,Factures1!G89)","v":0},{"$f":"Factures1!H89","v":0},{"$f":"Factures1!I89","v":0},{"$f":"Factures1!$A$11","v":"Facture"},{"$f":"Factures1!$B$13","v":"2025-11-26"},null,{"$f":"Factures1!$B$14","v":"1011 / cr"},{"$f":"Factures1!$B$15","v":3338}]
[{"$f":"Factures1!A90","v":0},{"$f":"Factures1!B90","v":""},{"$f":"Factures1!C90","v":0},{"$f":"Factures1!D90","v":""},{"$f":"Factures1!E90","v":""},{"$f":"Factures1!F90","v":0},{"$f":"IF(Variables!$A$13=\"HT\",Factures1!G90+I75,Factures1!G90)","v":0},{"$f":"Factures1!H90","v":0},{"$f":"Factures1!I90","v":0},{"$f":"Factures1!$A$11","v":"Facture"},{"$f":"Factures1!$B$13","v":"2025-11-26"},null,{"$f":"Factures1!$B$14","v":"1011 / cr"},{"$f":"Factures1!$B$15","v":3338}]
[{"$f":"Factures1!A91","v":0},{"$f":"Factures1!B91","v":""},{"$f":"Factures1!C91","v":0},{"$f":"Factures1!D91","v":""},{"$f":"Factures1!E91","v":""},{"$f":"Factures1!F91","v":0},{"$f":"IF(Variables!$A$13=\"HT\",Factures1!G91+I76,Factures1!G91)","v":0},{"$f":"Factures1!H91","v":0},{"$f":"Factures1!I91","v":0},{"$f":"Factures1!$A$11","v":"Facture"},{"$f":"Factures1!$B$13","v":"2025-11-26"},null,{"$f":"Factures1!$B$14","v":"1011 / cr"},{"$f":"Factures1!$B$15","v":3338}]
[{"$f":"Factures1!A92","v":0},{"$f":"Factures1!B92","v":""},{"$f":"Factures1!C92","v":0},{"$f":"Factures1!D92","v":""},{"$f":"Factures1!E92","v":""},{"$f":"Factures1!F92","v":0},{"$f":"IF(Variables!$A$13=\"HT\",Factures1!G92+I77,Factures1!G92)","v":0},{"$f":"Factures1!H92","v":0},{"$f":"Factures1!I92","v":0},{"$f":"Factures1!$A$11","v":"Facture"},{"$f":"Factures1!$B$13","v":"2025-11-26"},null,{"$f":"Factures1!$B$14","v":"1011 / cr"},{"$f":"Factures1!$B$15","v":3338}]
[{"$f":"Factures1!A93","v":0},{"$f":"Factures1!B93","v":""},{"$f":"Factures1!C93","v":0},{"$f":"Factures1!D93","v":""},{"$f":"Factures1!E93","v":""},{"$f":"Factures1!F93","v":0},{"$f":"IF(Variables!$A$13=\"HT\",Factures1!G93+I78,Factures1!G93)","v":0},{"$f":"Factures1!H93","v":0},{"$f":"Factures1!I93","v":0},{"$f":"Factures1!$A$11","v":"Facture"},{"$f":"Factures1!$B$13","v":"2025-11-26"},null,{"$f":"Factures1!$B$14","v":"1011 / cr"},{"$f":"Factures1!$B$15","v":3338}]
[{"$f":"Factures1!A94","v":0},{"$f":"Factures1!B94","v":""},{"$f":"Factures1!C94","v":0},{"$f":"Factures1!D94","v":""},{"$f":"Factures1!E94","v":""},{"$f":"Factures1!F94","v":0},{"$f":"IF(Variables!$A$13=\"HT\",Factures1!G94+I79,Factures1!G94)","v":0},{"$f":"Factures1!H94","v":0},{"$f":"Factures1!I94","v":0},{"$f":"Factures1!$A$11","v":"Facture"},{"$f":"Factures1!$B$13","v":"2025-11-26"},null,{"$f":"Factures1!$B$14","v":"1011 / cr"},{"$f":"Factures1!$B$15","v":3338}]
[{"$f":"Factures1!A95","v":0},{"$f":"Factures1!B95","v":""},{"$f":"Factures1!C95","v":0},{"$f":"Factures1!D95","v":""},{"$f":"Factures1!E95","v":""},{"$f":"Factures1!F95","v":0},{"$f":"IF(Variables!$A$13=\"HT\",Factures1!G95+I80,Factures1!G95)","v":0},{"$f":"Factures1!H95","v":0},{"$f":"Factures1!I95","v":0},{"$f":"Factures1!$A$11","v":"Facture"},{"$f":"Factures1!$B$13","v":"2025-11-26"},null,{"$f":"Factures1!$B$14","v":"1011 / cr"},{"$f":"Factures1!$B$15","v":3338}]
[{"$f":"Factures1!A96","v":0},{"$f":"Factures1!B96","v":""},{"$f":"Factures1!C96","v":0},{"$f":"Factures1!D96","v":""},{"$f":"Factures1!E96","v":""},{"$f":"Factures1!F96","v":0},{"$f":"IF(Variables!$A$13=\"HT\",Factures1!G96+I81,Factures1!G96)","v":0},{"$f":"Factures1!H96","v":0},{"$f":"Factures1!I96","v":0},{"$f":"Factures1!$A$11","v":"Facture"},{"$f":"Factures1!$B$13","v":"2025-11-26"},null,{"$f":"Factures1!$B$14","v":"1011 / cr"},{"$f":"Factures1!$B$15","v":3338}]
[{"$f":"Factures1!A97","v":0},{"$f":"Factures1!B97","v":""},{"$f":"Factures1!C97","v":0},{"$f":"Factures1!D97","v":""},{"$f":"Factures1!E97","v":""},{"$f":"Factures1!F97","v":0},{"$f":"IF(Variables!$A$13=\"HT\",Factures1!G97+I82,Factures1!G97)","v":0},{"$f":"Factures1!H97","v":0},{"$f":"Factures1!I97","v":0},{"$f":"Factures1!$A$11","v":"Facture"},{"$f":"Factures1!$B$13","v":"2025-11-26"},null,{"$f":"Factures1!$B$14","v":"1011 / cr"},{"$f":"Factures1!$B$15","v":3338}]
[{"$f":"Factures1!A98","v":0},{"$f":"Factures1!B98","v":""},{"$f":"Factures1!C98","v":0},{"$f":"Factures1!D98","v":""},{"$f":"Factures1!E98","v":""},{"$f":"Factures1!F98","v":0},{"$f":"IF(Variables!$A$13=\"HT\",Factures1!G98+I83,Factures1!G98)","v":0},{"$f":"Factures1!H98","v":0},{"$f":"Factures1!I98","v":0},{"$f":"Factures1!$A$11","v":"Facture"},{"$f":"Factures1!$B$13","v":"2025-11-26"},null,{"$f":"Factures1!$B$14","v":"1011 / cr"},{"$f":"Factures1!$B$15","v":3338}]
[{"$f":"Factures1!A99","v":0},{"$f":"Factures1!B99","v":""},{"$f":"Factures1!C99","v":0},{"$f":"Factures1!D99","v":""},{"$f":"Factures1!E99","v":""},{"$f":"Factures1!F99","v":0},{"$f":"IF(Variables!$A$13=\"HT\",Factures1!G99+I84,Factures1!G99)","v":0},{"$f":"Factures1!H99","v":0},{"$f":"Factures1!I99","v":0},{"$f":"Factures1!$A$11","v":"Facture"},{"$f":"Factures1!$B$13","v":"2025-11-26"},null,{"$f":"Factures1!$B$14","v":"1011 / cr"},{"$f":"Factures1!$B$15","v":3338}]
[{"$f":"Factures1!A100","v":0},{"$f":"Factures1!B100","v":""},{"$f":"Factures1!C100","v":0},{"$f":"Factures1!D100","v":""},{"$f":"Factures1!E100","v":""},{"$f":"Factures1!F100","v":0},{"$f":"IF(Variables!$A$13=\"HT\",Factures1!G100+I85,Factures1!G100)","v":0},{"$f":"Factures1!H100","v":0},{"$f":"Factures1!I100","v":0},{"$f":"Factures1!$A$11","v":"Facture"},{"$f":"Factures1!$B$13","v":"2025-11-26"},null,{"$f":"Factures1!$B$14","v":"1011 / cr"},{"$f":"Factures1!$B$15","v":3338}]
[{"$f":"Factures1!A101","v":0},{"$f":"Factures1!B101","v":""},{"$f":"Factures1!C101","v":0},{"$f":"Factures1!D101","v":""},{"$f":"Factures1!E101","v":""},{"$f":"Factures1!F101","v":0},{"$f":"IF(Variables!$A$13=\"HT\",Factures1!G101+I86,Factures1!G101)","v":0},{"$f":"Factures1!H101","v":0},{"$f":"Factures1!I101","v":0},{"$f":"Factures1!$A$11","v":"Facture"},{"$f":"Factures1!$B$13","v":"2025-11-26"},null,{"$f":"Factures1!$B$14","v":"1011 / cr"},{"$f":"Factures1!$B$15","v":3338}]
[{"$f":"Factures1!A102","v":0},{"$f":"Factures1!B102","v":""},{"$f":"Factures1!C102","v":0},{"$f":"Factures1!D102","v":""},{"$f":"Factures1!E102","v":""},{"$f":"Factures1!F102","v":0},{"$f":"IF(Variables!$A$13=\"HT\",Factures1!G102+I87,Factures1!G102)","v":0},{"$f":"Factures1!H102","v":0},{"$f":"Factures1!I102","v":0},{"$f":"Factures1!$A$11","v":"Facture"},{"$f":"Factures1!$B$13","v":"2025-11-26"},null,{"$f":"Factures1!$B$14","v":"1011 / cr"},{"$f":"Factures1!$B$15","v":3338}]
[{"$f":"Factures1!A103","v":0},{"$f":"Factures1!B103","v":""},{"$f":"Factures1!C103","v":0},{"$f":"Factures1!D103","v":""},{"$f":"Factures1!E103","v":""},{"$f":"Factures1!F103","v":0},{"$f":"IF(Variables!$A$13=\"HT\",Factures1!G103+I88,Factures1!G103)","v":0},{"$f":"Factures1!H103","v":0},{"$f":"Factures1!I103","v":0},{"$f":"Factures1!$A$11","v":"Facture"},{"$f":"Factures1!$B$13","v":"2025-11-26"},null,{"$f":"Factures1!$B$14","v":"1011 / cr"},{"$f":"Factures1!$B$15","v":3338}]
[{"$f":"Factures1!A104","v":0},{"$f":"Factures1!B104","v":""},{"$f":"Factures1!C104","v":0},{"$f":"Factures1!D104","v":""},{"$f":"Factures1!E104","v":""},{"$f":"Factures1!F104","v":0},{"$f":"IF(Variables!$A$13=\"HT\",Factures1!G104+I89,Factures1!G104)","v":0},{"$f":"Factures1!H104","v":0},{"$f":"Factures1!I104","v":0},{"$f":"Factures1!$A$11","v":"Facture"},{"$f":"Factures1!$B$13","v":"2025-11-26"},null,{"$f":"Factures1!$B$14","v":"1011 / cr"},{"$f":"Factures1!$B$15","v":3338}]
[{"$f":"Factures1!A105","v":0},{"$f":"Factures1!B105","v":""},{"$f":"Factures1!C105","v":0},{"$f":"Factures1!D105","v":""},{"$f":"Factures1!E105","v":""},{"$f":"Factures1!F105","v":0},{"$f":"IF(Variables!$A$13=\"HT\",Factures1!G105+I90,Factures1!G105)","v":0},{"$f":"Factures1!H105","v":0},{"$f":"Factures1!I105","v":0},{"$f":"Factures1!$A$11","v":"Facture"},{"$f":"Factures1!$B$13","v":"2025-11-26"},null,{"$f":"Factures1!$B$14","v":"1011 / cr"},{"$f":"Factures1!$B$15","v":3338}]
[{"$f":"Factures1!A106","v":0},{"$f":"Factures1!B106","v":""},{"$f":"Factures1!C106","v":0},{"$f":"Factures1!D106","v":""},{"$f":"Factures1!E106","v":""},{"$f":"Factures1!F106","v":0},{"$f":"IF(Variables!$A$13=\"HT\",Factures1!G106+I91,Factures1!G106)","v":0},{"$f":"Factures1!H106","v":0},{"$f":"Factures1!I106","v":0},{"$f":"Factures1!$A$11","v":"Facture"},{"$f":"Factures1!$B$13","v":"2025-11-26"},null,{"$f":"Factures1!$B$14","v":"1011 / cr"},{"$f":"Factures1!$B$15","v":3338}]
[{"$f":"Factures1!A107","v":0},{"$f":"Factures1!B107","v":""},{"$f":"Factures1!C107","v":0},{"$f":"Factures1!D107","v":""},{"$f":"Factures1!E107","v":""},{"$f":"Factures1!F107","v":0},{"$f":"IF(Variables!$A$13=\"HT\",Factures1!G107+I92,Factures1!G107)","v":0},{"$f":"Factures1!H107","v":0},{"$f":"Factures1!I107","v":0},{"$f":"Factures1!$A$11","v":"Facture"},{"$f":"Factures1!$B$13","v":"2025-11-26"},null,{"$f":"Factures1!$B$14","v":"1011 / cr"},{"$f":"Factures1!$B$15","v":3338}]
[{"$f":"Factures1!A108","v":0},{"$f":"Factures1!B108","v":""},{"$f":"Factures1!C108","v":0},{"$f":"Factures1!D108","v":""},{"$f":"Factures1!E108","v":""},{"$f":"Factures1!F108","v":0},{"$f":"IF(Variables!$A$13=\"HT\",Factures1!G108+I93,Factures1!G108)","v":0},{"$f":"Factures1!H108","v":0},{"$f":"Factures1!I108","v":0},{"$f":"Factures1!$A$11","v":"Facture"},{"$f":"Factures1!$B$13","v":"2025-11-26"},null,{"$f":"Factures1!$B$14","v":"1011 / cr"},{"$f":"Factures1!$B$15","v":3338}]
[{"$f":"Factures1!A109","v":0},{"$f":"Factures1!B109","v":""},{"$f":"Factures1!C109","v":0},{"$f":"Factures1!D109","v":""},{"$f":"Factures1!E109","v":""},{"$f":"Factures1!F109","v":0},{"$f":"IF(Variables!$A$13=\"HT\",Factures1!G109+I94,Factures1!G109)","v":0},{"$f":"Factures1!H109","v":0},{"$f":"Factures1!I109","v":0},{"$f":"Factures1!$A$11","v":"Facture"},{"$f":"Factures1!$B$13","v":"2025-11-26"},null,{"$f":"Factures1!$B$14","v":"1011 / cr"},{"$f":"Factures1!$B$15","v":3338}]
[{"$f":"Factures1!A110","v":0},{"$f":"Factures1!B110","v":""},{"$f":"Factures1!C110","v":0},{"$f":"Factures1!D110","v":""},{"$f":"Factures1!E110","v":""},{"$f":"Factures1!F110","v":0},{"$f":"IF(Variables!$A$13=\"HT\",Factures1!G110+I95,Factures1!G110)","v":0},{"$f":"Factures1!H110","v":0},{"$f":"Factures1!I110","v":0},{"$f":"Factures1!$A$11","v":"Facture"},{"$f":"Factures1!$B$13","v":"2025-11-26"},null,{"$f":"Factures1!$B$14","v":"1011 / cr"},{"$f":"Factures1!$B$15","v":3338}]
[{"$f":"Factures1!A111","v":0},{"$f":"Factures1!B111","v":""},{"$f":"Factures1!C111","v":0},{"$f":"Factures1!D111","v":""},{"$f":"Factures1!E111","v":""},{"$f":"Factures1!F111","v":0},{"$f":"IF(Variables!$A$13=\"HT\",Factures1!G111+I96,Factures1!G111)","v":0},{"$f":"Factures1!H111","v":0},{"$f":"Factures1!I111","v":0},{"$f":"Factures1!$A$11","v":"Facture"},{"$f":"Factures1!$B$13","v":"2025-11-26"},null,{"$f":"Factures1!$B$14","v":"1011 / cr"},{"$f":"Factures1!$B$15","v":3338}]
[{"$f":"Factures1!A112","v":0},{"$f":"Factures1!B112","v":""},{"$f":"Factures1!C112","v":0},{"$f":"Factures1!D112","v":""},{"$f":"Factures1!E112","v":""},{"$f":"Factures1!F112","v":0},{"$f":"IF(Variables!$A$13=\"HT\",Factures1!G112+I97,Factures1!G112)","v":0},{"$f":"Factures1!H112","v":0},{"$f":"Factures1!I112","v":0},{"$f":"Factures1!$A$11","v":"Facture"},{"$f":"Factures1!$B$13","v":"2025-11-26"},null,{"$f":"Factures1!$B$14","v":"1011 / cr"},{"$f":"Factures1!$B$15","v":3338}]
[{"$f":"Factures1!A113","v":0},{"$f":"Factures1!B113","v":""},{"$f":"Factures1!C113","v":0},{"$f":"Factures1!D113","v":""},{"$f":"Factures1!E113","v":""},{"$f":"Factures1!F113","v":0},{"$f":"IF(Variables!$A$13=\"HT\",Factures1!G113+I98,Factures1!G113)","v":0},{"$f":"Factures1!H113","v":0},{"$f":"Factures1!I113","v":0},{"$f":"Factures1!$A$11","v":"Facture"},{"$f":"Factures1!$B$13","v":"2025-11-26"},null,{"$f":"Factures1!$B$14","v":"1011 / cr"},{"$f":"Factures1!$B$15","v":3338}]
[{"$f":"Factures1!A114","v":0},{"$f":"Factures1!B114","v":""},{"$f":"Factures1!C114","v":0},{"$f":"Factures1!D114","v":""},{"$f":"Factures1!E114","v":""},{"$f":"Factures1!F114","v":0},{"$f":"IF(Variables!$A$13=\"HT\",Factures1!G114+I99,Factures1!G114)","v":0},{"$f":"Factures1!H114","v":0},{"$f":"Factures1!I114","v":0},{"$f":"Factures1!$A$11","v":"Facture"},{"$f":"Factures1!$B$13","v":"2025-11-26"},null,{"$f":"Factures1!$B$14","v":"1011 / cr"},{"$f":"Factures1!$B$15","v":3338}]
[{"$f":"Factures1!A115","v":0},{"$f":"Factures1!B115","v":""},{"$f":"Factures1!C115","v":0},{"$f":"Factures1!D115","v":""},{"$f":"Factures1!E115","v":""},{"$f":"Factures1!F115","v":0},{"$f":"IF(Variables!$A$13=\"HT\",Factures1!G115+I100,Factures1!G115)","v":0},{"$f":"Factures1!H115","v":0},{"$f":"Factures1!I115","v":0},{"$f":"Factures1!$A$11","v":"Facture"},{"$f":"Factures1!$B$13","v":"2025-11-26"},null,{"$f":"Factures1!$B$14","v":"1011 / cr"},{"$f":"Factures1!$B$15","v":3338}]
[{"$f":"Factures1!A116","v":0},{"$f":"Factures1!B116","v":""},{"$f":"Factures1!C116","v":0},{"$f":"Factures1!D116","v":""},{"$f":"Factures1!E116","v":""},{"$f":"Factures1!F116","v":0},{"$f":"IF(Variables!$A$13=\"HT\",Factures1!G116+I101,Factures1!G116)","v":0},{"$f":"Factures1!H116","v":0},{"$f":"Factures1!I116","v":0},{"$f":"Factures1!$A$11","v":"Facture"},{"$f":"Factures1!$B$13","v":"2025-11-26"},null,{"$f":"Factures1!$B$14","v":"1011 / cr"},{"$f":"Factures1!$B$15","v":3338}]
[{"$f":"Factures1!A117","v":0},{"$f":"Factures1!B117","v":""},{"$f":"Factures1!C117","v":0},{"$f":"Factures1!D117","v":""},{"$f":"Factures1!E117","v":""},{"$f":"Factures1!F117","v":0},{"$f":"IF(Variables!$A$13=\"HT\",Factures1!G117+I102,Factures1!G117)","v":0},{"$f":"Factures1!H117","v":0},{"$f":"Factures1!I117","v":0},{"$f":"Factures1!$A$11","v":"Facture"},{"$f":"Factures1!$B$13","v":"2025-11-26"},null,{"$f":"Factures1!$B$14","v":"1011 / cr"},{"$f":"Factures1!$B$15","v":3338}]
[{"$f":"Factures1!A118","v":0},{"$f":"Factures1!B118","v":""},{"$f":"Factures1!C118","v":0},{"$f":"Factures1!D118","v":""},{"$f":"Factures1!E118","v":""},{"$f":"Factures1!F118","v":0},{"$f":"IF(Variables!$A$13=\"HT\",Factures1!G118+I103,Factures1!G118)","v":0},{"$f":"Factures1!H118","v":0},{"$f":"Factures1!I118","v":0},{"$f":"Factures1!$A$11","v":"Facture"},{"$f":"Factures1!$B$13","v":"2025-11-26"},null,{"$f":"Factures1!$B$14","v":"1011 / cr"},{"$f":"Factures1!$B$15","v":3338}]
[{"$f":"Factures1!A119","v":0},{"$f":"Factures1!B119","v":""},{"$f":"Factures1!C119","v":0},{"$f":"Factures1!D119","v":""},{"$f":"Factures1!E119","v":""},{"$f":"Factures1!F119","v":0},{"$f":"IF(Variables!$A$13=\"HT\",Factures1!G119+I104,Factures1!G119)","v":0},{"$f":"Factures1!H119","v":0},{"$f":"Factures1!I119","v":0},{"$f":"Factures1!$A$11","v":"Facture"},{"$f":"Factures1!$B$13","v":"2025-11-26"},null,{"$f":"Factures1!$B$14","v":"1011 / cr"},{"$f":"Factures1!$B$15","v":3338}]
[{"$f":"Factures1!A120","v":0},{"$f":"Factures1!B120","v":""},{"$f":"Factures1!C120","v":0},{"$f":"Factures1!D120","v":""},{"$f":"Factures1!E120","v":""},{"$f":"Factures1!F120","v":0},{"$f":"IF(Variables!$A$13=\"HT\",Factures1!G120+I105,Factures1!G120)","v":0},{"$f":"Factures1!H120","v":0},{"$f":"Factures1!I120","v":0},{"$f":"Factures1!$A$11","v":"Facture"},{"$f":"Factures1!$B$13","v":"2025-11-26"},null,{"$f":"Factures1!$B$14","v":"1011 / cr"},{"$f":"Factures1!$B$15","v":3338}]
[{"$f":"Factures1!A121","v":0},{"$f":"Factures1!B121","v":""},{"$f":"Factures1!C121","v":0},{"$f":"Factures1!D121","v":""},{"$f":"Factures1!E121","v":""},{"$f":"Factures1!F121","v":0},{"$f":"IF(Variables!$A$13=\"HT\",Factures1!G121+I106,Factures1!G121)","v":0},{"$f":"Factures1!H121","v":0},{"$f":"Factures1!I121","v":0},{"$f":"Factures1!$A$11","v":"Facture"},{"$f":"Factures1!$B$13","v":"2025-11-26"},null,{"$f":"Factures1!$B$14","v":"1011 / cr"},{"$f":"Factures1!$B$15","v":3338}]
[{"$f":"Factures1!A122","v":0},{"$f":"Factures1!B122","v":""},{"$f":"Factures1!C122","v":0},{"$f":"Factures1!D122","v":""},{"$f":"Factures1!E122","v":""},{"$f":"Factures1!F122","v":0},{"$f":"IF(Variables!$A$13=\"HT\",Factures1!G122+I107,Factures1!G122)","v":0},{"$f":"Factures1!H122","v":0},{"$f":"Factures1!I122","v":0},{"$f":"Factures1!$A$11","v":"Facture"},{"$f":"Factures1!$B$13","v":"2025-11-26"},null,{"$f":"Factures1!$B$14","v":"1011 / cr"},{"$f":"Factures1!$B$15","v":3338}]
[{"$f":"Factures1!A123","v":0},{"$f":"Factures1!B123","v":""},{"$f":"Factures1!C123","v":0},{"$f":"Factures1!D123","v":""},{"$f":"Factures1!E123","v":""},{"$f":"Factures1!F123","v":0},{"$f":"IF(Variables!$A$13=\"HT\",Factures1!G123+I108,Factures1!G123)","v":0},{"$f":"Factures1!H123","v":0},{"$f":"Factures1!I123","v":0},{"$f":"Factures1!$A$11","v":"Facture"},{"$f":"Factures1!$B$13","v":"2025-11-26"},null,{"$f":"Factures1!$B$14","v":"1011 / cr"},{"$f":"Factures1!$B$15","v":3338}]
[{"$f":"Factures1!A124","v":0},{"$f":"Factures1!B124","v":""},{"$f":"Factures1!C124","v":0},{"$f":"Factures1!D124","v":""},{"$f":"Factures1!E124","v":""},{"$f":"Factures1!F124","v":0},{"$f":"IF(Variables!$A$13=\"HT\",Factures1!G124+I109,Factures1!G124)","v":0},{"$f":"Factures1!H124","v":0},{"$f":"Factures1!I124","v":0},{"$f":"Factures1!$A$11","v":"Facture"},{"$f":"Factures1!$B$13","v":"2025-11-26"},null,{"$f":"Factures1!$B$14","v":"1011 / cr"},{"$f":"Factures1!$B$15","v":3338}]
[{"$f":"Factures1!A125","v":0},{"$f":"Factures1!B125","v":""},{"$f":"Factures1!C125","v":0},{"$f":"Factures1!D125","v":""},{"$f":"Factures1!E125","v":""},{"$f":"Factures1!F125","v":0},{"$f":"IF(Variables!$A$13=\"HT\",Factures1!G125+I110,Factures1!G125)","v":0},{"$f":"Factures1!H125","v":0},{"$f":"Factures1!I125","v":0},{"$f":"Factures1!$A$11","v":"Facture"},{"$f":"Factures1!$B$13","v":"2025-11-26"},null,{"$f":"Factures1!$B$14","v":"1011 / cr"},{"$f":"Factures1!$B$15","v":3338}]
[{"$f":"Factures1!A126","v":0},{"$f":"Factures1!B126","v":""},{"$f":"Factures1!C126","v":0},{"$f":"Factures1!D126","v":""},{"$f":"Factures1!E126","v":""},{"$f":"Factures1!F126","v":0},{"$f":"IF(Variables!$A$13=\"HT\",Factures1!G126+I111,Factures1!G126)","v":0},{"$f":"Factures1!H126","v":0},{"$f":"Factures1!I126","v":0},{"$f":"Factures1!$A$11","v":"Facture"},{"$f":"Factures1!$B$13","v":"2025-11-26"},null,{"$f":"Factures1!$B$14","v":"1011 / cr"},{"$f":"Factures1!$B$15","v":3338}]
[{"$f":"Factures1!A127","v":0},{"$f":"Factures1!B127","v":""},{"$f":"Factures1!C127","v":0},{"$f":"Factures1!D127","v":""},{"$f":"Factures1!E127","v":""},{"$f":"Factures1!F127","v":0},{"$f":"IF(Variables!$A$13=\"HT\",Factures1!G127+I112,Factures1!G127)","v":0},{"$f":"Factures1!H127","v":0},{"$f":"Factures1!I127","v":0},{"$f":"Factures1!$A$11","v":"Facture"},{"$f":"Factures1!$B$13","v":"2025-11-26"},null,{"$f":"Factures1!$B$14","v":"1011 / cr"},{"$f":"Factures1!$B$15","v":3338}]
[{"$f":"Factures1!A128","v":0},{"$f":"Factures1!B128","v":""},{"$f":"Factures1!C128","v":0},{"$f":"Factures1!D128","v":""},{"$f":"Factures1!E128","v":""},{"$f":"Factures1!F128","v":0},{"$f":"IF(Variables!$A$13=\"HT\",Factures1!G128+I113,Factures1!G128)","v":0},{"$f":"Factures1!H128","v":0},{"$f":"Factures1!I128","v":0},{"$f":"Factures1!$A$11","v":"Facture"},{"$f":"Factures1!$B$13","v":"2025-11-26"},null,{"$f":"Factures1!$B$14","v":"1011 / cr"},{"$f":"Factures1!$B$15","v":3338}]
[{"$f":"Factures1!A129","v":0},{"$f":"Factures1!B129","v":""},{"$f":"Factures1!C129","v":0},{"$f":"Factures1!D129","v":""},{"$f":"Factures1!E129","v":""},{"$f":"Factures1!F129","v":0},{"$f":"IF(Variables!$A$13=\"HT\",Factures1!G129+I114,Factures1!G129)","v":0},{"$f":"Factures1!H129","v":0},{"$f":"Factures1!I129","v":0},{"$f":"Factures1!$A$11","v":"Facture"},{"$f":"Factures1!$B$13","v":"2025-11-26"},null,{"$f":"Factures1!$B$14","v":"1011 / cr"},{"$f":"Factures1!$B$15","v":3338}]
[{"$f":"Factures1!A130","v":0},{"$f":"Factures1!B130","v":""},{"$f":"Factures1!C130","v":0},{"$f":"Factures1!D130","v":""},{"$f":"Factures1!E130","v":""},{"$f":"Factures1!F130","v":0},{"$f":"IF(Variables!$A$13=\"HT\",Factures1!G130+I115,Factures1!G130)","v":0},{"$f":"Factures1!H130","v":0},{"$f":"Factures1!I130","v":0},{"$f":"Factures1!$A$11","v":"Facture"},{"$f":"Factures1!$B$13","v":"2025-11-26"},null,{"$f":"Factures1!$B$14","v":"1011 / cr"},{"$f":"Factures1!$B$15","v":3338}]
[{"$f":"Factures1!A131","v":0},{"$f":"Factures1!B131","v":""},{"$f":"Factures1!C131","v":0},{"$f":"Factures1!D131","v":""},{"$f":"Factures1!E131","v":""},{"$f":"Factures1!F131","v":0},{"$f":"IF(Variables!$A$13=\"HT\",Factures1!G131+I116,Factures1!G131)","v":0},{"$f":"Factures1!H131","v":0},{"$f":"Factures1!I131","v":0},{"$f":"Factures1!$A$11","v":"Facture"},{"$f":"Factures1!$B$13","v":"2025-11-26"},null,{"$f":"Factures1!$B$14","v":"1011 / cr"},{"$f":"Factures1!$B$15","v":3338}]
[{"$f":"Factures1!A132","v":0},{"$f":"Factures1!B132","v":""},{"$f":"Factures1!C132","v":0},{"$f":"Factures1!D132","v":""},{"$f":"Factures1!E132","v":""},{"$f":"Factures1!F132","v":0},{"$f":"IF(Variables!$A$13=\"HT\",Factures1!G132+I117,Factures1!G132)","v":0},{"$f":"Factures1!H132","v":0},{"$f":"Factures1!I132","v":0},{"$f":"Factures1!$A$11","v":"Facture"},{"$f":"Factures1!$B$13","v":"2025-11-26"},null,{"$f":"Factures1!$B$14","v":"1011 / cr"},{"$f":"Factures1!$B$15","v":3338}]
[{"$f":"Factures1!A133","v":0},{"$f":"Factures1!B133","v":""},{"$f":"Factures1!C133","v":0},{"$f":"Factures1!D133","v":""},{"$f":"Factures1!E133","v":""},{"$f":"Factures1!F133","v":0},{"$f":"IF(Variables!$A$13=\"HT\",Factures1!G133+I118,Factures1!G133)","v":0},{"$f":"Factures1!H133","v":0},{"$f":"Factures1!I133","v":0},{"$f":"Factures1!$A$11","v":"Facture"},{"$f":"Factures1!$B$13","v":"2025-11-26"},null,{"$f":"Factures1!$B$14","v":"1011 / cr"},{"$f":"Factures1!$B$15","v":3338}]
[{"$f":"Factures1!A134","v":0},{"$f":"Factures1!B134","v":""},{"$f":"Factures1!C134","v":0},{"$f":"Factures1!D134","v":""},{"$f":"Factures1!E134","v":""},{"$f":"Factures1!F134","v":0},{"$f":"IF(Variables!$A$13=\"HT\",Factures1!G134+I119,Factures1!G134)","v":0},{"$f":"Factures1!H134","v":0},{"$f":"Factures1!I134","v":0},{"$f":"Factures1!$A$11","v":"Facture"},{"$f":"Factures1!$B$13","v":"2025-11-26"},null,{"$f":"Factures1!$B$14","v":"1011 / cr"},{"$f":"Factures1!$B$15","v":3338}]
[{"$f":"Factures1!A135","v":0},{"$f":"Factures1!B135","v":""},{"$f":"Factures1!C135","v":0},{"$f":"Factures1!D135","v":""},{"$f":"Factures1!E135","v":""},{"$f":"Factures1!F135","v":0},{"$f":"IF(Variables!$A$13=\"HT\",Factures1!G135+I120,Factures1!G135)","v":0},{"$f":"Factures1!H135","v":0},{"$f":"Factures1!I135","v":0},{"$f":"Factures1!$A$11","v":"Facture"},{"$f":"Factures1!$B$13","v":"2025-11-26"},null,{"$f":"Factures1!$B$14","v":"1011 / cr"},{"$f":"Factures1!$B$15","v":3338}]
[{"$f":"Factures1!A136","v":0},{"$f":"Factures1!B136","v":""},{"$f":"Factures1!C136","v":0},{"$f":"Factures1!D136","v":""},{"$f":"Factures1!E136","v":""},{"$f":"Factures1!F136","v":0},{"$f":"IF(Variables!$A$13=\"HT\",Factures1!G136+I121,Factures1!G136)","v":0},{"$f":"Factures1!H136","v":0},{"$f":"Factures1!I136","v":0},{"$f":"Factures1!$A$11","v":"Facture"},{"$f":"Factures1!$B$13","v":"2025-11-26"},null,{"$f":"Factures1!$B$14","v":"1011 / cr"},{"$f":"Factures1!$B$15","v":3338}]
[{"$f":"Factures1!A137","v":0},{"$f":"Factures1!B137","v":""},{"$f":"Factures1!C137","v":0},{"$f":"Factures1!D137","v":""},{"$f":"Factures1!E137","v":""},{"$f":"Factures1!F137","v":0},{"$f":"IF(Variables!$A$13=\"HT\",Factures1!G137+I122,Factures1!G137)","v":0},{"$f":"Factures1!H137","v":0},{"$f":"Factures1!I137","v":0},{"$f":"Factures1!$A$11","v":"Facture"},{"$f":"Factures1!$B$13","v":"2025-11-26"},null,{"$f":"Factures1!$B$14","v":"1011 / cr"},{"$f":"Factures1!$B$15","v":3338}]
[{"$f":"Factures1!A138","v":0},{"$f":"Factures1!B138","v":""},{"$f":"Factures1!C138","v":0},{"$f":"Factures1!D138","v":""},{"$f":"Factures1!E138","v":""},{"$f":"Factures1!F138","v":0},{"$f":"IF(Variables!$A$13=\"HT\",Factures1!G138+I123,Factures1!G138)","v":0},{"$f":"Factures1!H138","v":0},{"$f":"Factures1!I138","v":0},{"$f":"Factures1!$A$11","v":"Facture"},{"$f":"Factures1!$B$13","v":"2025-11-26"},null,{"$f":"Factures1!$B$14","v":"1011 / cr"},{"$f":"Factures1!$B$15","v":3338}]
[{"$f":"Factures1!A139","v":0},{"$f":"Factures1!B139","v":""},{"$f":"Factures1!C139","v":0},{"$f":"Factures1!D139","v":""},{"$f":"Factures1!E139","v":""},{"$f":"Factures1!F139","v":0},{"$f":"IF(Variables!$A$13=\"HT\",Factures1!G139+I124,Factures1!G139)","v":0},{"$f":"Factures1!H139","v":0},{"$f":"Factures1!I139","v":0},{"$f":"Factures1!$A$11","v":"Facture"},{"$f":"Factures1!$B$13","v":"2025-11-26"},null,{"$f":"Factures1!$B$14","v":"1011 / cr"},{"$f":"Factures1!$B$15","v":3338}]
[{"$f":"Factures1!A140","v":0},{"$f":"Factures1!B140","v":""},{"$f":"Factures1!C140","v":0},{"$f":"Factures1!D140","v":""},{"$f":"Factures1!E140","v":""},{"$f":"Factures1!F140","v":0},{"$f":"IF(Variables!$A$13=\"HT\",Factures1!G140+I125,Factures1!G140)","v":0},{"$f":"Factures1!H140","v":0},{"$f":"Factures1!I140","v":0},{"$f":"Factures1!$A$11","v":"Facture"},{"$f":"Factures1!$B$13","v":"2025-11-26"},null,{"$f":"Factures1!$B$14","v":"1011 / cr"},{"$f":"Factures1!$B$15","v":3338}]
[{"$f":"Factures1!A141","v":0},{"$f":"Factures1!B141","v":""},{"$f":"Factures1!C141","v":0},{"$f":"Factures1!D141","v":""},{"$f":"Factures1!E141","v":""},{"$f":"Factures1!F141","v":0},{"$f":"IF(Variables!$A$13=\"HT\",Factures1!G141+I126,Factures1!G141)","v":0},{"$f":"Factures1!H141","v":0},{"$f":"Factures1!I141","v":0},{"$f":"Factures1!$A$11","v":"Facture"},{"$f":"Factures1!$B$13","v":"2025-11-26"},null,{"$f":"Factures1!$B$14","v":"1011 / cr"},{"$f":"Factures1!$B$15","v":3338}]
[{"$f":"Factures1!A142","v":0},{"$f":"Factures1!B142","v":""},{"$f":"Factures1!C142","v":0},{"$f":"Factures1!D142","v":""},{"$f":"Factures1!E142","v":""},{"$f":"Factures1!F142","v":0},{"$f":"IF(Variables!$A$13=\"HT\",Factures1!G142+I127,Factures1!G142)","v":0},{"$f":"Factures1!H142","v":0},{"$f":"Factures1!I142","v":0},{"$f":"Factures1!$A$11","v":"Facture"},{"$f":"Factures1!$B$13","v":"2025-11-26"},null,{"$f":"Factures1!$B$14","v":"1011 / cr"},{"$f":"Factures1!$B$15","v":3338}]
[{"$f":"Factures1!A143","v":0},{"$f":"Factures1!B143","v":""},{"$f":"Factures1!C143","v":0},{"$f":"Factures1!D143","v":""},{"$f":"Factures1!E143","v":""},{"$f":"Factures1!F143","v":0},{"$f":"IF(Variables!$A$13=\"HT\",Factures1!G143+I128,Factures1!G143)","v":0},{"$f":"Factures1!H143","v":0},{"$f":"Factures1!I143","v":0},{"$f":"Factures1!$A$11","v":"Facture"},{"$f":"Factures1!$B$13","v":"2025-11-26"},null,{"$f":"Factures1!$B$14","v":"1011 / cr"},{"$f":"Factures1!$B$15","v":3338}]
[{"$f":"Factures1!A144","v":0},{"$f":"Factures1!B144","v":""},{"$f":"Factures1!C144","v":0},{"$f":"Factures1!D144","v":""},{"$f":"Factures1!E144","v":""},{"$f":"Factures1!F144","v":0},{"$f":"IF(Variables!$A$13=\"HT\",Factures1!G144+I129,Factures1!G144)","v":0},{"$f":"Factures1!H144","v":0},{"$f":"Factures1!I144","v":0},{"$f":"Factures1!$A$11","v":"Facture"},{"$f":"Factures1!$B$13","v":"2025-11-26"},null,{"$f":"Factures1!$B$14","v":"1011 / cr"},{"$f":"Factures1!$B$15","v":3338}]
[{"$f":"Factures1!A145","v":0},{"$f":"Factures1!B145","v":""},{"$f":"Factures1!C145","v":0},{"$f":"Factures1!D145","v":""},{"$f":"Factures1!E145","v":""},{"$f":"Factures1!F145","v":0},{"$f":"IF(Variables!$A$13=\"HT\",Factures1!G145+I130,Factures1!G145)","v":0},{"$f":"Factures1!H145","v":0},{"$f":"Factures1!I145","v":0},{"$f":"Factures1!$A$11","v":"Facture"},{"$f":"Factures1!$B$13","v":"2025-11-26"},null,{"$f":"Factures1!$B$14","v":"1011 / cr"},{"$f":"Factures1!$B$15","v":3338}]
[{"$f":"Factures1!A146","v":0},{"$f":"Factures1!B146","v":""},{"$f":"Factures1!C146","v":0},{"$f":"Factures1!D146","v":""},{"$f":"Factures1!E146","v":""},{"$f":"Factures1!F146","v":0},{"$f":"IF(Variables!$A$13=\"HT\",Factures1!G146+I131,Factures1!G146)","v":0},{"$f":"Factures1!H146","v":0},{"$f":"Factures1!I146","v":0},{"$f":"Factures1!$A$11","v":"Facture"},{"$f":"Factures1!$B$13","v":"2025-11-26"},null,{"$f":"Factures1!$B$14","v":"1011 / cr"},{"$f":"Factures1!$B$15","v":3338}]
[{"$f":"Factures1!A147","v":0},{"$f":"Factures1!B147","v":""},{"$f":"Factures1!C147","v":0},{"$f":"Factures1!D147","v":""},{"$f":"Factures1!E147","v":""},{"$f":"Factures1!F147","v":0},{"$f":"IF(Variables!$A$13=\"HT\",Factures1!G147+I132,Factures1!G147)","v":0},{"$f":"Factures1!H147","v":0},{"$f":"Factures1!I147","v":0},{"$f":"Factures1!$A$11","v":"Facture"},{"$f":"Factures1!$B$13","v":"2025-11-26"},null,{"$f":"Factures1!$B$14","v":"1011 / cr"},{"$f":"Factures1!$B$15","v":3338}]
[{"$f":"Factures1!A148","v":0},{"$f":"Factures1!B148","v":""},{"$f":"Factures1!C148","v":0},{"$f":"Factures1!D148","v":""},{"$f":"Factures1!E148","v":""},{"$f":"Factures1!F148","v":0},{"$f":"IF(Variables!$A$13=\"HT\",Factures1!G148+I133,Factures1!G148)","v":0},{"$f":"Factures1!H148","v":0},{"$f":"Factures1!I148","v":0},{"$f":"Factures1!$A$11","v":"Facture"},{"$f":"Factures1!$B$13","v":"2025-11-26"},null,{"$f":"Factures1!$B$14","v":"1011 / cr"},{"$f":"Factures1!$B$15","v":3338}]
[{"$f":"Factures1!A149","v":0},{"$f":"Factures1!B149","v":""},{"$f":"Factures1!C149","v":0},{"$f":"Factures1!D149","v":""},{"$f":"Factures1!E149","v":""},{"$f":"Factures1!F149","v":0},{"$f":"IF(Variables!$A$13=\"HT\",Factures1!G149+I134,Factures1!G149)","v":0},{"$f":"Factures1!H149","v":0},{"$f":"Factures1!I149","v":0},{"$f":"Factures1!$A$11","v":"Facture"},{"$f":"Factures1!$B$13","v":"2025-11-26"},null,{"$f":"Factures1!$B$14","v":"1011 / cr"},{"$f":"Factures1!$B$15","v":3338}]
[{"$f":"Factures1!A150","v":0},{"$f":"Factures1!B150","v":""},{"$f":"Factures1!C150","v":0},{"$f":"Factures1!D150","v":""},{"$f":"Factures1!E150","v":""},{"$f":"Factures1!F150","v":0},{"$f":"IF(Variables!$A$13=\"HT\",Factures1!G150+I135,Factures1!G150)","v":0},{"$f":"Factures1!H150","v":0},{"$f":"Factures1!I150","v":0},{"$f":"Factures1!$A$11","v":"Facture"},{"$f":"Factures1!$B$13","v":"2025-11-26"},null,{"$f":"Factures1!$B$14","v":"1011 / cr"},{"$f":"Factures1!$B$15","v":3338}]
[{"$f":"Factures1!A151","v":0},{"$f":"Factures1!B151","v":""},{"$f":"Factures1!C151","v":0},{"$f":"Factures1!D151","v":""},{"$f":"Factures1!E151","v":""},{"$f":"Factures1!F151","v":0},{"$f":"IF(Variables!$A$13=\"HT\",Factures1!G151+I136,Factures1!G151)","v":0},{"$f":"Factures1!H151","v":0},{"$f":"Factures1!I151","v":0},{"$f":"Factures1!$A$11","v":"Facture"},{"$f":"Factures1!$B$13","v":"2025-11-26"},null,{"$f":"Factures1!$B$14","v":"1011 / cr"},{"$f":"Factures1!$B$15","v":3338}]
[{"$f":"Factures1!A152","v":0},{"$f":"Factures1!B152","v":""},{"$f":"Factures1!C152","v":0},{"$f":"Factures1!D152","v":""},{"$f":"Factures1!E152","v":""},{"$f":"Factures1!F152","v":0},{"$f":"IF(Variables!$A$13=\"HT\",Factures1!G152+I137,Factures1!G152)","v":0},{"$f":"Factures1!H152","v":0},{"$f":"Factures1!I152","v":0},{"$f":"Factures1!$A$11","v":"Facture"},{"$f":"Factures1!$B$13","v":"2025-11-26"},null,{"$f":"Factures1!$B$14","v":"1011 / cr"},{"$f":"Factures1!$B$15","v":3338}]
[{"$f":"Factures1!A153","v":0},{"$f":"Factures1!B153","v":""},{"$f":"Factures1!C153","v":0},{"$f":"Factures1!D153","v":""},{"$f":"Factures1!E153","v":""},{"$f":"Factures1!F153","v":0},{"$f":"IF(Variables!$A$13=\"HT\",Factures1!G153+I138,Factures1!G153)","v":0},{"$f":"Factures1!H153","v":0},{"$f":"Factures1!I153","v":0},{"$f":"Factures1!$A$11","v":"Facture"},{"$f":"Factures1!$B$13","v":"2025-11-26"},null,{"$f":"Factures1!$B$14","v":"1011 / cr"},{"$f":"Factures1!$B$15","v":3338}]
[{"$f":"Factures1!A154","v":0},{"$f":"Factures1!B154","v":""},{"$f":"Factures1!C154","v":0},{"$f":"Factures1!D154","v":""},{"$f":"Factures1!E154","v":""},{"$f":"Factures1!F154","v":0},{"$f":"IF(Variables!$A$13=\"HT\",Factures1!G154+I139,Factures1!G154)","v":0},{"$f":"Factures1!H154","v":0},{"$f":"Factures1!I154","v":0},{"$f":"Factures1!$A$11","v":"Facture"},{"$f":"Factures1!$B$13","v":"2025-11-26"},null,{"$f":"Factures1!$B$14","v":"1011 / cr"},{"$f":"Factures1!$B$15","v":3338}]
[{"$f":"Factures1!A155","v":0},{"$f":"Factures1!B155","v":""},{"$f":"Factures1!C155","v":0},{"$f":"Factures1!D155","v":""},{"$f":"Factures1!E155","v":""},{"$f":"Factures1!F155","v":0},{"$f":"IF(Variables!$A$13=\"HT\",Factures1!G155+I140,Factures1!G155)","v":0},{"$f":"Factures1!H155","v":0},{"$f":"Factures1!I155","v":0},{"$f":"Factures1!$A$11","v":"Facture"},{"$f":"Factures1!$B$13","v":"2025-11-26"},null,{"$f":"Factures1!$B$14","v":"1011 / cr"},{"$f":"Factures1!$B$15","v":3338}]
[{"$f":"Factures1!A156","v":0},{"$f":"Factures1!B156","v":""},{"$f":"Factures1!C156","v":0},{"$f":"Factures1!D156","v":""},{"$f":"Factures1!E156","v":""},{"$f":"Factures1!F156","v":0},{"$f":"IF(Variables!$A$13=\"HT\",Factures1!G156+I141,Factures1!G156)","v":0},{"$f":"Factures1!H156","v":0},{"$f":"Factures1!I156","v":0},{"$f":"Factures1!$A$11","v":"Facture"},{"$f":"Factures1!$B$13","v":"2025-11-26"},null,{"$f":"Factures1!$B$14","v":"1011 / cr"},{"$f":"Factures1!$B$15","v":3338}]
[{"$f":"Factures1!A157","v":0},{"$f":"Factures1!B157","v":""},{"$f":"Factures1!C157","v":0},{"$f":"Factures1!D157","v":""},{"$f":"Factures1!E157","v":""},{"$f":"Factures1!F157","v":0},{"$f":"IF(Variables!$A$13=\"HT\",Factures1!G157+I142,Factures1!G157)","v":0},{"$f":"Factures1!H157","v":0},{"$f":"Factures1!I157","v":0},{"$f":"Factures1!$A$11","v":"Facture"},{"$f":"Factures1!$B$13","v":"2025-11-26"},null,{"$f":"Factures1!$B$14","v":"1011 / cr"},{"$f":"Factures1!$B$15","v":3338}]
[{"$f":"Factures1!A158","v":0},{"$f":"Factures1!B158","v":""},{"$f":"Factures1!C158","v":0},{"$f":"Factures1!D158","v":""},{"$f":"Factures1!E158","v":""},{"$f":"Factures1!F158","v":0},{"$f":"IF(Variables!$A$13=\"HT\",Factures1!G158+I143,Factures1!G158)","v":0},{"$f":"Factures1!H158","v":0},{"$f":"Factures1!I158","v":0},{"$f":"Factures1!$A$11","v":"Facture"},{"$f":"Factures1!$B$13","v":"2025-11-26"},null,{"$f":"Factures1!$B$14","v":"1011 / cr"},{"$f":"Factures1!$B$15","v":3338}]
[{"$f":"Factures1!A159","v":0},{"$f":"Factures1!B159","v":""},{"$f":"Factures1!C159","v":0},{"$f":"Factures1!D159","v":""},{"$f":"Factures1!E159","v":""},{"$f":"Factures1!F159","v":0},{"$f":"IF(Variables!$A$13=\"HT\",Factures1!G159+I144,Factures1!G159)","v":0},{"$f":"Factures1!H159","v":0},{"$f":"Factures1!I159","v":0},{"$f":"Factures1!$A$11","v":"Facture"},{"$f":"Factures1!$B$13","v":"2025-11-26"},null,{"$f":"Factures1!$B$14","v":"1011 / cr"},{"$f":"Factures1!$B$15","v":3338}]
[{"$f":"Factures1!A160","v":0},{"$f":"Factures1!B160","v":""},{"$f":"Factures1!C160","v":0},{"$f":"Factures1!D160","v":""},{"$f":"Factures1!E160","v":""},{"$f":"Factures1!F160","v":0},{"$f":"IF(Variables!$A$13=\"HT\",Factures1!G160+I145,Factures1!G160)","v":0},{"$f":"Factures1!H160","v":0},{"$f":"Factures1!I160","v":0},{"$f":"Factures1!$A$11","v":"Facture"},{"$f":"Factures1!$B$13","v":"2025-11-26"},null,{"$f":"Factures1!$B$14","v":"1011 / cr"},{"$f":"Factures1!$B$15","v":3338}]
[{"$f":"Factures1!A161","v":0},{"$f":"Factures1!B161","v":""},{"$f":"Factures1!C161","v":0},{"$f":"Factures1!D161","v":""},{"$f":"Factures1!E161","v":""},{"$f":"Factures1!F161","v":0},{"$f":"IF(Variables!$A$13=\"HT\",Factures1!G161+I146,Factures1!G161)","v":0},{"$f":"Factures1!H161","v":0},{"$f":"Factures1!I161","v":0},{"$f":"Factures1!$A$11","v":"Facture"},{"$f":"Factures1!$B$13","v":"2025-11-26"},null,{"$f":"Factures1!$B$14","v":"1011 / cr"},{"$f":"Factures1!$B$15","v":3338}]
[{"$f":"Factures1!A162","v":0},{"$f":"Factures1!B162","v":""},{"$f":"Factures1!C162","v":0},{"$f":"Factures1!D162","v":""},{"$f":"Factures1!E162","v":""},{"$f":"Factures1!F162","v":0},{"$f":"IF(Variables!$A$13=\"HT\",Factures1!G162+I147,Factures1!G162)","v":0},{"$f":"Factures1!H162","v":0},{"$f":"Factures1!I162","v":0},{"$f":"Factures1!$A$11","v":"Facture"},{"$f":"Factures1!$B$13","v":"2025-11-26"},null,{"$f":"Factures1!$B$14","v":"1011 / cr"},{"$f":"Factures1!$B$15","v":3338}]
[{"$f":"Factures1!A163","v":0},{"$f":"Factures1!B163","v":""},{"$f":"Factures1!C163","v":0},{"$f":"Factures1!D163","v":""},{"$f":"Factures1!E163","v":""},{"$f":"Factures1!F163","v":0},{"$f":"IF(Variables!$A$13=\"HT\",Factures1!G163+I148,Factures1!G163)","v":0},{"$f":"Factures1!H163","v":0},{"$f":"Factures1!I163","v":0},{"$f":"Factures1!$A$11","v":"Facture"},{"$f":"Factures1!$B$13","v":"2025-11-26"},null,{"$f":"Factures1!$B$14","v":"1011 / cr"},{"$f":"Factures1!$B$15","v":3338}]
[{"$f":"Factures1!A164","v":0},{"$f":"Factures1!B164","v":""},{"$f":"Factures1!C164","v":0},{"$f":"Factures1!D164","v":""},{"$f":"Factures1!E164","v":""},{"$f":"Factures1!F164","v":0},{"$f":"IF(Variables!$A$13=\"HT\",Factures1!G164+I149,Factures1!G164)","v":0},{"$f":"Factures1!H164","v":0},{"$f":"Factures1!I164","v":0},{"$f":"Factures1!$A$11","v":"Facture"},{"$f":"Factures1!$B$13","v":"2025-11-26"},null,{"$f":"Factures1!$B$14","v":"1011 / cr"},{"$f":"Factures1!$B$15","v":3338}]
[{"$f":"Factures1!A165","v":0},{"$f":"Factures1!B165","v":""},{"$f":"Factures1!C165","v":0},{"$f":"Factures1!D165","v":""},{"$f":"Factures1!E165","v":""},{"$f":"Factures1!F165","v":0},{"$f":"IF(Variables!$A$13=\"HT\",Factures1!G165+I150,Factures1!G165)","v":0},{"$f":"Factures1!H165","v":0},{"$f":"Factures1!I165","v":0},{"$f":"Factures1!$A$11","v":"Facture"},{"$f":"Factures1!$B$13","v":"2025-11-26"},null,{"$f":"Factures1!$B$14","v":"1011 / cr"},{"$f":"Factures1!$B$15","v":3338}]
[{"$f":"Factures1!A166","v":0},{"$f":"Factures1!B166","v":""},{"$f":"Factures1!C166","v":0},{"$f":"Factures1!D166","v":""},{"$f":"Factures1!E166","v":""},{"$f":"Factures1!F166","v":0},{"$f":"IF(Variables!$A$13=\"HT\",Factures1!G166+I151,Factures1!G166)","v":0},{"$f":"Factures1!H166","v":0},{"$f":"Factures1!I166","v":0},{"$f":"Factures1!$A$11","v":"Facture"},{"$f":"Factures1!$B$13","v":"2025-11-26"},null,{"$f":"Factures1!$B$14","v":"1011 / cr"},{"$f":"Factures1!$B$15","v":3338}]
[{"$f":"Factures1!A167","v":0},{"$f":"Factures1!B167","v":""},{"$f":"Factures1!C167","v":0},{"$f":"Factures1!D167","v":""},{"$f":"Factures1!E167","v":""},{"$f":"Factures1!F167","v":0},{"$f":"IF(Variables!$A$13=\"HT\",Factures1!G167+I152,Factures1!G167)","v":0},{"$f":"Factures1!H167","v":0},{"$f":"Factures1!I167","v":0},{"$f":"Factures1!$A$11","v":"Facture"},{"$f":"Factures1!$B$13","v":"2025-11-26"},null,{"$f":"Factures1!$B$14","v":"1011 / cr"},{"$f":"Factures1!$B$15","v":3338}]
[{"$f":"Factures1!A168","v":0},{"$f":"Factures1!B168","v":""},{"$f":"Factures1!C168","v":0},{"$f":"Factures1!D168","v":""},{"$f":"Factures1!E168","v":""},{"$f":"Factures1!F168","v":0},{"$f":"IF(Variables!$A$13=\"HT\",Factures1!G168+I153,Factures1!G168)","v":0},{"$f":"Factures1!H168","v":0},{"$f":"Factures1!I168","v":0},{"$f":"Factures1!$A$11","v":"Facture"},{"$f":"Factures1!$B$13","v":"2025-11-26"},null,{"$f":"Factures1!$B$14","v":"1011 / cr"},{"$f":"Factures1!$B$15","v":3338}]
[{"$f":"Factures1!A169","v":0},{"$f":"Factures1!B169","v":""},{"$f":"Factures1!C169","v":0},{"$f":"Factures1!D169","v":""},{"$f":"Factures1!E169","v":""},{"$f":"Factures1!F169","v":0},{"$f":"IF(Variables!$A$13=\"HT\",Factures1!G169+I154,Factures1!G169)","v":0},{"$f":"Factures1!H169","v":0},{"$f":"Factures1!I169","v":0},{"$f":"Factures1!$A$11","v":"Facture"},{"$f":"Factures1!$B$13","v":"2025-11-26"},null,{"$f":"Factures1!$B$14","v":"1011 / cr"},{"$f":"Factures1!$B$15","v":3338}]
[{"$f":"Factures1!A170","v":0},{"$f":"Factures1!B170","v":""},{"$f":"Factures1!C170","v":0},{"$f":"Factures1!D170","v":""},{"$f":"Factures1!E170","v":""},{"$f":"Factures1!F170","v":0},{"$f":"IF(Variables!$A$13=\"HT\",Factures1!G170+I155,Factures1!G170)","v":0},{"$f":"Factures1!H170","v":0},{"$f":"Factures1!I170","v":0},{"$f":"Factures1!$A$11","v":"Facture"},{"$f":"Factures1!$B$13","v":"2025-11-26"},null,{"$f":"Factures1!$B$14","v":"1011 / cr"},{"$f":"Factures1!$B$15","v":3338}]
[{"$f":"Factures1!A171","v":0},{"$f":"Factures1!B171","v":""},{"$f":"Factures1!C171","v":0},{"$f":"Factures1!D171","v":""},{"$f":"Factures1!E171","v":""},{"$f":"Factures1!F171","v":0},{"$f":"IF(Variables!$A$13=\"HT\",Factures1!G171+I156,Factures1!G171)","v":0},{"$f":"Factures1!H171","v":0},{"$f":"Factures1!I171","v":0},{"$f":"Factures1!$A$11","v":"Facture"},{"$f":"Factures1!$B$13","v":"2025-11-26"},null,{"$f":"Factures1!$B$14","v":"1011 / cr"},{"$f":"Factures1!$B$15","v":3338}]
[{"$f":"Factures1!A172","v":0},{"$f":"Factures1!B172","v":""},{"$f":"Factures1!C172","v":0},{"$f":"Factures1!D172","v":""},{"$f":"Factures1!E172","v":""},{"$f":"Factures1!F172","v":0},{"$f":"IF(Variables!$A$13=\"HT\",Factures1!G172+I157,Factures1!G172)","v":0},{"$f":"Factures1!H172","v":0},{"$f":"Factures1!I172","v":0},{"$f":"Factures1!$A$11","v":"Facture"},{"$f":"Factures1!$B$13","v":"2025-11-26"},null,{"$f":"Factures1!$B$14","v":"1011 / cr"},{"$f":"Factures1!$B$15","v":3338}]
[{"$f":"Factures1!A173","v":0},{"$f":"Factures1!B173","v":""},{"$f":"Factures1!C173","v":0},{"$f":"Factures1!D173","v":""},{"$f":"Factures1!E173","v":""},{"$f":"Factures1!F173","v":0},{"$f":"IF(Variables!$A$13=\"HT\",Factures1!G173+I158,Factures1!G173)","v":0},{"$f":"Factures1!H173","v":0},{"$f":"Factures1!I173","v":0},{"$f":"Factures1!$A$11","v":"Facture"},{"$f":"Factures1!$B$13","v":"2025-11-26"},null,{"$f":"Factures1!$B$14","v":"1011 / cr"},{"$f":"Factures1!$B$15","v":3338}]
[{"$f":"Factures1!A174","v":0},{"$f":"Factures1!B174","v":""},{"$f":"Factures1!C174","v":0},{"$f":"Factures1!D174","v":""},{"$f":"Factures1!E174","v":""},{"$f":"Factures1!F174","v":0},{"$f":"IF(Variables!$A$13=\"HT\",Factures1!G174+I159,Factures1!G174)","v":0},{"$f":"Factures1!H174","v":0},{"$f":"Factures1!I174","v":0},{"$f":"Factures1!$A$11","v":"Facture"},{"$f":"Factures1!$B$13","v":"2025-11-26"},null,{"$f":"Factures1!$B$14","v":"1011 / cr"},{"$f":"Factures1!$B$15","v":3338}]
[{"$f":"Factures1!A175","v":0},{"$f":"Factures1!B175","v":""},{"$f":"Factures1!C175","v":0},{"$f":"Factures1!D175","v":""},{"$f":"Factures1!E175","v":""},{"$f":"Factures1!F175","v":0},{"$f":"IF(Variables!$A$13=\"HT\",Factures1!G175+I160,Factures1!G175)","v":0},{"$f":"Factures1!H175","v":0},{"$f":"Factures1!I175","v":0},{"$f":"Factures1!$A$11","v":"Facture"},{"$f":"Factures1!$B$13","v":"2025-11-26"},null,{"$f":"Factures1!$B$14","v":"1011 / cr"},{"$f":"Factures1!$B$15","v":3338}]
[{"$f":"Factures1!A176","v":0},{"$f":"Factures1!B176","v":""},{"$f":"Factures1!C176","v":0},{"$f":"Factures1!D176","v":""},{"$f":"Factures1!E176","v":""},{"$f":"Factures1!F176","v":0},{"$f":"IF(Variables!$A$13=\"HT\",Factures1!G176+I161,Factures1!G176)","v":0},{"$f":"Factures1!H176","v":0},{"$f":"Factures1!I176","v":0},{"$f":"Factures1!$A$11","v":"Facture"},{"$f":"Factures1!$B$13","v":"2025-11-26"},null,{"$f":"Factures1!$B$14","v":"1011 / cr"},{"$f":"Factures1!$B$15","v":3338}]
[{"$f":"Factures1!A177","v":0},{"$f":"Factures1!B177","v":""},{"$f":"Factures1!C177","v":0},{"$f":"Factures1!D177","v":""},{"$f":"Factures1!E177","v":""},{"$f":"Factures1!F177","v":0},{"$f":"IF(Variables!$A$13=\"HT\",Factures1!G177+I162,Factures1!G177)","v":0},{"$f":"Factures1!H177","v":0},{"$f":"Factures1!I177","v":0},{"$f":"Factures1!$A$11","v":"Facture"},{"$f":"Factures1!$B$13","v":"2025-11-26"},null,{"$f":"Factures1!$B$14","v":"1011 / cr"},{"$f":"Factures1!$B$15","v":3338}]
[{"$f":"Factures1!A178","v":0},{"$f":"Factures1!B178","v":""},{"$f":"Factures1!C178","v":0},{"$f":"Factures1!D178","v":""},{"$f":"Factures1!E178","v":""},{"$f":"Factures1!F178","v":0},{"$f":"IF(Variables!$A$13=\"HT\",Factures1!G178+I163,Factures1!G178)","v":0},{"$f":"Factures1!H178","v":0},{"$f":"Factures1!I178","v":0},{"$f":"Factures1!$A$11","v":"Facture"},{"$f":"Factures1!$B$13","v":"2025-11-26"},null,{"$f":"Factures1!$B$14","v":"1011 / cr"},{"$f":"Factures1!$B$15","v":3338}]
[{"$f":"Factures1!A179","v":0},{"$f":"Factures1!B179","v":""},{"$f":"Factures1!C179","v":0},{"$f":"Factures1!D179","v":""},{"$f":"Factures1!E179","v":""},{"$f":"Factures1!F179","v":0},{"$f":"IF(Variables!$A$13=\"HT\",Factures1!G179+I164,Factures1!G179)","v":0},{"$f":"Factures1!H179","v":0},{"$f":"Factures1!I179","v":0},{"$f":"Factures1!$A$11","v":"Facture"},{"$f":"Factures1!$B$13","v":"2025-11-26"},null,{"$f":"Factures1!$B$14","v":"1011 / cr"},{"$f":"Factures1!$B$15","v":3338}]
[{"$f":"Factures1!A180","v":0},{"$f":"Factures1!B180","v":""},{"$f":"Factures1!C180","v":0},{"$f":"Factures1!D180","v":""},{"$f":"Factures1!E180","v":""},{"$f":"Factures1!F180","v":0},{"$f":"IF(Variables!$A$13=\"HT\",Factures1!G180+I165,Factures1!G180)","v":0},{"$f":"Factures1!H180","v":0},{"$f":"Factures1!I180","v":0},{"$f":"Factures1!$A$11","v":"Facture"},{"$f":"Factures1!$B$13","v":"2025-11-26"},null,{"$f":"Factures1!$B$14","v":"1011 / cr"},{"$f":"Factures1!$B$15","v":3338}]
[{"$f":"Factures1!A181","v":0},{"$f":"Factures1!B181","v":""},{"$f":"Factures1!C181","v":0},{"$f":"Factures1!D181","v":""},{"$f":"Factures1!E181","v":""},{"$f":"Factures1!F181","v":0},{"$f":"IF(Variables!$A$13=\"HT\",Factures1!G181+I166,Factures1!G181)","v":0},{"$f":"Factures1!H181","v":0},{"$f":"Factures1!I181","v":0},{"$f":"Factures1!$A$11","v":"Facture"},{"$f":"Factures1!$B$13","v":"2025-11-26"},null,{"$f":"Factures1!$B$14","v":"1011 / cr"},{"$f":"Factures1!$B$15","v":3338}]
[{"$f":"Factures1!A182","v":0},{"$f":"Factures1!B182","v":""},{"$f":"Factures1!C182","v":0},{"$f":"Factures1!D182","v":""},{"$f":"Factures1!E182","v":""},{"$f":"Factures1!F182","v":0},{"$f":"IF(Variables!$A$13=\"HT\",Factures1!G182+I167,Factures1!G182)","v":0},{"$f":"Factures1!H182","v":0},{"$f":"Factures1!I182","v":0},{"$f":"Factures1!$A$11","v":"Facture"},{"$f":"Factures1!$B$13","v":"2025-11-26"},null,{"$f":"Factures1!$B$14","v":"1011 / cr"},{"$f":"Factures1!$B$15","v":3338}]
[{"$f":"Factures1!A183","v":0},{"$f":"Factures1!B183","v":""},{"$f":"Factures1!C183","v":0},{"$f":"Factures1!D183","v":""},{"$f":"Factures1!E183","v":""},{"$f":"Factures1!F183","v":0},{"$f":"IF(Variables!$A$13=\"HT\",Factures1!G183+I168,Factures1!G183)","v":0},{"$f":"Factures1!H183","v":0},{"$f":"Factures1!I183","v":0},{"$f":"Factures1!$A$11","v":"Facture"},{"$f":"Factures1!$B$13","v":"2025-11-26"},null,{"$f":"Factures1!$B$14","v":"1011 / cr"},{"$f":"Factures1!$B$15","v":3338}]
[{"$f":"Factures1!A184","v":0},{"$f":"Factures1!B184","v":""},{"$f":"Factures1!C184","v":0},{"$f":"Factures1!D184","v":""},{"$f":"Factures1!E184","v":""},{"$f":"Factures1!F184","v":0},{"$f":"IF(Variables!$A$13=\"HT\",Factures1!G184+I169,Factures1!G184)","v":0},{"$f":"Factures1!H184","v":0},{"$f":"Factures1!I184","v":0},{"$f":"Factures1!$A$11","v":"Facture"},{"$f":"Factures1!$B$13","v":"2025-11-26"},null,{"$f":"Factures1!$B$14","v":"1011 / cr"},{"$f":"Factures1!$B$15","v":3338}]
[{"$f":"Factures1!A185","v":0},{"$f":"Factures1!B185","v":""},{"$f":"Factures1!C185","v":0},{"$f":"Factures1!D185","v":""},{"$f":"Factures1!E185","v":""},{"$f":"Factures1!F185","v":0},{"$f":"IF(Variables!$A$13=\"HT\",Factures1!G185+I170,Factures1!G185)","v":0},{"$f":"Factures1!H185","v":0},{"$f":"Factures1!I185","v":0},{"$f":"Factures1!$A$11","v":"Facture"},{"$f":"Factures1!$B$13","v":"2025-11-26"},null,{"$f":"Factures1!$B$14","v":"1011 / cr"},{"$f":"Factures1!$B$15","v":3338}]
[{"$f":"Factures1!A186","v":0},{"$f":"Factures1!B186","v":""},{"$f":"Factures1!C186","v":0},{"$f":"Factures1!D186","v":""},{"$f":"Factures1!E186","v":""},{"$f":"Factures1!F186","v":0},{"$f":"IF(Variables!$A$13=\"HT\",Factures1!G186+I171,Factures1!G186)","v":0},{"$f":"Factures1!H186","v":0},{"$f":"Factures1!I186","v":0},{"$f":"Factures1!$A$11","v":"Facture"},{"$f":"Factures1!$B$13","v":"2025-11-26"},null,{"$f":"Factures1!$B$14","v":"1011 / cr"},{"$f":"Factures1!$B$15","v":3338}]
[{"$f":"Factures1!A187","v":0},{"$f":"Factures1!B187","v":""},{"$f":"Factures1!C187","v":0},{"$f":"Factures1!D187","v":""},{"$f":"Factures1!E187","v":""},{"$f":"Factures1!F187","v":0},{"$f":"IF(Variables!$A$13=\"HT\",Factures1!G187+I172,Factures1!G187)","v":0},{"$f":"Factures1!H187","v":0},{"$f":"Factures1!I187","v":0},{"$f":"Factures1!$A$11","v":"Facture"},{"$f":"Factures1!$B$13","v":"2025-11-26"},null,{"$f":"Factures1!$B$14","v":"1011 / cr"},{"$f":"Factures1!$B$15","v":3338}]
[{"$f":"Factures1!A188","v":0},{"$f":"Factures1!B188","v":""},{"$f":"Factures1!C188","v":0},{"$f":"Factures1!D188","v":""},{"$f":"Factures1!E188","v":""},{"$f":"Factures1!F188","v":0},{"$f":"IF(Variables!$A$13=\"HT\",Factures1!G188+I173,Factures1!G188)","v":0},{"$f":"Factures1!H188","v":0},{"$f":"Factures1!I188","v":0},{"$f":"Factures1!$A$11","v":"Facture"},{"$f":"Factures1!$B$13","v":"2025-11-26"},null,{"$f":"Factures1!$B$14","v":"1011 / cr"},{"$f":"Factures1!$B$15","v":3338}]
[{"$f":"Factures1!A189","v":0},{"$f":"Factures1!B189","v":""},{"$f":"Factures1!C189","v":0},{"$f":"Factures1!D189","v":""},{"$f":"Factures1!E189","v":""},{"$f":"Factures1!F189","v":0},{"$f":"IF(Variables!$A$13=\"HT\",Factures1!G189+I174,Factures1!G189)","v":0},{"$f":"Factures1!H189","v":0},{"$f":"Factures1!I189","v":0},{"$f":"Factures1!$A$11","v":"Facture"},{"$f":"Factures1!$B$13","v":"2025-11-26"},null,{"$f":"Factures1!$B$14","v":"1011 / cr"},{"$f":"Factures1!$B$15","v":3338}]
[{"$f":"Factures1!A190","v":0},{"$f":"Factures1!B190","v":""},{"$f":"Factures1!C190","v":0},{"$f":"Factures1!D190","v":""},{"$f":"Factures1!E190","v":""},{"$f":"Factures1!F190","v":0},{"$f":"IF(Variables!$A$13=\"HT\",Factures1!G190+I175,Factures1!G190)","v":0},{"$f":"Factures1!H190","v":0},{"$f":"Factures1!I190","v":0},{"$f":"Factures1!$A$11","v":"Facture"},{"$f":"Factures1!$B$13","v":"2025-11-26"},null,{"$f":"Factures1!$B$14","v":"1011 / cr"},{"$f":"Factures1!$B$15","v":3338}]
[{"$f":"Factures1!A191","v":0},{"$f":"Factures1!B191","v":""},{"$f":"Factures1!C191","v":0},{"$f":"Factures1!D191","v":""},{"$f":"Factures1!E191","v":""},{"$f":"Factures1!F191","v":0},{"$f":"IF(Variables!$A$13=\"HT\",Factures1!G191+I176,Factures1!G191)","v":0},{"$f":"Factures1!H191","v":0},{"$f":"Factures1!I191","v":0},{"$f":"Factures1!$A$11","v":"Facture"},{"$f":"Factures1!$B$13","v":"2025-11-26"},null,{"$f":"Factures1!$B$14","v":"1011 / cr"},{"$f":"Factures1!$B$15","v":3338}]
[{"$f":"Factures1!A192","v":0},{"$f":"Factures1!B192","v":""},{"$f":"Factures1!C192","v":0},{"$f":"Factures1!D192","v":""},{"$f":"Factures1!E192","v":""},{"$f":"Factures1!F192","v":0},{"$f":"IF(Variables!$A$13=\"HT\",Factures1!G192+I177,Factures1!G192)","v":0},{"$f":"Factures1!H192","v":0},{"$f":"Factures1!I192","v":0},{"$f":"Factures1!$A$11","v":"Facture"},{"$f":"Factures1!$B$13","v":"2025-11-26"},null,{"$f":"Factures1!$B$14","v":"1011 / cr"},{"$f":"Factures1!$B$15","v":3338}]
[{"$f":"Factures1!A193","v":0},{"$f":"Factures1!B193","v":""},{"$f":"Factures1!C193","v":0},{"$f":"Factures1!D193","v":""},{"$f":"Factures1!E193","v":""},{"$f":"Factures1!F193","v":0},{"$f":"IF(Variables!$A$13=\"HT\",Factures1!G193+I178,Factures1!G193)","v":0},{"$f":"Factures1!H193","v":0},{"$f":"Factures1!I193","v":0},{"$f":"Factures1!$A$11","v":"Facture"},{"$f":"Factures1!$B$13","v":"2025-11-26"},null,{"$f":"Factures1!$B$14","v":"1011 / cr"},{"$f":"Factures1!$B$15","v":3338}]
[{"$f":"Factures1!A194","v":0},{"$f":"Factures1!B194","v":""},{"$f":"Factures1!C194","v":0},{"$f":"Factures1!D194","v":""},{"$f":"Factures1!E194","v":""},{"$f":"Factures1!F194","v":0},{"$f":"IF(Variables!$A$13=\"HT\",Factures1!G194+I179,Factures1!G194)","v":0},{"$f":"Factures1!H194","v":0},{"$f":"Factures1!I194","v":0},{"$f":"Factures1!$A$11","v":"Facture"},{"$f":"Factures1!$B$13","v":"2025-11-26"},null,{"$f":"Factures1!$B$14","v":"1011 / cr"},{"$f":"Factures1!$B$15","v":3338}]
[{"$f":"Factures1!A195","v":0},{"$f":"Factures1!B195","v":""},{"$f":"Factures1!C195","v":0},{"$f":"Factures1!D195","v":""},{"$f":"Factures1!E195","v":""},{"$f":"Factures1!F195","v":0},{"$f":"IF(Variables!$A$13=\"HT\",Factures1!G195+I180,Factures1!G195)","v":0},{"$f":"Factures1!H195","v":0},{"$f":"Factures1!I195","v":0},{"$f":"Factures1!$A$11","v":"Facture"},{"$f":"Factures1!$B$13","v":"2025-11-26"},null,{"$f":"Factures1!$B$14","v":"1011 / cr"},{"$f":"Factures1!$B$15","v":3338}]
[{"$f":"Factures1!A196","v":0},{"$f":"Factures1!B196","v":""},{"$f":"Factures1!C196","v":0},{"$f":"Factures1!D196","v":""},{"$f":"Factures1!E196","v":""},{"$f":"Factures1!F196","v":0},{"$f":"IF(Variables!$A$13=\"HT\",Factures1!G196+I181,Factures1!G196)","v":0},{"$f":"Factures1!H196","v":0},{"$f":"Factures1!I196","v":0},{"$f":"Factures1!$A$11","v":"Facture"},{"$f":"Factures1!$B$13","v":"2025-11-26"},null,{"$f":"Factures1!$B$14","v":"1011 / cr"},{"$f":"Factures1!$B$15","v":3338}]
[{"$f":"Factures1!A197","v":0},{"$f":"Factures1!B197","v":""},{"$f":"Factures1!C197","v":0},{"$f":"Factures1!D197","v":""},{"$f":"Factures1!E197","v":""},{"$f":"Factures1!F197","v":0},{"$f":"IF(Variables!$A$13=\"HT\",Factures1!G197+I182,Factures1!G197)","v":0},{"$f":"Factures1!H197","v":0},{"$f":"Factures1!I197","v":0},{"$f":"Factures1!$A$11","v":"Facture"},{"$f":"Factures1!$B$13","v":"2025-11-26"},null,{"$f":"Factures1!$B$14","v":"1011 / cr"},{"$f":"Factures1!$B$15","v":3338}]
[{"$f":"Factures1!A198","v":0},{"$f":"Factures1!B198","v":""},{"$f":"Factures1!C198","v":0},{"$f":"Factures1!D198","v":""},{"$f":"Factures1!E198","v":""},{"$f":"Factures1!F198","v":0},{"$f":"IF(Variables!$A$13=\"HT\",Factures1!G198+I183,Factures1!G198)","v":0},{"$f":"Factures1!H198","v":0},{"$f":"Factures1!I198","v":0},{"$f":"Factures1!$A$11","v":"Facture"},{"$f":"Factures1!$B$13","v":"2025-11-26"},null,{"$f":"Factures1!$B$14","v":"1011 / cr"},{"$f":"Factures1!$B$15","v":3338}]
[{"$f":"Factures1!A199","v":0},{"$f":"Factures1!B199","v":""},{"$f":"Factures1!C199","v":0},{"$f":"Factures1!D199","v":""},{"$f":"Factures1!E199","v":""},{"$f":"Factures1!F199","v":0},{"$f":"IF(Variables!$A$13=\"HT\",Factures1!G199+I184,Factures1!G199)","v":0},{"$f":"Factures1!H199","v":0},{"$f":"Factures1!I199","v":0},{"$f":"Factures1!$A$11","v":"Facture"},{"$f":"Factures1!$B$13","v":"2025-11-26"},null,{"$f":"Factures1!$B$14","v":"1011 / cr"},{"$f":"Factures1!$B$15","v":3338}]
[{"$f":"Factures1!A200","v":0},{"$f":"Factures1!B200","v":""},{"$f":"Factures1!C200","v":0},{"$f":"Factures1!D200","v":""},{"$f":"Factures1!E200","v":""},{"$f":"Factures1!F200","v":0},{"$f":"IF(Variables!$A$13=\"HT\",Factures1!G200+I185,Factures1!G200)","v":0},{"$f":"Factures1!H200","v":0},{"$f":"Factures1!I200","v":0},{"$f":"Factures1!$A$11","v":"Facture"},{"$f":"Factures1!$B$13","v":"2025-11-26"},null,{"$f":"Factures1!$B$14","v":"1011 / cr"},{"$f":"Factures1!$B$15","v":3338}]
[{"$f":"Factures1!A201","v":0},{"$f":"Factures1!B201","v":""},{"$f":"Factures1!C201","v":0},{"$f":"Factures1!D201","v":""},{"$f":"Factures1!E201","v":""},{"$f":"Factures1!F201","v":0},{"$f":"IF(Variables!$A$13=\"HT\",Factures1!G201+I186,Factures1!G201)","v":0},{"$f":"Factures1!H201","v":0},{"$f":"Factures1!I201","v":0},{"$f":"Factures1!$A$11","v":"Facture"},{"$f":"Factures1!$B$13","v":"2025-11-26"},null,{"$f":"Factures1!$B$14","v":"1011 / cr"},{"$f":"Factures1!$B$15","v":3338}]
[{"$f":"Factures1!A202","v":0},{"$f":"Factures1!B202","v":""},{"$f":"Factures1!C202","v":0},{"$f":"Factures1!D202","v":""},{"$f":"Factures1!E202","v":""},{"$f":"Factures1!F202","v":0},{"$f":"IF(Variables!$A$13=\"HT\",Factures1!G202+I187,Factures1!G202)","v":0},{"$f":"Factures1!H202","v":0},{"$f":"Factures1!I202","v":0},{"$f":"Factures1!$A$11","v":"Facture"},{"$f":"Factures1!$B$13","v":"2025-11-26"},null,{"$f":"Factures1!$B$14","v":"1011 / cr"},{"$f":"Factures1!$B$15","v":3338}]
[{"$f":"Factures1!A203","v":0},{"$f":"Factures1!B203","v":""},{"$f":"Factures1!C203","v":0},{"$f":"Factures1!D203","v":""},{"$f":"Factures1!E203","v":""},{"$f":"Factures1!F203","v":0},{"$f":"IF(Variables!$A$13=\"HT\",Factures1!G203+I188,Factures1!G203)","v":0},{"$f":"Factures1!H203","v":0},{"$f":"Factures1!I203","v":0},{"$f":"Factures1!$A$11","v":"Facture"},{"$f":"Factures1!$B$13","v":"2025-11-26"},null,{"$f":"Factures1!$B$14","v":"1011 / cr"},{"$f":"Factures1!$B$15","v":3338}]
[{"$f":"Factures1!A204","v":0},{"$f":"Factures1!B204","v":""},{"$f":"Factures1!C204","v":0},{"$f":"Factures1!D204","v":""},{"$f":"Factures1!E204","v":""},{"$f":"Factures1!F204","v":0},{"$f":"IF(Variables!$A$13=\"HT\",Factures1!G204+I189,Factures1!G204)","v":0},{"$f":"Factures1!H204","v":0},{"$f":"Factures1!I204","v":0},{"$f":"Factures1!$A$11","v":"Facture"},{"$f":"Factures1!$B$13","v":"2025-11-26"},null,{"$f":"Factures1!$B$14","v":"1011 / cr"},{"$f":"Factures1!$B$15","v":3338}]
[{"$f":"Factures1!A205","v":0},{"$f":"Factures1!B205","v":""},{"$f":"Factures1!C205","v":0},{"$f":"Factures1!D205","v":""},{"$f":"Factures1!E205","v":""},{"$f":"Factures1!F205","v":0},{"$f":"IF(Variables!$A$13=\"HT\",Factures1!G205+I190,Factures1!G205)","v":0},{"$f":"Factures1!H205","v":0},{"$f":"Factures1!I205","v":0},{"$f":"Factures1!$A$11","v":"Facture"},{"$f":"Factures1!$B$13","v":"2025-11-26"},null,{"$f":"Factures1!$B$14","v":"1011 / cr"},{"$f":"Factures1!$B$15","v":3338}]
[{"$f":"Factures1!A206","v":0},{"$f":"Factures1!B206","v":""},{"$f":"Factures1!C206","v":0},{"$f":"Factures1!D206","v":""},{"$f":"Factures1!E206","v":""},{"$f":"Factures1!F206","v":0},{"$f":"IF(Variables!$A$13=\"HT\",Factures1!G206+I191,Factures1!G206)","v":0},{"$f":"Factures1!H206","v":0},{"$f":"Factures1!I206","v":0},{"$f":"Factures1!$A$11","v":"Facture"},{"$f":"Factures1!$B$13","v":"2025-11-26"},null,{"$f":"Factures1!$B$14","v":"1011 / cr"},{"$f":"Factures1!$B$15","v":3338}]
[{"$f":"Factures1!A207","v":0},{"$f":"Factures1!B207","v":""},{"$f":"Factures1!C207","v":0},{"$f":"Factures1!D207","v":""},{"$f":"Factures1!E207","v":""},{"$f":"Factures1!F207","v":0},{"$f":"IF(Variables!$A$13=\"HT\",Factures1!G207+I192,Factures1!G207)","v":0},{"$f":"Factures1!H207","v":0},{"$f":"Factures1!I207","v":0},{"$f":"Factures1!$A$11","v":"Facture"},{"$f":"Factures1!$B$13","v":"2025-11-26"},null,{"$f":"Factures1!$B$14","v":"1011 / cr"},{"$f":"Factures1!$B$15","v":3338}]
[{"$f":"Factures1!A208","v":0},{"$f":"Factures1!B208","v":""},{"$f":"Factures1!C208","v":0},{"$f":"Factures1!D208","v":""},{"$f":"Factures1!E208","v":""},{"$f":"Factures1!F208","v":0},{"$f":"IF(Variables!$A$13=\"HT\",Factures1!G208+I193,Factures1!G208)","v":0},{"$f":"Factures1!H208","v":0},{"$f":"Factures1!I208","v":0},{"$f":"Factures1!$A$11","v":"Facture"},{"$f":"Factures1!$B$13","v":"2025-11-26"},null,{"$f":"Factures1!$B$14","v":"1011 / cr"},{"$f":"Factures1!$B$15","v":3338}]
[{"$f":"Factures1!A209","v":0},{"$f":"Factures1!B209","v":""},{"$f":"Factures1!C209","v":0},{"$f":"Factures1!D209","v":""},{"$f":"Factures1!E209","v":""},{"$f":"Factures1!F209","v":0},{"$f":"IF(Variables!$A$13=\"HT\",Factures1!G209+I194,Factures1!G209)","v":0},{"$f":"Factures1!H209","v":0},{"$f":"Factures1!I209","v":0},{"$f":"Factures1!$A$11","v":"Facture"},{"$f":"Factures1!$B$13","v":"2025-11-26"},null,{"$f":"Factures1!$B$14","v":"1011 / cr"},{"$f":"Factures1!$B$15","v":3338}]
[{"$f":"Factures1!A210","v":0},{"$f":"Factures1!B210","v":""},{"$f":"Factures1!C210","v":0},{"$f":"Factures1!D210","v":""},{"$f":"Factures1!E210","v":""},{"$f":"Factures1!F210","v":0},{"$f":"IF(Variables!$A$13=\"HT\",Factures1!G210+I195,Factures1!G210)","v":0},{"$f":"Factures1!H210","v":0},{"$f":"Factures1!I210","v":0},{"$f":"Factures1!$A$11","v":"Facture"},{"$f":"Factures1!$B$13","v":"2025-11-26"},null,{"$f":"Factures1!$B$14","v":"1011 / cr"},{"$f":"Factures1!$B$15","v":3338}]
[{"$f":"Factures1!A211","v":0},{"$f":"Factures1!B211","v":""},{"$f":"Factures1!C211","v":0},{"$f":"Factures1!D211","v":""},{"$f":"Factures1!E211","v":""},{"$f":"Factures1!F211","v":0},{"$f":"IF(Variables!$A$13=\"HT\",Factures1!G211+I196,Factures1!G211)","v":0},{"$f":"Factures1!H211","v":0},{"$f":"Factures1!I211","v":0},{"$f":"Factures1!$A$11","v":"Facture"},{"$f":"Factures1!$B$13","v":"2025-11-26"},null,{"$f":"Factures1!$B$14","v":"1011 / cr"},{"$f":"Factures1!$B$15","v":3338}]
[{"$f":"Factures1!A212","v":0},{"$f":"Factures1!B212","v":""},{"$f":"Factures1!C212","v":0},{"$f":"Factures1!D212","v":""},{"$f":"Factures1!E212","v":""},{"$f":"Factures1!F212","v":0},{"$f":"IF(Variables!$A$13=\"HT\",Factures1!G212+I197,Factures1!G212)","v":0},{"$f":"Factures1!H212","v":0},{"$f":"Factures1!I212","v":0},{"$f":"Factures1!$A$11","v":"Facture"},{"$f":"Factures1!$B$13","v":"2025-11-26"},null,{"$f":"Factures1!$B$14","v":"1011 / cr"},{"$f":"Factures1!$B$15","v":3338}]
[{"$f":"Factures1!A213","v":0},{"$f":"Factures1!B213","v":""},{"$f":"Factures1!C213","v":0},{"$f":"Factures1!D213","v":""},{"$f":"Factures1!E213","v":""},{"$f":"Factures1!F213","v":0},{"$f":"IF(Variables!$A$13=\"HT\",Factures1!G213+I198,Factures1!G213)","v":0},{"$f":"Factures1!H213","v":0},{"$f":"Factures1!I213","v":0},{"$f":"Factures1!$A$11","v":"Facture"},{"$f":"Factures1!$B$13","v":"2025-11-26"},null,{"$f":"Factures1!$B$14","v":"1011 / cr"},{"$f":"Factures1!$B$15","v":3338}]
[{"$f":"Factures1!A214","v":0},{"$f":"Factures1!B214","v":""},{"$f":"Factures1!C214","v":0},{"$f":"Factures1!D214","v":""},{"$f":"Factures1!E214","v":""},{"$f":"Factures1!F214","v":0},{"$f":"IF(Variables!$A$13=\"HT\",Factures1!G214+I199,Factures1!G214)","v":0},{"$f":"Factures1!H214","v":0},{"$f":"Factures1!I214","v":0},{"$f":"Factures1!$A$11","v":"Facture"},{"$f":"Factures1!$B$13","v":"2025-11-26"},null,{"$f":"Factures1!$B$14","v":"1011 / cr"},{"$f":"Factures1!$B$15","v":3338}]
[{"$f":"Factures1!A215","v":0},{"$f":"Factures1!B215","v":""},{"$f":"Factures1!C215","v":0},{"$f":"Factures1!D215","v":""},{"$f":"Factures1!E215","v":""},{"$f":"Factures1!F215","v":0},{"$f":"IF(Variables!$A$13=\"HT\",Factures1!G215+I200,Factures1!G215)","v":0},{"$f":"Factures1!H215","v":0},{"$f":"Factures1!I215","v":0},{"$f":"Factures1!$A$11","v":"Facture"},{"$f":"Factures1!$B$13","v":"2025-11-26"},null,{"$f":"Factures1!$B$14","v":"1011 / cr"},{"$f":"Factures1!$B$15","v":3338}]
[{"$f":"Factures1!A216","v":0},{"$f":"Factures1!B216","v":""},{"$f":"Factures1!C216","v":0},{"$f":"Factures1!D216","v":""},{"$f":"Factures1!E216","v":""},{"$f":"Factures1!F216","v":0},{"$f":"IF(Variables!$A$13=\"HT\",Factures1!G216+I201,Factures1!G216)","v":0},{"$f":"Factures1!H216","v":0},{"$f":"Factures1!I216","v":0},{"$f":"Factures1!$A$11","v":"Facture"},{"$f":"Factures1!$B$13","v":"2025-11-26"},null,{"$f":"Factures1!$B$14","v":"1011 / cr"},{"$f":"Factures1!$B$15","v":3338}]
[]
[" Référence"," Désignation","Qté","Unité","P.U.","%","Total net","T","TVA","Type doc","Date doc","Rem1","N°/réf.","V/n° client","Val C15","Total net","TVA","Total final","PiedPageN°","Total TVA1","Total TVA2","Imprimer","Cat. Pers","En faveur\nN°","En faveur Nom","Échéance","Dépassement","Paiement (inclure l'éventuel Acompte col AI)","Date Paiement","Type Paiement","Remarque","Blank","Ligne225","Ligne226","Acompte","État du stock"]
[1000,"Article 1000",3,"litre",100,10,290.79000000000002,1,20.79,"Facture","2023-04-12",0,"1000 / cr",2,1,270,20.79,290.8,2,20.79,0,"Imprimer",0,0,{"$error":"#N/A"},"2023-05-12",{"$f":"TODAY()-Z204","v":929},null,null,null,null,null,0,1,0,0]
[".","",0,"","",0,0,0,0,"Facture","2023-04-12",null,"1000 / cr",2]
[1234,"Article n° 1234",1,"Unité",1234,5,1262.5671,1,90.267099999999985,"Facture","2023-04-12",0,"1001 / rr",3,1,1197.0999999999999,92.176699999999983,1289.3,2,92.176699999999983,0,"Imprimer",0,0,{"$error":"#N/A"},"2023-05-12",{"$f":"TODAY()-Z206","v":929},null,null,null,null,null,0,1,0,0]
[9999,"Frais d'envoi",1,"Selon poids",24.8,0,26.709600000000002,1,1.9096000000000002,"Facture","2023-04-12",null,"1001 / rr",3]
[1104,"Article n° 1104",1,"Unité",1104,15,1010.6568,1,72.256799999999998,"Facture","2023-04-12",0,"1002 / tr",4,1,946.4,72.872799999999998,1019.25,2,72.872799999999998,0,"Imprimer",0,0,{"$error":"#N/A"},"2023-05-12",{"$f":"TODAY()-Z208","v":929},null,null,null,null,null,0,1,0,0]
[9999,"Frais d'envoi",1,"Selon poids",8,0,8.6159999999999997,1,0.61599999999999999,"Facture","2023-04-12",null,"1002 / tr",4]
[1600,"Article n° 1600",1,"Unité",1600,7,1488,1,106.38440111420618,"Facture","2023-04-12",0,"1003 / cr",3338,1,1383.4726090993499,106.52739090065,1490,2,106.52739090065,0,"Imprimer",0,0,{"$error":"#N/A"},"2023-05-12",{"$f":"TODAY()-Z210","v":929},null,null,null,null,null,0,1,0,0]
[9999,"Frais d'envoi",1,"Selon poids",2,0,2,1,0.14298978644382543,"Facture","2023-04-12",null,"1003 / cr",3338]
[1135,"Article n° 1135",2,"Unité",1135,0,2270,1,162.29340761374215,"Facture","2023-04-12",0,"1004 / tr",2,1,2109.5636025998142,162.43639740018597,2272,2,162.43639740018597,0,"Imprimer",0,0,{"$error":"#N/A"},"2023-05-12",{"$f":"TODAY()-Z212","v":929},null,null,null,null,null,0,1,0,0]
[9999,"Frais d'envoi",1,"Selon poids",2,0,2,1,0.14298978644382543,"Facture","2023-04-12",null,"1004 / tr",2]
[1138,"Article n° 1138",1,"Unité",1138,0,1138,1,81.361188486536776,"Facture","2023-04-14",0,"1005 / cr",3,1,1083.104015218425,82.495984781574933,1165.5999999999999,2,82.061838440111515,0.43414634146341413,"Imprimer",0,0,{"$error":"#N/A"},"2023-05-14",{"$f":"TODAY()-Z214","v":927},null,null,null,null,null,0,1,0,0]
[1016,"Tintin Le Lotus Bleu",1,"BD",17.8,0,17.8,2,0.43414634146341413,"Facture","2023-04-14",null,"1005 / cr",3]
[9999,"Frais d'envoi",1,"Selon poids",9.8000000000000007,0,9.8000000000000007,1,0.7006499535747448,"Facture","2023-04-14",null,"1005 / cr",3]
[1006,"Astérix et Cléopatre",2,"BD",14.8,10,26.64,2,0.64975609756097441,"Facture","2023-04-14",0,"1006 / tr",4,1,66.348130534230123,2.1318694657698654,68.5,2,0.7006499535747448,1.4312195121951206,"Imprimer",0,0,{"$error":"#N/A"},"2023-05-14",{"$f":"TODAY()-Z217","v":927},null,null,null,null,null,0,1,0,0]
[1019,"Tintin et les Picaros",1,"BD",17.8,10,16.02,2,0.39073170731707307,"Facture","2023-04-14",null,"1006 / tr",4]
[1018,"Tintin On a marché sur la Lune",1,"BD",17.8,10,16.02,2,0.39073170731707307,"Facture","2023-04-14",null,"1006 / tr",4]
[9999,"Frais d'envoi",1,"Selon poids",9.8000000000000007,0,9.8000000000000007,1,0.7006499535747448,"Facture","2023-04-14",null,"1006 / tr",4]
[1018,"Tintin On a marché sur la Lune",1,"BD",17.8,0,17.8,2,0.43414634146341413,"Facture","2024-03-17",0,"1007 / cr",3338,1,39.232918903005185,1.3670810969948137,40.6,2,0.57195914577530171,0.79512195121951201,"Imprimer",0,0,{"$error":"#N/A"},"2024-04-16",{"$f":"TODAY()-Z221","v":589},null,null,null,null,null,0,1,0,0]
[1011,"Astérix Le Bouclier Arverne",1,"BD",14.8,0,14.8,2,0.36097560975609788,"Facture","2024-03-17",null,"1007 / cr",3338]
[9999,"Frais d'envoi",1,"Selon poids",8,0,8,1,0.57195914577530171,"Facture","2024-03-17",null,"1007 / cr",3338]
[1017,"Tintin L'Oreille Cassée",1,"BD",17.8,0,17.8,2,0.43414634146341413,"Facture","2025-11-25",0,"1008 / cr",3,1,984.86817492130342,74.931825078696491,1059.8,2,74.497678737233073,0.43414634146341413,"Imprimer",0,0,{"$error":"#N/A"},"2025-12-25",{"$f":"TODAY()-Z224","v":-29},null,null,null,null,null,0,1,0,0]
[1020,"Peinture intérieur dispersion\nChambre Ouest Surface murale: 128m2\nLe prix comprend:\n- fourniture à pied d’oeuvre des matériaux et matériels nécessaires;\n- protection des parties d’ouvrage non concernées;\n- grattage des peintures existantes;\n- brossage à la brosse métallique, lavage, jusqu’à l’obtention d’un support propre;\n- 1 couche d’impression;\n- nettoyage après travaux",1,"Forfait",1034,0,1034,1,73.925719591457778,"Facture","2025-11-25",null,"1008 / cr",3]
[9999,"Frais d'envoi",1,"Selon poids",8,0,8,1,0.57195914577530171,"Facture","2025-11-25",null,"1008 / cr",3]
[7610196061605,"Guide d'utilisation Ordinateur de poche du Psion Serie 3mx ",1,"Livre",9.3000000000000007,0,9.3000000000000007,1,0.66490250696378794,"Facture","2025-11-25",0,"1009 / cr",4,1,314.11327762302693,24.186722376973055,338.3,2,24.186722376973055,0,"Imprimer",0,0,{"$error":"#N/A"},"2025-12-25",{"$f":"TODAY()-Z227","v":-29},null,null,null,null,null,0,1,0,0]
[7613269320289,"Rack DJ: table de mix, double lecteur CD, micro hf, limiteur",1,"Sono",350,6,329,1,23.521819870009267,"Facture","2025-11-25",null,"1009 / cr",4]
[1010,"Astérix Légionnaire",2,"BD",14.8,5,28.12,2,0.68585365853658686,"Facture","2025-11-25",0,"1010 / tr",3338,1,49.301211585932016,1.6187884140679865,50.9,9,0.57195914577530171,1.0468292682926847,"Imprimer",0,0,{"$error":"#N/A"},"2025-12-25",{"$f":"TODAY()-Z229","v":-29},null,null,null,null,null,0,3,0,0]
[1006,"Astérix et Cléopatre",1,"BD",14.8,0,14.8,2,0.36097560975609788,"Facture","2025-11-25",null,"1010 / tr",3338]
[9999,"Frais d'envoi",1,"Selon poids",8,0,8,1,0.57195914577530171,"Facture","2025-11-25",null,"1010 / tr",3338]

{"sheet":"nrA","index":7,"n_rows":200,"n_cols":2,"rows_kept":200,"cut":false,"hidden":true,"merged":[]}
["$A$2",2]
["$A$3",3]
["$A$4",4]
["$A$5",5]
["$A$6",6]
["$A$7",7]
["$A$8",8]
["$A$9",9]
["$A$10",10]
["$A$11",11]
["$A$12",12]
["$A$13",13]
["$A$14",14]
["$A$15",15]
["$A$16",16]
["$A$17",17]
["$A$18",18]
["$A$19",19]
["$A$20",20]
["$A$21",21]
["$A$22",22]
["$A$23",23]
["$A$24",24]
["$A$25",25]
["$A$26",26]
["$A$27",27]
["$A$28",28]
["$A$29",29]
["$A$30",30]
["$A$31",31]
["$A$32",32]
["$A$33",33]
["$A$34",34]
["$A$35",35]
["$A$36",36]
["$A$37",37]
["$A$38",38]
["$A$39",39]
["$A$40",40]
["$A$41",41]
["$A$42",42]
["$A$43",43]
["$A$44",44]
["$A$45",45]
["$A$46",46]
["$A$47",47]
["$A$48",48]
["$A$49",49]
["$A$50",50]
["$A$51",51]
["$A$52",52]
["$A$53",53]
["$A$54",54]
["$A$55",55]
["$A$56",56]
["$A$57",57]
["$A$58",58]
["$A$59",59]
["$A$60",60]
["$A$61",61]
["$A$62",62]
["$A$63",63]
["$A$64",64]
["$A$65",65]
["$A$66",66]
["$A$67",67]
["$A$68",68]
["$A$69",69]
["$A$70",70]
["$A$71",71]
["$A$72",72]
["$A$73",73]
["$A$74",74]
["$A$75",75]
["$A$76",76]
["$A$77",77]
["$A$78",78]
["$A$79",79]
["$A$80",80]
["$A$81",81]
["$A$82",82]
["$A$83",83]
["$A$84",84]
["$A$85",85]
["$A$86",86]
["$A$87",87]
["$A$88",88]
["$A$89",89]
["$A$90",90]
["$A$91",91]
["$A$92",92]
["$A$93",93]
["$A$94",94]
["$A$95",95]
["$A$96",96]
["$A$97",97]
["$A$98",98]
["$A$99",99]
["$A$100",100]
["$A$101",101]
["$A$102",102]
["$A$103",103]
["$A$104",104]
["$A$105",105]
["$A$106",106]
["$A$107",107]
["$A$108",108]
["$A$109",109]
["$A$110",110]
["$A$111",111]
["$A$112",112]
["$A$113",113]
["$A$114",114]
["$A$115",115]
["$A$116",116]
["$A$117",117]
["$A$118",118]
["$A$119",119]
["$A$120",120]
["$A$121",121]
["$A$122",122]
["$A$123",123]
["$A$124",124]
["$A$125",125]
["$A$126",126]
["$A$127",127]
["$A$128",128]
["$A$129",129]
["$A$130",130]
["$A$131",131]
["$A$132",132]
["$A$133",133]
["$A$134",134]
["$A$135",135]
["$A$136",136]
["$A$137",137]
["$A$138",138]
["$A$139",139]
["$A$140",140]
["$A$141",141]
["$A$142",142]
["$A$143",143]
["$A$144",144]
["$A$145",145]
["$A$146",146]
["$A$147",147]
["$A$148",148]
["$A$149",149]
["$A$150",150]
["$A$151",151]
["$A$152",152]
["$A$153",153]
["$A$154",154]
["$A$155",155]
["$A$156",156]
["$A$157",157]
["$A$158",158]
["$A$159",159]
["$A$160",160]
["$A$161",161]
["$A$162",162]
["$A$163",163]
["$A$164",164]
["$A$165",165]
["$A$166",166]
["$A$167",167]
["$A$168",168]
["$A$169",169]
["$A$170",170]
["$A$171",171]
["$A$172",172]
["$A$173",173]
["$A$174",174]
["$A$175",175]
["$A$176",176]
["$A$177",177]
["$A$178",178]
["$A$179",179]
["$A$180",180]
["$A$181",181]
["$A$182",182]
["$A$183",183]
["$A$184",184]
["$A$185",185]
["$A$186",186]
["$A$187",187]
["$A$188",188]
["$A$189",189]
["$A$190",190]
["$A$191",191]
["$A$192",192]
["$A$193",193]
["$A$194",194]
["$A$195",195]
["$A$196",196]
["$A$197",197]
["$A$198",198]
["$A$199",199]
["$A$200",200]
["$A$201",201]

{"sheet":"Ticket","index":8,"n_rows":224,"n_cols":5,"rows_kept":224,"cut":false,"hidden":false,"merged":[[1,0,1,4],[223,0,223,4],[2,1,2,3]]}
[]
["Christian Roux - Ecole 1 - 1753 Matran (Suisse)\nTél. 026 / 401 05 08 - excelgestion@bluewin.ch"]
[{"$f":"LEFT(Factures1!A11,7)&\" N° \"&Factures1!B14&\"  Édité le\"","v":"Facture N° 1011 / cr  Édité le"},{"$f":"NOW()","v":"2025-11-26T22:40:30.460"},null,null,{"$f":"\"Cl. \" &Factures1!B15","v":"Cl. 3338"}]
[]
[]
[]
[]
[]
[]
[]
[]
[]
[]
[]
[]
["Réf. • Désignation",{"$f":"Factures1!C16","v":"Qté"},"P.U.",{"$f":"Factures1!F16","v":"%"},{"$f":"Factures1!G16","v":"Total net"}]
[{"$f":"IF(Factures1!A17=0,\"\",Factures1!A17 & \" • \"&Factures1!B17)","v":"1019 • Tintin et les Picaros"},{"$f":"Factures1!C17","v":1},{"$f":"Factures1!E17","v":17.8},{"$f":"Factures1!F17","v":0},{"$f":"Factures1!G17","v":17.8}]
[{"$f":"IF(Factures1!A18=0,\"\",Factures1!A18 & \" • \"&Factures1!B18)","v":"7613312141120 • Micro voix avec interrupteur Shure SM58"},{"$f":"Factures1!C18","v":1},{"$f":"Factures1!E18","v":340},{"$f":"Factures1!F18","v":0},{"$f":"Factures1!G18","v":340}]
[{"$f":"IF(Factures1!A19=0,\"\",Factures1!A19 & \" • \"&Factures1!B19)","v":"9999 • Frais d'envoi"},{"$f":"Factures1!C19","v":1},{"$f":"Factures1!E19","v":34},{"$f":"Factures1!F19","v":0},{"$f":"Factures1!G19","v":34}]
[{"$f":"IF(Factures1!A20=0,\"\",Factures1!A20 & \" • \"&Factures1!B20)","v":""},{"$f":"Factures1!C20","v":0},{"$f":"Factures1!E20","v":""},{"$f":"Factures1!F20","v":0},{"$f":"Factures1!G20","v":0}]
[{"$f":"IF(Factures1!A21=0,\"\",Factures1!A21 & \" • \"&Factures1!B21)","v":""},{"$f":"Factures1!C21","v":0},{"$f":"Factures1!E21","v":""},{"$f":"Factures1!F21","v":0},{"$f":"Factures1!G21","v":0}]
[{"$f":"IF(Factures1!A22=0,\"\",Factures1!A22 & \" • \"&Factures1!B22)","v":""},{"$f":"Factures1!C22","v":0},{"$f":"Factures1!E22","v":""},{"$f":"Factures1!F22","v":0},{"$f":"Factures1!G22","v":0}]
[{"$f":"IF(Factures1!A23=0,\"\",Factures1!A23 & \" • \"&Factures1!B23)","v":""},{"$f":"Factures1!C23","v":0},{"$f":"Factures1!E23","v":""},{"$f":"Factures1!F23","v":0},{"$f":"Factures1!G23","v":0}]
[{"$f":"IF(Factures1!A24=0,\"\",Factures1!A24 & \" • \"&Factures1!B24)","v":""},{"$f":"Factures1!C24","v":0},{"$f":"Factures1!E24","v":""},{"$f":"Factures1!F24","v":0},{"$f":"Factures1!G24","v":0}]
[{"$f":"IF(Factures1!A25=0,\"\",Factures1!A25 & \" • \"&Factures1!B25)","v":""},{"$f":"Factures1!C25","v":0},{"$f":"Factures1!E25","v":""},{"$f":"Factures1!F25","v":0},{"$f":"Factures1!G25","v":0}]
[{"$f":"IF(Factures1!A26=0,\"\",Factures1!A26 & \" • \"&Factures1!B26)","v":""},{"$f":"Factures1!C26","v":0},{"$f":"Factures1!E26","v":""},{"$f":"Factures1!F26","v":0},{"$f":"Factures1!G26","v":0}]
[{"$f":"IF(Factures1!A27=0,\"\",Factures1!A27 & \" • \"&Factures1!B27)","v":""},{"$f":"Factures1!C27","v":0},{"$f":"Factures1!E27","v":""},{"$f":"Factures1!F27","v":0},{"$f":"Factures1!G27","v":0}]
[{"$f":"IF(Factures1!A28=0,\"\",Factures1!A28 & \" • \"&Factures1!B28)","v":""},{"$f":"Factures1!C28","v":0},{"$f":"Factures1!E28","v":""},{"$f":"Factures1!F28","v":0},{"$f":"Factures1!G28","v":0}]
[{"$f":"IF(Factures1!A29=0,\"\",Factures1!A29 & \" • \"&Factures1!B29)","v":""},{"$f":"Factures1!C29","v":0},{"$f":"Factures1!E29","v":""},{"$f":"Factures1!F29","v":0},{"$f":"Factures1!G29","v":0}]
[{"$f":"IF(Factures1!A30=0,\"\",Factures1!A30 & \" • \"&Factures1!B30)","v":""},{"$f":"Factures1!C30","v":0},{"$f":"Factures1!E30","v":""},{"$f":"Factures1!F30","v":0},{"$f":"Factures1!G30","v":0}]
[{"$f":"IF(Factures1!A31=0,\"\",Factures1!A31 & \" • \"&Factures1!B31)","v":""},{"$f":"Factures1!C31","v":0},{"$f":"Factures1!E31","v":""},{"$f":"Factures1!F31","v":0},{"$f":"Factures1!G31","v":0}]
[{"$f":"IF(Factures1!A32=0,\"\",Factures1!A32 & \" • \"&Factures1!B32)","v":""},{"$f":"Factures1!C32","v":0},{"$f":"Factures1!E32","v":""},{"$f":"Factures1!F32","v":0},{"$f":"Factures1!G32","v":0}]
[{"$f":"IF(Factures1!A33=0,\"\",Factures1!A33 & \" • \"&Factures1!B33)","v":""},{"$f":"Factures1!C33","v":0},{"$f":"Factures1!E33","v":""},{"$f":"Factures1!F33","v":0},{"$f":"Factures1!G33","v":0}]
[{"$f":"IF(Factures1!A34=0,\"\",Factures1!A34 & \" • \"&Factures1!B34)","v":""},{"$f":"Factures1!C34","v":0},{"$f":"Factures1!E34","v":""},{"$f":"Factures1!F34","v":0},{"$f":"Factures1!G34","v":0}]
[{"$f":"IF(Factures1!A35=0,\"\",Factures1!A35 & \" • \"&Factures1!B35)","v":""},{"$f":"Factures1!C35","v":0},{"$f":"Factures1!E35","v":""},{"$f":"Factures1!F35","v":0},{"$f":"Factures1!G35","v":0}]
[{"$f":"IF(Factures1!A36=0,\"\",Factures1!A36 & \" • \"&Factures1!B36)","v":""},{"$f":"Factures1!C36","v":0},{"$f":"Factures1!E36","v":""},{"$f":"Factures1!F36","v":0},{"$f":"Factures1!G36","v":0}]
[{"$f":"IF(Factures1!A37=0,\"\",Factures1!A37 & \" • \"&Factures1!B37)","v":""},{"$f":"Factures1!C37","v":0},{"$f":"Factures1!E37","v":""},{"$f":"Factures1!F37","v":0},{"$f":"Factures1!G37","v":0}]
[{"$f":"IF(Factures1!A38=0,\"\",Factures1!A38 & \" • \"&Factures1!B38)","v":""},{"$f":"Factures1!C38","v":0},{"$f":"Factures1!E38","v":""},{"$f":"Factures1!F38","v":0},{"$f":"Factures1!G38","v":0}]
[{"$f":"IF(Factures1!A39=0,\"\",Factures1!A39 & \" • \"&Factures1!B39)","v":""},{"$f":"Factures1!C39","v":0},{"$f":"Factures1!E39","v":""},{"$f":"Factures1!F39","v":0},{"$f":"Factures1!G39","v":0}]
[{"$f":"IF(Factures1!A40=0,\"\",Factures1!A40 & \" • \"&Factures1!B40)","v":""},{"$f":"Factures1!C40","v":0},{"$f":"Factures1!E40","v":""},{"$f":"Factures1!F40","v":0},{"$f":"Factures1!G40","v":0}]
[{"$f":"IF(Factures1!A41=0,\"\",Factures1!A41 & \" • \"&Factures1!B41)","v":""},{"$f":"Factures1!C41","v":0},{"$f":"Factures1!E41","v":""},{"$f":"Factures1!F41","v":0},{"$f":"Factures1!G41","v":0}]
[{"$f":"IF(Factures1!A42=0,\"\",Factures1!A42 & \" • \"&Factures1!B42)","v":""},{"$f":"Factures1!C42","v":0},{"$f":"Factures1!E42","v":""},{"$f":"Factures1!F42","v":0},{"$f":"Factures1!G42","v":0}]
[{"$f":"IF(Factures1!A43=0,\"\",Factures1!A43 & \" • \"&Factures1!B43)","v":""},{"$f":"Factures1!C43","v":0},{"$f":"Factures1!E43","v":""},{"$f":"Factures1!F43","v":0},{"$f":"Factures1!G43","v":0}]
[{"$f":"IF(Factures1!A44=0,\"\",Factures1!A44 & \" • \"&Factures1!B44)","v":""},{"$f":"Factures1!C44","v":0},{"$f":"Factures1!E44","v":""},{"$f":"Factures1!F44","v":0},{"$f":"Factures1!G44","v":0}]
[{"$f":"IF(Factures1!A45=0,\"\",Factures1!A45 & \" • \"&Factures1!B45)","v":""},{"$f":"Factures1!C45","v":0},{"$f":"Factures1!E45","v":""},{"$f":"Factures1!F45","v":0},{"$f":"Factures1!G45","v":0}]
[{"$f":"IF(Factures1!A46=0,\"\",Factures1!A46 & \" • \"&Factures1!B46)","v":""},{"$f":"Factures1!C46","v":0},{"$f":"Factures1!E46","v":""},{"$f":"Factures1!F46","v":0},{"$f":"Factures1!G46","v":0}]
[{"$f":"IF(Factures1!A47=0,\"\",Factures1!A47 & \" • \"&Factures1!B47)","v":""},{"$f":"Factures1!C47","v":0},{"$f":"Factures1!E47","v":""},{"$f":"Factures1!F47","v":0},{"$f":"Factures1!G47","v":0}]
[{"$f":"IF(Factures1!A48=0,\"\",Factures1!A48 & \" • \"&Factures1!B48)","v":""},{"$f":"Factures1!C48","v":0},{"$f":"Factures1!E48","v":""},{"$f":"Factures1!F48","v":0},{"$f":"Factures1!G48","v":0}]
[{"$f":"IF(Factures1!A49=0,\"\",Factures1!A49 & \" • \"&Factures1!B49)","v":""},{"$f":"Factures1!C49","v":0},{"$f":"Factures1!E49","v":""},{"$f":"Factures1!F49","v":0},{"$f":"Factures1!G49","v":0}]
[{"$f":"IF(Factures1!A50=0,\"\",Factures1!A50 & \" • \"&Factures1!B50)","v":""},{"$f":"Factures1!C50","v":0},{"$f":"Factures1!E50","v":""},{"$f":"Factures1!F50","v":0},{"$f":"Factures1!G50","v":0}]
[{"$f":"IF(Factures1!A51=0,\"\",Factures1!A51 & \" • \"&Factures1!B51)","v":""},{"$f":"Factures1!C51","v":0},{"$f":"Factures1!E51","v":""},{"$f":"Factures1!F51","v":0},{"$f":"Factures1!G51","v":0}]
[{"$f":"IF(Factures1!A52=0,\"\",Factures1!A52 & \" • \"&Factures1!B52)","v":""},{"$f":"Factures1!C52","v":0},{"$f":"Factures1!E52","v":""},{"$f":"Factures1!F52","v":0},{"$f":"Factures1!G52","v":0}]
[{"$f":"IF(Factures1!A53=0,\"\",Factures1!A53 & \" • \"&Factures1!B53)","v":""},{"$f":"Factures1!C53","v":0},{"$f":"Factures1!E53","v":""},{"$f":"Factures1!F53","v":0},{"$f":"Factures1!G53","v":0}]
[{"$f":"IF(Factures1!A54=0,\"\",Factures1!A54 & \" • \"&Factures1!B54)","v":""},{"$f":"Factures1!C54","v":0},{"$f":"Factures1!E54","v":""},{"$f":"Factures1!F54","v":0},{"$f":"Factures1!G54","v":0}]
[{"$f":"IF(Factures1!A55=0,\"\",Factures1!A55 & \" • \"&Factures1!B55)","v":""},{"$f":"Factures1!C55","v":0},{"$f":"Factures1!E55","v":""},{"$f":"Factures1!F55","v":0},{"$f":"Factures1!G55","v":0}]
[{"$f":"IF(Factures1!A56=0,\"\",Factures1!A56 & \" • \"&Factures1!B56)","v":""},{"$f":"Factures1!C56","v":0},{"$f":"Factures1!E56","v":""},{"$f":"Factures1!F56","v":0},{"$f":"Factures1!G56","v":0}]
[{"$f":"IF(Factures1!A57=0,\"\",Factures1!A57 & \" • \"&Factures1!B57)","v":""},{"$f":"Factures1!C57","v":0},{"$f":"Factures1!E57","v":""},{"$f":"Factures1!F57","v":0},{"$f":"Factures1!G57","v":0}]
[{"$f":"IF(Factures1!A58=0,\"\",Factures1!A58 & \" • \"&Factures1!B58)","v":""},{"$f":"Factures1!C58","v":0},{"$f":"Factures1!E58","v":""},{"$f":"Factures1!F58","v":0},{"$f":"Factures1!G58","v":0}]
[{"$f":"IF(Factures1!A59=0,\"\",Factures1!A59 & \" • \"&Factures1!B59)","v":""},{"$f":"Factures1!C59","v":0},{"$f":"Factures1!E59","v":""},{"$f":"Factures1!F59","v":0},{"$f":"Factures1!G59","v":0}]
[{"$f":"IF(Factures1!A60=0,\"\",Factures1!A60 & \" • \"&Factures1!B60)","v":""},{"$f":"Factures1!C60","v":0},{"$f":"Factures1!E60","v":""},{"$f":"Factures1!F60","v":0},{"$f":"Factures1!G60","v":0}]
[{"$f":"IF(Factures1!A61=0,\"\",Factures1!A61 & \" • \"&Factures1!B61)","v":""},{"$f":"Factures1!C61","v":0},{"$f":"Factures1!E61","v":""},{"$f":"Factures1!F61","v":0},{"$f":"Factures1!G61","v":0}]
[{"$f":"IF(Factures1!A62=0,\"\",Factures1!A62 & \" • \"&Factures1!B62)","v":""},{"$f":"Factures1!C62","v":0},{"$f":"Factures1!E62","v":""},{"$f":"Factures1!F62","v":0},{"$f":"Factures1!G62","v":0}]
[{"$f":"IF(Factures1!A63=0,\"\",Factures1!A63 & \" • \"&Factures1!B63)","v":""},{"$f":"Factures1!C63","v":0},{"$f":"Factures1!E63","v":""},{"$f":"Factures1!F63","v":0},{"$f":"Factures1!G63","v":0}]
[{"$f":"IF(Factures1!A64=0,\"\",Factures1!A64 & \" • \"&Factures1!B64)","v":""},{"$f":"Factures1!C64","v":0},{"$f":"Factures1!E64","v":""},{"$f":"Factures1!F64","v":0},{"$f":"Factures1!G64","v":0}]
[{"$f":"IF(Factures1!A65=0,\"\",Factures1!A65 & \" • \"&Factures1!B65)","v":""},{"$f":"Factures1!C65","v":0},{"$f":"Factures1!E65","v":""},{"$f":"Factures1!F65","v":0},{"$f":"Factures1!G65","v":0}]
[{"$f":"IF(Factures1!A66=0,\"\",Factures1!A66 & \" • \"&Factures1!B66)","v":""},{"$f":"Factures1!C66","v":0},{"$f":"Factures1!E66","v":""},{"$f":"Factures1!F66","v":0},{"$f":"Factures1!G66","v":0}]
[{"$f":"IF(Factures1!A67=0,\"\",Factures1!A67 & \" • \"&Factures1!B67)","v":""},{"$f":"Factures1!C67","v":0},{"$f":"Factures1!E67","v":""},{"$f":"Factures1!F67","v":0},{"$f":"Factures1!G67","v":0}]
[{"$f":"IF(Factures1!A68=0,\"\",Factures1!A68 & \" • \"&Factures1!B68)","v":""},{"$f":"Factures1!C68","v":0},{"$f":"Factures1!E68","v":""},{"$f":"Factures1!F68","v":0},{"$f":"Factures1!G68","v":0}]
[{"$f":"IF(Factures1!A69=0,\"\",Factures1!A69 & \" • \"&Factures1!B69)","v":""},{"$f":"Factures1!C69","v":0},{"$f":"Factures1!E69","v":""},{"$f":"Factures1!F69","v":0},{"$f":"Factures1!G69","v":0}]
[{"$f":"IF(Factures1!A70=0,\"\",Factures1!A70 & \" • \"&Factures1!B70)","v":""},{"$f":"Factures1!C70","v":0},{"$f":"Factures1!E70","v":""},{"$f":"Factures1!F70","v":0},{"$f":"Factures1!G70","v":0}]
[{"$f":"IF(Factures1!A71=0,\"\",Factures1!A71 & \" • \"&Factures1!B71)","v":""},{"$f":"Factures1!C71","v":0},{"$f":"Factures1!E71","v":""},{"$f":"Factures1!F71","v":0},{"$f":"Factures1!G71","v":0}]
[{"$f":"IF(Factures1!A72=0,\"\",Factures1!A72 & \" • \"&Factures1!B72)","v":""},{"$f":"Factures1!C72","v":0},{"$f":"Factures1!E72","v":""},{"$f":"Factures1!F72","v":0},{"$f":"Factures1!G72","v":0}]
[{"$f":"IF(Factures1!A73=0,\"\",Factures1!A73 & \" • \"&Factures1!B73)","v":""},{"$f":"Factures1!C73","v":0},{"$f":"Factures1!E73","v":""},{"$f":"Factures1!F73","v":0},{"$f":"Factures1!G73","v":0}]
[{"$f":"IF(Factures1!A74=0,\"\",Factures1!A74 & \" • \"&Factures1!B74)","v":""},{"$f":"Factures1!C74","v":0},{"$f":"Factures1!E74","v":""},{"$f":"Factures1!F74","v":0},{"$f":"Factures1!G74","v":0}]
[{"$f":"IF(Factures1!A75=0,\"\",Factures1!A75 & \" • \"&Factures1!B75)","v":""},{"$f":"Factures1!C75","v":0},{"$f":"Factures1!E75","v":""},{"$f":"Factures1!F75","v":0},{"$f":"Factures1!G75","v":0}]
[{"$f":"IF(Factures1!A76=0,\"\",Factures1!A76 & \" • \"&Factures1!B76)","v":""},{"$f":"Factures1!C76","v":0},{"$f":"Factures1!E76","v":""},{"$f":"Factures1!F76","v":0},{"$f":"Factures1!G76","v":0}]
[{"$f":"IF(Factures1!A77=0,\"\",Factures1!A77 & \" • \"&Factures1!B77)","v":""},{"$f":"Factures1!C77","v":0},{"$f":"Factures1!E77","v":""},{"$f":"Factures1!F77","v":0},{"$f":"Factures1!G77","v":0}]
[{"$f":"IF(Factures1!A78=0,\"\",Factures1!A78 & \" • \"&Factures1!B78)","v":""},{"$f":"Factures1!C78","v":0},{"$f":"Factures1!E78","v":""},{"$f":"Factures1!F78","v":0},{"$f":"Factures1!G78","v":0}]
[{"$f":"IF(Factures1!A79=0,\"\",Factures1!A79 & \" • \"&Factures1!B79)","v":""},{"$f":"Factures1!C79","v":0},{"$f":"Factures1!E79","v":""},{"$f":"Factures1!F79","v":0},{"$f":"Factures1!G79","v":0}]
[{"$f":"IF(Factures1!A80=0,\"\",Factures1!A80 & \" • \"&Factures1!B80)","v":""},{"$f":"Factures1!C80","v":0},{"$f":"Factures1!E80","v":""},{"$f":"Factures1!F80","v":0},{"$f":"Factures1!G80","v":0}]
[{"$f":"IF(Factures1!A81=0,\"\",Factures1!A81 & \" • \"&Factures1!B81)","v":""},{"$f":"Factures1!C81","v":0},{"$f":"Factures1!E81","v":""},{"$f":"Factures1!F81","v":0},{"$f":"Factures1!G81","v":0}]
[{"$f":"IF(Factures1!A82=0,\"\",Factures1!A82 & \" • \"&Factures1!B82)","v":""},{"$f":"Factures1!C82","v":0},{"$f":"Factures1!E82","v":""},{"$f":"Factures1!F82","v":0},{"$f":"Factures1!G82","v":0}]
[{"$f":"IF(Factures1!A83=0,\"\",Factures1!A83 & \" • \"&Factures1!B83)","v":""},{"$f":"Factures1!C83","v":0},{"$f":"Factures1!E83","v":""},{"$f":"Factures1!F83","v":0},{"$f":"Factures1!G83","v":0}]
[{"$f":"IF(Factures1!A84=0,\"\",Factures1!A84 & \" • \"&Factures1!B84)","v":""},{"$f":"Factures1!C84","v":0},{"$f":"Factures1!E84","v":""},{"$f":"Factures1!F84","v":0},{"$f":"Factures1!G84","v":0}]
[{"$f":"IF(Factures1!A85=0,\"\",Factures1!A85 & \" • \"&Factures1!B85)","v":""},{"$f":"Factures1!C85","v":0},{"$f":"Factures1!E85","v":""},{"$f":"Factures1!F85","v":0},{"$f":"Factures1!G85","v":0}]
[{"$f":"IF(Factures1!A86=0,\"\",Factures1!A86 & \" • \"&Factures1!B86)","v":""},{"$f":"Factures1!C86","v":0},{"$f":"Factures1!E86","v":""},{"$f":"Factures1!F86","v":0},{"$f":"Factures1!G86","v":0}]
[{"$f":"IF(Factures1!A87=0,\"\",Factures1!A87 & \" • \"&Factures1!B87)","v":""},{"$f":"Factures1!C87","v":0},{"$f":"Factures1!E87","v":""},{"$f":"Factures1!F87","v":0},{"$f":"Factures1!G87","v":0}]
[{"$f":"IF(Factures1!A88=0,\"\",Factures1!A88 & \" • \"&Factures1!B88)","v":""},{"$f":"Factures1!C88","v":0},{"$f":"Factures1!E88","v":""},{"$f":"Factures1!F88","v":0},{"$f":"Factures1!G88","v":0}]
[{"$f":"IF(Factures1!A89=0,\"\",Factures1!A89 & \" • \"&Factures1!B89)","v":""},{"$f":"Factures1!C89","v":0},{"$f":"Factures1!E89","v":""},{"$f":"Factures1!F89","v":0},{"$f":"Factures1!G89","v":0}]
[{"$f":"IF(Factures1!A90=0,\"\",Factures1!A90 & \" • \"&Factures1!B90)","v":""},{"$f":"Factures1!C90","v":0},{"$f":"Factures1!E90","v":""},{"$f":"Factures1!F90","v":0},{"$f":"Factures1!G90","v":0}]
[{"$f":"IF(Factures1!A91=0,\"\",Factures1!A91 & \" • \"&Factures1!B91)","v":""},{"$f":"Factures1!C91","v":0},{"$f":"Factures1!E91","v":""},{"$f":"Factures1!F91","v":0},{"$f":"Factures1!G91","v":0}]
[{"$f":"IF(Factures1!A92=0,\"\",Factures1!A92 & \" • \"&Factures1!B92)","v":""},{"$f":"Factures1!C92","v":0},{"$f":"Factures1!E92","v":""},{"$f":"Factures1!F92","v":0},{"$f":"Factures1!G92","v":0}]
[{"$f":"IF(Factures1!A93=0,\"\",Factures1!A93 & \" • \"&Factures1!B93)","v":""},{"$f":"Factures1!C93","v":0},{"$f":"Factures1!E93","v":""},{"$f":"Factures1!F93","v":0},{"$f":"Factures1!G93","v":0}]
[{"$f":"IF(Factures1!A94=0,\"\",Factures1!A94 & \" • \"&Factures1!B94)","v":""},{"$f":"Factures1!C94","v":0},{"$f":"Factures1!E94","v":""},{"$f":"Factures1!F94","v":0},{"$f":"Factures1!G94","v":0}]
[{"$f":"IF(Factures1!A95=0,\"\",Factures1!A95 & \" • \"&Factures1!B95)","v":""},{"$f":"Factures1!C95","v":0},{"$f":"Factures1!E95","v":""},{"$f":"Factures1!F95","v":0},{"$f":"Factures1!G95","v":0}]
[{"$f":"IF(Factures1!A96=0,\"\",Factures1!A96 & \" • \"&Factures1!B96)","v":""},{"$f":"Factures1!C96","v":0},{"$f":"Factures1!E96","v":""},{"$f":"Factures1!F96","v":0},{"$f":"Factures1!G96","v":0}]
[{"$f":"IF(Factures1!A97=0,\"\",Factures1!A97 & \" • \"&Factures1!B97)","v":""},{"$f":"Factures1!C97","v":0},{"$f":"Factures1!E97","v":""},{"$f":"Factures1!F97","v":0},{"$f":"Factures1!G97","v":0}]
[{"$f":"IF(Factures1!A98=0,\"\",Factures1!A98 & \" • \"&Factures1!B98)","v":""},{"$f":"Factures1!C98","v":0},{"$f":"Factures1!E98","v":""},{"$f":"Factures1!F98","v":0},{"$f":"Factures1!G98","v":0}]
[{"$f":"IF(Factures1!A99=0,\"\",Factures1!A99 & \" • \"&Factures1!B99)","v":""},{"$f":"Factures1!C99","v":0},{"$f":"Factures1!E99","v":""},{"$f":"Factures1!F99","v":0},{"$f":"Factures1!G99","v":0}]
[{"$f":"IF(Factures1!A100=0,\"\",Factures1!A100 & \" • \"&Factures1!B100)","v":""},{"$f":"Factures1!C100","v":0},{"$f":"Factures1!E100","v":""},{"$f":"Factures1!F100","v":0},{"$f":"Factures1!G100","v":0}]
[{"$f":"IF(Factures1!A101=0,\"\",Factures1!A101 & \" • \"&Factures1!B101)","v":""},{"$f":"Factures1!C101","v":0},{"$f":"Factures1!E101","v":""},{"$f":"Factures1!F101","v":0},{"$f":"Factures1!G101","v":0}]
[{"$f":"IF(Factures1!A102=0,\"\",Factures1!A102 & \" • \"&Factures1!B102)","v":""},{"$f":"Factures1!C102","v":0},{"$f":"Factures1!E102","v":""},{"$f":"Factures1!F102","v":0},{"$f":"Factures1!G102","v":0}]
[{"$f":"IF(Factures1!A103=0,\"\",Factures1!A103 & \" • \"&Factures1!B103)","v":""},{"$f":"Factures1!C103","v":0},{"$f":"Factures1!E103","v":""},{"$f":"Factures1!F103","v":0},{"$f":"Factures1!G103","v":0}]
[{"$f":"IF(Factures1!A104=0,\"\",Factures1!A104 & \" • \"&Factures1!B104)","v":""},{"$f":"Factures1!C104","v":0},{"$f":"Factures1!E104","v":""},{"$f":"Factures1!F104","v":0},{"$f":"Factures1!G104","v":0}]
[{"$f":"IF(Factures1!A105=0,\"\",Factures1!A105 & \" • \"&Factures1!B105)","v":""},{"$f":"Factures1!C105","v":0},{"$f":"Factures1!E105","v":""},{"$f":"Factures1!F105","v":0},{"$f":"Factures1!G105","v":0}]
[{"$f":"IF(Factures1!A106=0,\"\",Factures1!A106 & \" • \"&Factures1!B106)","v":""},{"$f":"Factures1!C106","v":0},{"$f":"Factures1!E106","v":""},{"$f":"Factures1!F106","v":0},{"$f":"Factures1!G106","v":0}]
[{"$f":"IF(Factures1!A107=0,\"\",Factures1!A107 & \" • \"&Factures1!B107)","v":""},{"$f":"Factures1!C107","v":0},{"$f":"Factures1!E107","v":""},{"$f":"Factures1!F107","v":0},{"$f":"Factures1!G107","v":0}]
[{"$f":"IF(Factures1!A108=0,\"\",Factures1!A108 & \" • \"&Factures1!B108)","v":""},{"$f":"Factures1!C108","v":0},{"$f":"Factures1!E108","v":""},{"$f":"Factures1!F108","v":0},{"$f":"Factures1!G108","v":0}]
[{"$f":"IF(Factures1!A109=0,\"\",Factures1!A109 & \" • \"&Factures1!B109)","v":""},{"$f":"Factures1!C109","v":0},{"$f":"Factures1!E109","v":""},{"$f":"Factures1!F109","v":0},{"$f":"Factures1!G109","v":0}]
[{"$f":"IF(Factures1!A110=0,\"\",Factures1!A110 & \" • \"&Factures1!B110)","v":""},{"$f":"Factures1!C110","v":0},{"$f":"Factures1!E110","v":""},{"$f":"Factures1!F110","v":0},{"$f":"Factures1!G110","v":0}]
[{"$f":"IF(Factures1!A111=0,\"\",Factures1!A111 & \" • \"&Factures1!B111)","v":""},{"$f":"Factures1!C111","v":0},{"$f":"Factures1!E111","v":""},{"$f":"Factures1!F111","v":0},{"$f":"Factures1!G111","v":0}]
[{"$f":"IF(Factures1!A112=0,\"\",Factures1!A112 & \" • \"&Factures1!B112)","v":""},{"$f":"Factures1!C112","v":0},{"$f":"Factures1!E112","v":""},{"$f":"Factures1!F112","v":0},{"$f":"Factures1!G112","v":0}]
[{"$f":"IF(Factures1!A113=0,\"\",Factures1!A113 & \" • \"&Factures1!B113)","v":""},{"$f":"Factures1!C113","v":0},{"$f":"Factures1!E113","v":""},{"$f":"Factures1!F113","v":0},{"$f":"Factures1!G113","v":0}]
[{"$f":"IF(Factures1!A114=0,\"\",Factures1!A114 & \" • \"&Factures1!B114)","v":""},{"$f":"Factures1!C114","v":0},{"$f":"Factures1!E114","v":""},{"$f":"Factures1!F114","v":0},{"$f":"Factures1!G114","v":0}]
[{"$f":"IF(Factures1!A115=0,\"\",Factures1!A115 & \" • \"&Factures1!B115)","v":""},{"$f":"Factures1!C115","v":0},{"$f":"Factures1!E115","v":""},{"$f":"Factures1!F115","v":0},{"$f":"Factures1!G115","v":0}]
[{"$f":"IF(Factures1!A116=0,\"\",Factures1!A116 & \" • \"&Factures1!B116)","v":""},{"$f":"Factures1!C116","v":0},{"$f":"Factures1!E116","v":""},{"$f":"Factures1!F116","v":0},{"$f":"Factures1!G116","v":0}]
[{"$f":"IF(Factures1!A117=0,\"\",Factures1!A117 & \" • \"&Factures1!B117)","v":""},{"$f":"Factures1!C117","v":0},{"$f":"Factures1!E117","v":""},{"$f":"Factures1!F117","v":0},{"$f":"Factures1!G117","v":0}]
[{"$f":"IF(Factures1!A118=0,\"\",Factures1!A118 & \" • \"&Factures1!B118)","v":""},{"$f":"Factures1!C118","v":0},{"$f":"Factures1!E118","v":""},{"$f":"Factures1!F118","v":0},{"$f":"Factures1!G118","v":0}]
[{"$f":"IF(Factures1!A119=0,\"\",Factures1!A119 & \" • \"&Factures1!B119)","v":""},{"$f":"Factures1!C119","v":0},{"$f":"Factures1!E119","v":""},{"$f":"Factures1!F119","v":0},{"$f":"Factures1!G119","v":0}]
[{"$f":"IF(Factures1!A120=0,\"\",Factures1!A120 & \" • \"&Factures1!B120)","v":""},{"$f":"Factures1!C120","v":0},{"$f":"Factures1!E120","v":""},{"$f":"Factures1!F120","v":0},{"$f":"Factures1!G120","v":0}]
[{"$f":"IF(Factures1!A121=0,\"\",Factures1!A121 & \" • \"&Factures1!B121)","v":""},{"$f":"Factures1!C121","v":0},{"$f":"Factures1!E121","v":""},{"$f":"Factures1!F121","v":0},{"$f":"Factures1!G121","v":0}]
[{"$f":"IF(Factures1!A122=0,\"\",Factures1!A122 & \" • \"&Factures1!B122)","v":""},{"$f":"Factures1!C122","v":0},{"$f":"Factures1!E122","v":""},{"$f":"Factures1!F122","v":0},{"$f":"Factures1!G122","v":0}]
[{"$f":"IF(Factures1!A123=0,\"\",Factures1!A123 & \" • \"&Factures1!B123)","v":""},{"$f":"Factures1!C123","v":0},{"$f":"Factures1!E123","v":""},{"$f":"Factures1!F123","v":0},{"$f":"Factures1!G123","v":0}]
[{"$f":"IF(Factures1!A124=0,\"\",Factures1!A124 & \" • \"&Factures1!B124)","v":""},{"$f":"Factures1!C124","v":0},{"$f":"Factures1!E124","v":""},{"$f":"Factures1!F124","v":0},{"$f":"Factures1!G124","v":0}]
[{"$f":"IF(Factures1!A125=0,\"\",Factures1!A125 & \" • \"&Factures1!B125)","v":""},{"$f":"Factures1!C125","v":0},{"$f":"Factures1!E125","v":""},{"$f":"Factures1!F125","v":0},{"$f":"Factures1!G125","v":0}]
[{"$f":"IF(Factures1!A126=0,\"\",Factures1!A126 & \" • \"&Factures1!B126)","v":""},{"$f":"Factures1!C126","v":0},{"$f":"Factures1!E126","v":""},{"$f":"Factures1!F126","v":0},{"$f":"Factures1!G126","v":0}]
[{"$f":"IF(Factures1!A127=0,\"\",Factures1!A127 & \" • \"&Factures1!B127)","v":""},{"$f":"Factures1!C127","v":0},{"$f":"Factures1!E127","v":""},{"$f":"Factures1!F127","v":0},{"$f":"Factures1!G127","v":0}]
[{"$f":"IF(Factures1!A128=0,\"\",Factures1!A128 & \" • \"&Factures1!B128)","v":""},{"$f":"Factures1!C128","v":0},{"$f":"Factures1!E128","v":""},{"$f":"Factures1!F128","v":0},{"$f":"Factures1!G128","v":0}]
[{"$f":"IF(Factures1!A129=0,\"\",Factures1!A129 & \" • \"&Factures1!B129)","v":""},{"$f":"Factures1!C129","v":0},{"$f":"Factures1!E129","v":""},{"$f":"Factures1!F129","v":0},{"$f":"Factures1!G129","v":0}]
[{"$f":"IF(Factures1!A130=0,\"\",Factures1!A130 & \" • \"&Factures1!B130)","v":""},{"$f":"Factures1!C130","v":0},{"$f":"Factures1!E130","v":""},{"$f":"Factures1!F130","v":0},{"$f":"Factures1!G130","v":0}]
[{"$f":"IF(Factures1!A131=0,\"\",Factures1!A131 & \" • \"&Factures1!B131)","v":""},{"$f":"Factures1!C131","v":0},{"$f":"Factures1!E131","v":""},{"$f":"Factures1!F131","v":0},{"$f":"Factures1!G131","v":0}]
[{"$f":"IF(Factures1!A132=0,\"\",Factures1!A132 & \" • \"&Factures1!B132)","v":""},{"$f":"Factures1!C132","v":0},{"$f":"Factures1!E132","v":""},{"$f":"Factures1!F132","v":0},{"$f":"Factures1!G132","v":0}]
[{"$f":"IF(Factures1!A133=0,\"\",Factures1!A133 & \" • \"&Factures1!B133)","v":""},{"$f":"Factures1!C133","v":0},{"$f":"Factures1!E133","v":""},{"$f":"Factures1!F133","v":0},{"$f":"Factures1!G133","v":0}]
[{"$f":"IF(Factures1!A134=0,\"\",Factures1!A134 & \" • \"&Factures1!B134)","v":""},{"$f":"Factures1!C134","v":0},{"$f":"Factures1!E134","v":""},{"$f":"Factures1!F134","v":0},{"$f":"Factures1!G134","v":0}]
[{"$f":"IF(Factures1!A135=0,\"\",Factures1!A135 & \" • \"&Factures1!B135)","v":""},{"$f":"Factures1!C135","v":0},{"$f":"Factures1!E135","v":""},{"$f":"Factures1!F135","v":0},{"$f":"Factures1!G135","v":0}]
[{"$f":"IF(Factures1!A136=0,\"\",Factures1!A136 & \" • \"&Factures1!B136)","v":""},{"$f":"Factures1!C136","v":0},{"$f":"Factures1!E136","v":""},{"$f":"Factures1!F136","v":0},{"$f":"Factures1!G136","v":0}]
[{"$f":"IF(Factures1!A137=0,\"\",Factures1!A137 & \" • \"&Factures1!B137)","v":""},{"$f":"Factures1!C137","v":0},{"$f":"Factures1!E137","v":""},{"$f":"Factures1!F137","v":0},{"$f":"Factures1!G137","v":0}]
[{"$f":"IF(Factures1!A138=0,\"\",Factures1!A138 & \" • \"&Factures1!B138)","v":""},{"$f":"Factures1!C138","v":0},{"$f":"Factures1!E138","v":""},{"$f":"Factures1!F138","v":0},{"$f":"Factures1!G138","v":0}]
[{"$f":"IF(Factures1!A139=0,\"\",Factures1!A139 & \" • \"&Factures1!B139)","v":""},{"$f":"Factures1!C139","v":0},{"$f":"Factures1!E139","v":""},{"$f":"Factures1!F139","v":0},{"$f":"Factures1!G139","v":0}]
[{"$f":"IF(Factures1!A140=0,\"\",Factures1!A140 & \" • \"&Factures1!B140)","v":""},{"$f":"Factures1!C140","v":0},{"$f":"Factures1!E140","v":""},{"$f":"Factures1!F140","v":0},{"$f":"Factures1!G140","v":0}]
[{"$f":"IF(Factures1!A141=0,\"\",Factures1!A141 & \" • \"&Factures1!B141)","v":""},{"$f":"Factures1!C141","v":0},{"$f":"Factures1!E141","v":""},{"$f":"Factures1!F141","v":0},{"$f":"Factures1!G141","v":0}]
[{"$f":"IF(Factures1!A142=0,\"\",Factures1!A142 & \" • \"&Factures1!B142)","v":""},{"$f":"Factures1!C142","v":0},{"$f":"Factures1!E142","v":""},{"$f":"Factures1!F142","v":0},{"$f":"Factures1!G142","v":0}]
[{"$f":"IF(Factures1!A143=0,\"\",Factures1!A143 & \" • \"&Factures1!B143)","v":""},{"$f":"Factures1!C143","v":0},{"$f":"Factures1!E143","v":""},{"$f":"Factures1!F143","v":0},{"$f":"Factures1!G143","v":0}]
[{"$f":"IF(Factures1!A144=0,\"\",Factures1!A144 & \" • \"&Factures1!B144)","v":""},{"$f":"Factures1!C144","v":0},{"$f":"Factures1!E144","v":""},{"$f":"Factures1!F144","v":0},{"$f":"Factures1!G144","v":0}]
[{"$f":"IF(Factures1!A145=0,\"\",Factures1!A145 & \" • \"&Factures1!B145)","v":""},{"$f":"Factures1!C145","v":0},{"$f":"Factures1!E145","v":""},{"$f":"Factures1!F145","v":0},{"$f":"Factures1!G145","v":0}]
[{"$f":"IF(Factures1!A146=0,\"\",Factures1!A146 & \" • \"&Factures1!B146)","v":""},{"$f":"Factures1!C146","v":0},{"$f":"Factures1!E146","v":""},{"$f":"Factures1!F146","v":0},{"$f":"Factures1!G146","v":0}]
[{"$f":"IF(Factures1!A147=0,\"\",Factures1!A147 & \" • \"&Factures1!B147)","v":""},{"$f":"Factures1!C147","v":0},{"$f":"Factures1!E147","v":""},{"$f":"Factures1!F147","v":0},{"$f":"Factures1!G147","v":0}]
[{"$f":"IF(Factures1!A148=0,\"\",Factures1!A148 & \" • \"&Factures1!B148)","v":""},{"$f":"Factures1!C148","v":0},{"$f":"Factures1!E148","v":""},{"$f":"Factures1!F148","v":0},{"$f":"Factures1!G148","v":0}]
[{"$f":"IF(Factures1!A149=0,\"\",Factures1!A149 & \" • \"&Factures1!B149)","v":""},{"$f":"Factures1!C149","v":0},{"$f":"Factures1!E149","v":""},{"$f":"Factures1!F149","v":0},{"$f":"Factures1!G149","v":0}]
[{"$f":"IF(Factures1!A150=0,\"\",Factures1!A150 & \" • \"&Factures1!B150)","v":""},{"$f":"Factures1!C150","v":0},{"$f":"Factures1!E150","v":""},{"$f":"Factures1!F150","v":0},{"$f":"Factures1!G150","v":0}]
[{"$f":"IF(Factures1!A151=0,\"\",Factures1!A151 & \" • \"&Factures1!B151)","v":""},{"$f":"Factures1!C151","v":0},{"$f":"Factures1!E151","v":""},{"$f":"Factures1!F151","v":0},{"$f":"Factures1!G151","v":0}]
[{"$f":"IF(Factures1!A152=0,\"\",Factures1!A152 & \" • \"&Factures1!B152)","v":""},{"$f":"Factures1!C152","v":0},{"$f":"Factures1!E152","v":""},{"$f":"Factures1!F152","v":0},{"$f":"Factures1!G152","v":0}]
[{"$f":"IF(Factures1!A153=0,\"\",Factures1!A153 & \" • \"&Factures1!B153)","v":""},{"$f":"Factures1!C153","v":0},{"$f":"Factures1!E153","v":""},{"$f":"Factures1!F153","v":0},{"$f":"Factures1!G153","v":0}]
[{"$f":"IF(Factures1!A154=0,\"\",Factures1!A154 & \" • \"&Factures1!B154)","v":""},{"$f":"Factures1!C154","v":0},{"$f":"Factures1!E154","v":""},{"$f":"Factures1!F154","v":0},{"$f":"Factures1!G154","v":0}]
[{"$f":"IF(Factures1!A155=0,\"\",Factures1!A155 & \" • \"&Factures1!B155)","v":""},{"$f":"Factures1!C155","v":0},{"$f":"Factures1!E155","v":""},{"$f":"Factures1!F155","v":0},{"$f":"Factures1!G155","v":0}]
[{"$f":"IF(Factures1!A156=0,\"\",Factures1!A156 & \" • \"&Factures1!B156)","v":""},{"$f":"Factures1!C156","v":0},{"$f":"Factures1!E156","v":""},{"$f":"Factures1!F156","v":0},{"$f":"Factures1!G156","v":0}]
[{"$f":"IF(Factures1!A157=0,\"\",Factures1!A157 & \" • \"&Factures1!B157)","v":""},{"$f":"Factures1!C157","v":0},{"$f":"Factures1!E157","v":""},{"$f":"Factures1!F157","v":0},{"$f":"Factures1!G157","v":0}]
[{"$f":"IF(Factures1!A158=0,\"\",Factures1!A158 & \" • \"&Factures1!B158)","v":""},{"$f":"Factures1!C158","v":0},{"$f":"Factures1!E158","v":""},{"$f":"Factures1!F158","v":0},{"$f":"Factures1!G158","v":0}]
[{"$f":"IF(Factures1!A159=0,\"\",Factures1!A159 & \" • \"&Factures1!B159)","v":""},{"$f":"Factures1!C159","v":0},{"$f":"Factures1!E159","v":""},{"$f":"Factures1!F159","v":0},{"$f":"Factures1!G159","v":0}]
[{"$f":"IF(Factures1!A160=0,\"\",Factures1!A160 & \" • \"&Factures1!B160)","v":""},{"$f":"Factures1!C160","v":0},{"$f":"Factures1!E160","v":""},{"$f":"Factures1!F160","v":0},{"$f":"Factures1!G160","v":0}]
[{"$f":"IF(Factures1!A161=0,\"\",Factures1!A161 & \" • \"&Factures1!B161)","v":""},{"$f":"Factures1!C161","v":0},{"$f":"Factures1!E161","v":""},{"$f":"Factures1!F161","v":0},{"$f":"Factures1!G161","v":0}]
[{"$f":"IF(Factures1!A162=0,\"\",Factures1!A162 & \" • \"&Factures1!B162)","v":""},{"$f":"Factures1!C162","v":0},{"$f":"Factures1!E162","v":""},{"$f":"Factures1!F162","v":0},{"$f":"Factures1!G162","v":0}]
[{"$f":"IF(Factures1!A163=0,\"\",Factures1!A163 & \" • \"&Factures1!B163)","v":""},{"$f":"Factures1!C163","v":0},{"$f":"Factures1!E163","v":""},{"$f":"Factures1!F163","v":0},{"$f":"Factures1!G163","v":0}]
[{"$f":"IF(Factures1!A164=0,\"\",Factures1!A164 & \" • \"&Factures1!B164)","v":""},{"$f":"Factures1!C164","v":0},{"$f":"Factures1!E164","v":""},{"$f":"Factures1!F164","v":0},{"$f":"Factures1!G164","v":0}]
[{"$f":"IF(Factures1!A165=0,\"\",Factures1!A165 & \" • \"&Factures1!B165)","v":""},{"$f":"Factures1!C165","v":0},{"$f":"Factures1!E165","v":""},{"$f":"Factures1!F165","v":0},{"$f":"Factures1!G165","v":0}]
[{"$f":"IF(Factures1!A166=0,\"\",Factures1!A166 & \" • \"&Factures1!B166)","v":""},{"$f":"Factures1!C166","v":0},{"$f":"Factures1!E166","v":""},{"$f":"Factures1!F166","v":0},{"$f":"Factures1!G166","v":0}]
[{"$f":"IF(Factures1!A167=0,\"\",Factures1!A167 & \" • \"&Factures1!B167)","v":""},{"$f":"Factures1!C167","v":0},{"$f":"Factures1!E167","v":""},{"$f":"Factures1!F167","v":0},{"$f":"Factures1!G167","v":0}]
[{"$f":"IF(Factures1!A168=0,\"\",Factures1!A168 & \" • \"&Factures1!B168)","v":""},{"$f":"Factures1!C168","v":0},{"$f":"Factures1!E168","v":""},{"$f":"Factures1!F168","v":0},{"$f":"Factures1!G168","v":0}]
[{"$f":"IF(Factures1!A169=0,\"\",Factures1!A169 & \" • \"&Factures1!B169)","v":""},{"$f":"Factures1!C169","v":0},{"$f":"Factures1!E169","v":""},{"$f":"Factures1!F169","v":0},{"$f":"Factures1!G169","v":0}]
[{"$f":"IF(Factures1!A170=0,\"\",Factures1!A170 & \" • \"&Factures1!B170)","v":""},{"$f":"Factures1!C170","v":0},{"$f":"Factures1!E170","v":""},{"$f":"Factures1!F170","v":0},{"$f":"Factures1!G170","v":0}]
[{"$f":"IF(Factures1!A171=0,\"\",Factures1!A171 & \" • \"&Factures1!B171)","v":""},{"$f":"Factures1!C171","v":0},{"$f":"Factures1!E171","v":""},{"$f":"Factures1!F171","v":0},{"$f":"Factures1!G171","v":0}]
[{"$f":"IF(Factures1!A172=0,\"\",Factures1!A172 & \" • \"&Factures1!B172)","v":""},{"$f":"Factures1!C172","v":0},{"$f":"Factures1!E172","v":""},{"$f":"Factures1!F172","v":0},{"$f":"Factures1!G172","v":0}]
[{"$f":"IF(Factures1!A173=0,\"\",Factures1!A173 & \" • \"&Factures1!B173)","v":""},{"$f":"Factures1!C173","v":0},{"$f":"Factures1!E173","v":""},{"$f":"Factures1!F173","v":0},{"$f":"Factures1!G173","v":0}]
[{"$f":"IF(Factures1!A174=0,\"\",Factures1!A174 & \" • \"&Factures1!B174)","v":""},{"$f":"Factures1!C174","v":0},{"$f":"Factures1!E174","v":""},{"$f":"Factures1!F174","v":0},{"$f":"Factures1!G174","v":0}]
[{"$f":"IF(Factures1!A175=0,\"\",Factures1!A175 & \" • \"&Factures1!B175)","v":""},{"$f":"Factures1!C175","v":0},{"$f":"Factures1!E175","v":""},{"$f":"Factures1!F175","v":0},{"$f":"Factures1!G175","v":0}]
[{"$f":"IF(Factures1!A176=0,\"\",Factures1!A176 & \" • \"&Factures1!B176)","v":""},{"$f":"Factures1!C176","v":0},{"$f":"Factures1!E176","v":""},{"$f":"Factures1!F176","v":0},{"$f":"Factures1!G176","v":0}]
[{"$f":"IF(Factures1!A177=0,\"\",Factures1!A177 & \" • \"&Factures1!B177)","v":""},{"$f":"Factures1!C177","v":0},{"$f":"Factures1!E177","v":""},{"$f":"Factures1!F177","v":0},{"$f":"Factures1!G177","v":0}]
[{"$f":"IF(Factures1!A178=0,\"\",Factures1!A178 & \" • \"&Factures1!B178)","v":""},{"$f":"Factures1!C178","v":0},{"$f":"Factures1!E178","v":""},{"$f":"Factures1!F178","v":0},{"$f":"Factures1!G178","v":0}]
[{"$f":"IF(Factures1!A179=0,\"\",Factures1!A179 & \" • \"&Factures1!B179)","v":""},{"$f":"Factures1!C179","v":0},{"$f":"Factures1!E179","v":""},{"$f":"Factures1!F179","v":0},{"$f":"Factures1!G179","v":0}]
[{"$f":"IF(Factures1!A180=0,\"\",Factures1!A180 & \" • \"&Factures1!B180)","v":""},{"$f":"Factures1!C180","v":0},{"$f":"Factures1!E180","v":""},{"$f":"Factures1!F180","v":0},{"$f":"Factures1!G180","v":0}]
[{"$f":"IF(Factures1!A181=0,\"\",Factures1!A181 & \" • \"&Factures1!B181)","v":""},{"$f":"Factures1!C181","v":0},{"$f":"Factures1!E181","v":""},{"$f":"Factures1!F181","v":0},{"$f":"Factures1!G181","v":0}]
[{"$f":"IF(Factures1!A182=0,\"\",Factures1!A182 & \" • \"&Factures1!B182)","v":""},{"$f":"Factures1!C182","v":0},{"$f":"Factures1!E182","v":""},{"$f":"Factures1!F182","v":0},{"$f":"Factures1!G182","v":0}]
[{"$f":"IF(Factures1!A183=0,\"\",Factures1!A183 & \" • \"&Factures1!B183)","v":""},{"$f":"Factures1!C183","v":0},{"$f":"Factures1!E183","v":""},{"$f":"Factures1!F183","v":0},{"$f":"Factures1!G183","v":0}]
[{"$f":"IF(Factures1!A184=0,\"\",Factures1!A184 & \" • \"&Factures1!B184)","v":""},{"$f":"Factures1!C184","v":0},{"$f":"Factures1!E184","v":""},{"$f":"Factures1!F184","v":0},{"$f":"Factures1!G184","v":0}]
[{"$f":"IF(Factures1!A185=0,\"\",Factures1!A185 & \" • \"&Factures1!B185)","v":""},{"$f":"Factures1!C185","v":0},{"$f":"Factures1!E185","v":""},{"$f":"Factures1!F185","v":0},{"$f":"Factures1!G185","v":0}]
[{"$f":"IF(Factures1!A186=0,\"\",Factures1!A186 & \" • \"&Factures1!B186)","v":""},{"$f":"Factures1!C186","v":0},{"$f":"Factures1!E186","v":""},{"$f":"Factures1!F186","v":0},{"$f":"Factures1!G186","v":0}]
[{"$f":"IF(Factures1!A187=0,\"\",Factures1!A187 & \" • \"&Factures1!B187)","v":""},{"$f":"Factures1!C187","v":0},{"$f":"Factures1!E187","v":""},{"$f":"Factures1!F187","v":0},{"$f":"Factures1!G187","v":0}]
[{"$f":"IF(Factures1!A188=0,\"\",Factures1!A188 & \" • \"&Factures1!B188)","v":""},{"$f":"Factures1!C188","v":0},{"$f":"Factures1!E188","v":""},{"$f":"Factures1!F188","v":0},{"$f":"Factures1!G188","v":0}]
[{"$f":"IF(Factures1!A189=0,\"\",Factures1!A189 & \" • \"&Factures1!B189)","v":""},{"$f":"Factures1!C189","v":0},{"$f":"Factures1!E189","v":""},{"$f":"Factures1!F189","v":0},{"$f":"Factures1!G189","v":0}]
[{"$f":"IF(Factures1!A190=0,\"\",Factures1!A190 & \" • \"&Factures1!B190)","v":""},{"$f":"Factures1!C190","v":0},{"$f":"Factures1!E190","v":""},{"$f":"Factures1!F190","v":0},{"$f":"Factures1!G190","v":0}]
[{"$f":"IF(Factures1!A191=0,\"\",Factures1!A191 & \" • \"&Factures1!B191)","v":""},{"$f":"Factures1!C191","v":0},{"$f":"Factures1!E191","v":""},{"$f":"Factures1!F191","v":0},{"$f":"Factures1!G191","v":0}]
[{"$f":"IF(Factures1!A192=0,\"\",Factures1!A192 & \" • \"&Factures1!B192)","v":""},{"$f":"Factures1!C192","v":0},{"$f":"Factures1!E192","v":""},{"$f":"Factures1!F192","v":0},{"$f":"Factures1!G192","v":0}]
[{"$f":"IF(Factures1!A193=0,\"\",Factures1!A193 & \" • \"&Factures1!B193)","v":""},{"$f":"Factures1!C193","v":0},{"$f":"Factures1!E193","v":""},{"$f":"Factures1!F193","v":0},{"$f":"Factures1!G193","v":0}]
[{"$f":"IF(Factures1!A194=0,\"\",Factures1!A194 & \" • \"&Factures1!B194)","v":""},{"$f":"Factures1!C194","v":0},{"$f":"Factures1!E194","v":""},{"$f":"Factures1!F194","v":0},{"$f":"Factures1!G194","v":0}]
[{"$f":"IF(Factures1!A195=0,\"\",Factures1!A195 & \" • \"&Factures1!B195)","v":""},{"$f":"Factures1!C195","v":0},{"$f":"Factures1!E195","v":""},{"$f":"Factures1!F195","v":0},{"$f":"Factures1!G195","v":0}]
[{"$f":"IF(Factures1!A196=0,\"\",Factures1!A196 & \" • \"&Factures1!B196)","v":""},{"$f":"Factures1!C196","v":0},{"$f":"Factures1!E196","v":""},{"$f":"Factures1!F196","v":0},{"$f":"Factures1!G196","v":0}]
[{"$f":"IF(Factures1!A197=0,\"\",Factures1!A197 & \" • \"&Factures1!B197)","v":""},{"$f":"Factures1!C197","v":0},{"$f":"Factures1!E197","v":""},{"$f":"Factures1!F197","v":0},{"$f":"Factures1!G197","v":0}]
[{"$f":"IF(Factures1!A198=0,\"\",Factures1!A198 & \" • \"&Factures1!B198)","v":""},{"$f":"Factures1!C198","v":0},{"$f":"Factures1!E198","v":""},{"$f":"Factures1!F198","v":0},{"$f":"Factures1!G198","v":0}]
[{"$f":"IF(Factures1!A199=0,\"\",Factures1!A199 & \" • \"&Factures1!B199)","v":""},{"$f":"Factures1!C199","v":0},{"$f":"Factures1!E199","v":""},{"$f":"Factures1!F199","v":0},{"$f":"Factures1!G199","v":0}]
[{"$f":"IF(Factures1!A200=0,\"\",Factures1!A200 & \" • \"&Factures1!B200)","v":""},{"$f":"Factures1!C200","v":0},{"$f":"Factures1!E200","v":""},{"$f":"Factures1!F200","v":0},{"$f":"Factures1!G200","v":0}]
[{"$f":"IF(Factures1!A201=0,\"\",Factures1!A201 & \" • \"&Factures1!B201)","v":""},{"$f":"Factures1!C201","v":0},{"$f":"Factures1!E201","v":""},{"$f":"Factures1!F201","v":0},{"$f":"Factures1!G201","v":0}]
[{"$f":"IF(Factures1!A202=0,\"\",Factures1!A202 & \" • \"&Factures1!B202)","v":""},{"$f":"Factures1!C202","v":0},{"$f":"Factures1!E202","v":""},{"$f":"Factures1!F202","v":0},{"$f":"Factures1!G202","v":0}]
[{"$f":"IF(Factures1!A203=0,\"\",Factures1!A203 & \" • \"&Factures1!B203)","v":""},{"$f":"Factures1!C203","v":0},{"$f":"Factures1!E203","v":""},{"$f":"Factures1!F203","v":0},{"$f":"Factures1!G203","v":0}]
[{"$f":"IF(Factures1!A204=0,\"\",Factures1!A204 & \" • \"&Factures1!B204)","v":""},{"$f":"Factures1!C204","v":0},{"$f":"Factures1!E204","v":""},{"$f":"Factures1!F204","v":0},{"$f":"Factures1!G204","v":0}]
[{"$f":"IF(Factures1!A205=0,\"\",Factures1!A205 & \" • \"&Factures1!B205)","v":""},{"$f":"Factures1!C205","v":0},{"$f":"Factures1!E205","v":""},{"$f":"Factures1!F205","v":0},{"$f":"Factures1!G205","v":0}]
[{"$f":"IF(Factures1!A206=0,\"\",Factures1!A206 & \" • \"&Factures1!B206)","v":""},{"$f":"Factures1!C206","v":0},{"$f":"Factures1!E206","v":""},{"$f":"Factures1!F206","v":0},{"$f":"Factures1!G206","v":0}]
[{"$f":"IF(Factures1!A207=0,\"\",Factures1!A207 & \" • \"&Factures1!B207)","v":""},{"$f":"Factures1!C207","v":0},{"$f":"Factures1!E207","v":""},{"$f":"Factures1!F207","v":0},{"$f":"Factures1!G207","v":0}]
[{"$f":"IF(Factures1!A208=0,\"\",Factures1!A208 & \" • \"&Factures1!B208)","v":""},{"$f":"Factures1!C208","v":0},{"$f":"Factures1!E208","v":""},{"$f":"Factures1!F208","v":0},{"$f":"Factures1!G208","v":0}]
[{"$f":"IF(Factures1!A209=0,\"\",Factures1!A209 & \" • \"&Factures1!B209)","v":""},{"$f":"Factures1!C209","v":0},{"$f":"Factures1!E209","v":""},{"$f":"Factures1!F209","v":0},{"$f":"Factures1!G209","v":0}]
[{"$f":"IF(Factures1!A210=0,\"\",Factures1!A210 & \" • \"&Factures1!B210)","v":""},{"$f":"Factures1!C210","v":0},{"$f":"Factures1!E210","v":""},{"$f":"Factures1!F210","v":0},{"$f":"Factures1!G210","v":0}]
[{"$f":"IF(Factures1!A211=0,\"\",Factures1!A211 & \" • \"&Factures1!B211)","v":""},{"$f":"Factures1!C211","v":0},{"$f":"Factures1!E211","v":""},{"$f":"Factures1!F211","v":0},{"$f":"Factures1!G211","v":0}]
[{"$f":"IF(Factures1!A212=0,\"\",Factures1!A212 & \" • \"&Factures1!B212)","v":""},{"$f":"Factures1!C212","v":0},{"$f":"Factures1!E212","v":""},{"$f":"Factures1!F212","v":0},{"$f":"Factures1!G212","v":0}]
[{"$f":"IF(Factures1!A213=0,\"\",Factures1!A213 & \" • \"&Factures1!B213)","v":""},{"$f":"Factures1!C213","v":0},{"$f":"Factures1!E213","v":""},{"$f":"Factures1!F213","v":0},{"$f":"Factures1!G213","v":0}]
[{"$f":"IF(Factures1!A214=0,\"\",Factures1!A214 & \" • \"&Factures1!B214)","v":""},{"$f":"Factures1!C214","v":0},{"$f":"Factures1!E214","v":""},{"$f":"Factures1!F214","v":0},{"$f":"Factures1!G214","v":0}]
[{"$f":"IF(Factures1!A215=0,\"\",Factures1!A215 & \" • \"&Factures1!B215)","v":""},{"$f":"Factures1!C215","v":0},{"$f":"Factures1!E215","v":""},{"$f":"Factures1!F215","v":0},{"$f":"Factures1!G215","v":0}]
[{"$f":"IF(Factures1!A216=0,\"\",Factures1!A216 & \" • \"&Factures1!B216)","v":""},{"$f":"Factures1!C216","v":0},{"$f":"Factures1!E216","v":""},{"$f":"Factures1!F216","v":0},{"$f":"Factures1!G216","v":0}]
[{"$f":"Factures1!B217","v":"Total hors TVA"},null,null,null,{"$f":"Factures1!G217","v":364.62676359354123}]
[{"$f":"Factures1!B218","v":"+ TVA"},null,null,null,{"$f":"Factures1!G218","v":27.173236406458756}]
[{"$f":"Factures1!B219","v":""},null,null,null,{"$f":"Factures1!G219","v":""}]
[{"$f":"IF(Factures1!C220=\"\",0,\"Acompte\")","v":0},null,{"$f":"Factures1!C220","v":0},null,{"$f":"Factures1!G220","v":0}]
[{"$f":"Factures1!B221","v":"Total (TVA incluse)"},null,null,null,{"$f":"Factures1!F221","v":391.8}]
[{"$f":"Factures1!B222","v":"dont TVA (T1=7.7% / T2=2.5% / T3=0%)"},null,{"$f":"Factures1!C222","v":26.739090064995342},{"$f":"Factures1!D222","v":0.43414634146341413}]
[{"$f":"Factures1!B223","v":"Total par TVA (7.7% / 2.5% / 0%)"},null,{"$f":"Factures1!C223","v":374},{"$f":"Factures1!D223","v":17.8},{"$f":"Factures1!E223","v":0}]
["Merci de votre visite. A bientôt."]

{"sheet":"Factures1","index":9,"n_rows":226,"n_cols":11,"rows_kept":226,"cut":false,"hidden":false,"merged":[[0,0,0,2],[14,4,14,5],[224,0,224,8],[225,0,225,8],[220,5,220,6],[11,0,11,1],[218,2,218,4],[223,0,223,7]]}
["Christian Roux\nRte de l'Ecole 1"]
["1753 Matran (Switzerland)"]
["Tél. +41 (0)26 401 05 08"]
["excelgestion@bluewin.ch"]
["www.excelgestion.com"]
[]
[null,null,null,{"$f":"IF(ISBLANK(VLOOKUP($B$15,Partners!$A$2:$R$3000,2)),\"\",VLOOKUP($B$15,Partners!$A$2:$R$3000,2))","v":"Entreprise Mon Client"}]
[null,null,null,{"$f":"IF(ISBLANK(VLOOKUP($B$15,Partners!$A$2:$R$3000,3)),\"\",VLOOKUP($B$15,Partners!$A$2:$R$3000,3)) & IF(VLOOKUP($B$15,Partners!$A$2:$R$3000,3)=\"\",\"\",\" \")&IF(ISBLANK(VLOOKUP($B$15,Partners!$A$2:$R$3000,4)),\"\",VLOOKUP($B$15,Partners!$A$2:$R$3000,4))","v":"Mme Pascale Dufour"}]
[null,null,null,{"$f":"IF(ISBLANK(VLOOKUP($B$15,Partners!$A$2:$R$3000,5)),\"\",VLOOKUP($B$15,Partners!$A$2:$R$3000,5))","v":"Avenue du Succès 1"}]
[null,null,null,{"$f":"IF(ISBLANK(VLOOKUP($B$15,Partners!$A$2:$R$3000,6)),VLOOKUP($B$15,Partners!$A$2:$R$3000,7),VLOOKUP($B$15,Partners!$A$2:$R$3000,6)&\" \"&VLOOKUP($B$15,Partners!$A$2:$R$3000,7))","v":"1000 Lausanne"}]
["Facture",null,null,{"$f":"IF(ISBLANK(VLOOKUP($B$15,Partners!$A$2:$R$3000,8)),\"\",VLOOKUP($B$15,Partners!$A$2:$R$3000,8))","v":""}]
[]
[{"$f":"Variables!E2","v":"Date"},{"$f":"TODAY()","v":"2025-11-26"}]
[{"$f":"Variables!E3","v":"Doc. n°/réf."},"1011 / cr",null,null,null,"Kg",{"$f":"IF(F14=\"\",\"\",SUM(K17:K216))","v":0.219}]
[{"$f":"Variables!E4","v":"V/n° client"},3338,1,null,{"$f":"IF(G15<>\"\",Variables!L19,\"\")","v":"Échéance"},null,{"$f":"B13+Variables!A17","v":"2026-01-25"},{"$f":"Variables!A17","v":60}]
[{"$f":"Variables!E5","v":" Référence"},{"$f":"Variables!E6","v":" Désignation"},{"$f":"Variables!E7","v":"Qté"},{"$f":"Variables!E8","v":"Unité"},{"$f":"Variables!E9","v":"Prix unitaire"},{"$f":"Variables!E10","v":"%"},{"$f":"Variables!E11","v":"Total net"},{"$f":"Variables!E12","v":"T"},{"$f":"Variables!E13","v":"TVA"},{"$f":"Variables!E20","v":"Stock"},"KgTot"]
[1019,{"$f":"IF(ISBLANK(A17),\"\",VLOOKUP(A17,Articles!$A$6:$AF$3002,2))","v":"Tintin et les Picaros"},1,{"$f":"IF(ISBLANK(A17),\"\",VLOOKUP(A17,Articles!$A$6:$AF$3002,6))","v":"BD"},{"$f":"IF(ISBLANK(A17),\"\",IF($C$15=1,VLOOKUP(A17,Articles!$A$6:$AF$3038,3),IF($C$15=2,VLOOKUP(A17,Articles!$A$6:$AF$3038,20),IF($C$15=3,VLOOKUP(A17,Articles!$A$6:$AF$3038,21),IF($C$15=4,VLOOKUP(A17,Articles!$A$6:$AF$3038,22),\"Erreur\")))))","v":17.8},null,{"$f":"IF(ISBLANK(A17),0,SUM(C17*E17)*(100-F17)/100)","v":17.8},{"$f":"IF(ISBLANK(A17),0,VLOOKUP(A17,Articles!$A$6:$Q$3002,8))","v":2},{"$f":"IF(ISBLANK(A17),0,IF(Variables!$A$13=\"TTC\",IF(H17=1,G17-(G17*100)/(100+Variables!$A$2),(IF(H17=2,G17-(G17*100)/(100+Variables!$A$3),0))),IF(H17=1,G17*Variables!$A$2/(100),(IF(H17=2,G17*Variables!$A$3/(100),0)))))","v":0.43414634146341413},{"$f":"IF(ISBLANK(A17),\"\",VLOOKUP(A17,Articles!$A$5:$AF$3000,11))","v":2},{"$f":"IF(ISBLANK(A17),\"\",(VLOOKUP(A17,Articles!$A$5:$AH$3002,34))*C17)","v":0.219}]
[7613312141120,{"$f":"IF(ISBLANK(A18),\"\",VLOOKUP(A18,Articles!$A$6:$AF$3002,2))","v":"Micro voix avec interrupteur Shure SM58"},1,{"$f":"IF(ISBLANK(A18),\"\",VLOOKUP(A18,Articles!$A$6:$AF$3002,6))","v":"Sono"},{"$f":"IF(ISBLANK(A18),\"\",IF($C$15=1,VLOOKUP(A18,Articles!$A$6:$AF$3038,3),IF($C$15=2,VLOOKUP(A18,Articles!$A$6:$AF$3038,20),IF($C$15=3,VLOOKUP(A18,Articles!$A$6:$AF$3038,21),IF($C$15=4,VLOOKUP(A18,Articles!$A$6:$AF$3038,22),\"Erreur\")))))","v":340},null,{"$f":"IF(ISBLANK(A18),0,SUM(C18*E18)*(100-F18)/100)","v":340},{"$f":"IF(ISBLANK(A18),0,VLOOKUP(A18,Articles!$A$6:$Q$3002,8))","v":1},{"$f":"IF(ISBLANK(A18),0,IF(Variables!$A$13=\"TTC\",IF(H18=1,G18-(G18*100)/(100+Variables!$A$2),(IF(H18=2,G18-(G18*100)/(100+Variables!$A$3),0))),IF(H18=1,G18*Variables!$A$2/(100),(IF(H18=2,G18*Variables!$A$3/(100),0)))))","v":24.308263695450307},{"$f":"IF(ISBLANK(A18),\"\",VLOOKUP(A18,Articles!$A$5:$AF$3000,11))","v":0},{"$f":"IF(ISBLANK(A18),\"\",(VLOOKUP(A18,Articles!$A$5:$AH$3002,34))*C18)","v":0}]
[9999,"Frais d'envoi",1,"Selon poids",34,null,34,1,{"$f":"IF(ISBLANK(A19),0,IF(Variables!$A$13=\"TTC\",IF(H19=1,G19-(G19*100)/(100+Variables!$A$2),(IF(H19=2,G19-(G19*100)/(100+Variables!$A$3),0))),IF(H19=1,G19*Variables!$A$2/(100),(IF(H19=2,G19*Variables!$A$3/(100),0)))))","v":2.4308263695450343},{"$f":"IF(ISBLANK(A19),\"\",VLOOKUP(A19,Articles!$A$5:$AF$3000,11))","v":-32},{"$f":"IF(ISBLANK(A19),\"\",(VLOOKUP(A19,Articles!$A$5:$AH$3002,34))*C19)","v":0}]
[null,{"$f":"IF(ISBLANK(A20),\"\",VLOOKUP(A20,Articles!$A$6:$AF$3002,2))","v":""},null,{"$f":"IF(ISBLANK(A20),\"\",VLOOKUP(A20,Articles!$A$6:$AF$3002,6))","v":""},{"$f":"IF(ISBLANK(A20),\"\",IF($C$15=1,VLOOKUP(A20,Articles!$A$6:$AF$3038,3),IF($C$15=2,VLOOKUP(A20,Articles!$A$6:$AF$3038,20),IF($C$15=3,VLOOKUP(A20,Articles!$A$6:$AF$3038,21),IF($C$15=4,VLOOKUP(A20,Articles!$A$6:$AF$3038,22),\"Erreur\")))))","v":""},null,0,{"$f":"IF(ISBLANK(A20),0,VLOOKUP(A20,Articles!$A$6:$Q$3002,8))","v":0},{"$f":"IF(ISBLANK(A20),0,IF(Variables!$A$13=\"TTC\",IF(H20=1,G20-(G20*100)/(100+Variables!$A$2),(IF(H20=2,G20-(G20*100)/(100+Variables!$A$3),0))),IF(H20=1,G20*Variables!$A$2/(100),(IF(H20=2,G20*Variables!$A$3/(100),0)))))","v":0},{"$f":"IF(ISBLANK(A20),\"\",VLOOKUP(A20,Articles!$A$5:$AF$3000,11))","v":""},{"$f":"IF(ISBLANK(A20),\"\",(VLOOKUP(A20,Articles!$A$5:$AH$3002,34))*C20)","v":""}]
[null,{"$f":"IF(ISBLANK(A21),\"\",VLOOKUP(A21,Articles!$A$6:$AF$3002,2))","v":""},null,{"$f":"IF(ISBLANK(A21),\"\",VLOOKUP(A21,Articles!$A$6:$AF$3002,6))","v":""},{"$f":"IF(ISBLANK(A21),\"\",IF($C$15=1,VLOOKUP(A21,Articles!$A$6:$AF$3038,3),IF($C$15=2,VLOOKUP(A21,Articles!$A$6:$AF$3038,20),IF($C$15=3,VLOOKUP(A21,Articles!$A$6:$AF$3038,21),IF($C$15=4,VLOOKUP(A21,Articles!$A$6:$AF$3038,22),\"Erreur\")))))","v":""},null,0,{"$f":"IF(ISBLANK(A21),0,VLOOKUP(A21,Articles!$A$6:$Q$3002,8))","v":0},{"$f":"IF(ISBLANK(A21),0,IF(Variables!$A$13=\"TTC\",IF(H21=1,G21-(G21*100)/(100+Variables!$A$2),(IF(H21=2,G21-(G21*100)/(100+Variables!$A$3),0))),IF(H21=1,G21*Variables!$A$2/(100),(IF(H21=2,G21*Variables!$A$3/(100),0)))))","v":0},{"$f":"IF(ISBLANK(A21),\"\",VLOOKUP(A21,Articles!$A$5:$AF$3000,11))","v":""},{"$f":"IF(ISBLANK(A21),\"\",(VLOOKUP(A21,Articles!$A$5:$AH$3002,34))*C21)","v":""}]
[null,{"$f":"IF(ISBLANK(A22),\"\",VLOOKUP(A22,Articles!$A$6:$AF$3002,2))","v":""},null,{"$f":"IF(ISBLANK(A22),\"\",VLOOKUP(A22,Articles!$A$6:$AF$3002,6))","v":""},{"$f":"IF(ISBLANK(A22),\"\",IF($C$15=1,VLOOKUP(A22,Articles!$A$6:$AF$3038,3),IF($C$15=2,VLOOKUP(A22,Articles!$A$6:$AF$3038,20),IF($C$15=3,VLOOKUP(A22,Articles!$A$6:$AF$3038,21),IF($C$15=4,VLOOKUP(A22,Articles!$A$6:$AF$3038,22),\"Erreur\")))))","v":""},null,0,{"$f":"IF(ISBLANK(A22),0,VLOOKUP(A22,Articles!$A$6:$Q$3002,8))","v":0},{"$f":"IF(ISBLANK(A22),0,IF(Variables!$A$13=\"TTC\",IF(H22=1,G22-(G22*100)/(100+Variables!$A$2),(IF(H22=2,G22-(G22*100)/(100+Variables!$A$3),0))),IF(H22=1,G22*Variables!$A$2/(100),(IF(H22=2,G22*Variables!$A$3/(100),0)))))","v":0},{"$f":"IF(ISBLANK(A22),\"\",VLOOKUP(A22,Articles!$A$5:$AF$3000,11))","v":""},{"$f":"IF(ISBLANK(A22),\"\",(VLOOKUP(A22,Articles!$A$5:$AH$3002,34))*C22)","v":""}]
[null,{"$f":"IF(ISBLANK(A23),\"\",VLOOKUP(A23,Articles!$A$6:$AF$3002,2))","v":""},null,{"$f":"IF(ISBLANK(A23),\"\",VLOOKUP(A23,Articles!$A$6:$AF$3002,6))","v":""},{"$f":"IF(ISBLANK(A23),\"\",IF($C$15=1,VLOOKUP(A23,Articles!$A$6:$AF$3038,3),IF($C$15=2,VLOOKUP(A23,Articles!$A$6:$AF$3038,20),IF($C$15=3,VLOOKUP(A23,Articles!$A$6:$AF$3038,21),IF($C$15=4,VLOOKUP(A23,Articles!$A$6:$AF$3038,22),\"Erreur\")))))","v":""},null,0,{"$f":"IF(ISBLANK(A23),0,VLOOKUP(A23,Articles!$A$6:$Q$3002,8))","v":0},{"$f":"IF(ISBLANK(A23),0,IF(Variables!$A$13=\"TTC\",IF(H23=1,G23-(G23*100)/(100+Variables!$A$2),(IF(H23=2,G23-(G23*100)/(100+Variables!$A$3),0))),IF(H23=1,G23*Variables!$A$2/(100),(IF(H23=2,G23*Variables!$A$3/(100),0)))))","v":0},{"$f":"IF(ISBLANK(A23),\"\",VLOOKUP(A23,Articles!$A$5:$AF$3000,11))","v":""},{"$f":"IF(ISBLANK(A23),\"\",(VLOOKUP(A23,Articles!$A$5:$AH$3002,34))*C23)","v":""}]
[null,{"$f":"IF(ISBLANK(A24),\"\",VLOOKUP(A24,Articles!$A$6:$AF$3002,2))","v":""},null,{"$f":"IF(ISBLANK(A24),\"\",VLOOKUP(A24,Articles!$A$6:$AF$3002,6))","v":""},{"$f":"IF(ISBLANK(A24),\"\",IF($C$15=1,VLOOKUP(A24,Articles!$A$6:$AF$3038,3),IF($C$15=2,VLOOKUP(A24,Articles!$A$6:$AF$3038,20),IF($C$15=3,VLOOKUP(A24,Articles!$A$6:$AF$3038,21),IF($C$15=4,VLOOKUP(A24,Articles!$A$6:$AF$3038,22),\"Erreur\")))))","v":""},null,0,{"$f":"IF(ISBLANK(A24),0,VLOOKUP(A24,Articles!$A$6:$Q$3002,8))","v":0},{"$f":"IF(ISBLANK(A24),0,IF(Variables!$A$13=\"TTC\",IF(H24=1,G24-(G24*100)/(100+Variables!$A$2),(IF(H24=2,G24-(G24*100)/(100+Variables!$A$3),0))),IF(H24=1,G24*Variables!$A$2/(100),(IF(H24=2,G24*Variables!$A$3/(100),0)))))","v":0},{"$f":"IF(ISBLANK(A24),\"\",VLOOKUP(A24,Articles!$A$5:$AF$3000,11))","v":""},{"$f":"IF(ISBLANK(A24),\"\",(VLOOKUP(A24,Articles!$A$5:$AH$3002,34))*C24)","v":""}]
[null,{"$f":"IF(ISBLANK(A25),\"\",VLOOKUP(A25,Articles!$A$6:$AF$3002,2))","v":""},null,{"$f":"IF(ISBLANK(A25),\"\",VLOOKUP(A25,Articles!$A$6:$AF$3002,6))","v":""},{"$f":"IF(ISBLANK(A25),\"\",IF($C$15=1,VLOOKUP(A25,Articles!$A$6:$AF$3038,3),IF($C$15=2,VLOOKUP(A25,Articles!$A$6:$AF$3038,20),IF($C$15=3,VLOOKUP(A25,Articles!$A$6:$AF$3038,21),IF($C$15=4,VLOOKUP(A25,Articles!$A$6:$AF$3038,22),\"Erreur\")))))","v":""},null,0,{"$f":"IF(ISBLANK(A25),0,VLOOKUP(A25,Articles!$A$6:$Q$3002,8))","v":0},{"$f":"IF(ISBLANK(A25),0,IF(Variables!$A$13=\"TTC\",IF(H25=1,G25-(G25*100)/(100+Variables!$A$2),(IF(H25=2,G25-(G25*100)/(100+Variables!$A$3),0))),IF(H25=1,G25*Variables!$A$2/(100),(IF(H25=2,G25*Variables!$A$3/(100),0)))))","v":0},{"$f":"IF(ISBLANK(A25),\"\",VLOOKUP(A25,Articles!$A$5:$AF$3000,11))","v":""},{"$f":"IF(ISBLANK(A25),\"\",(VLOOKUP(A25,Articles!$A$5:$AH$3002,34))*C25)","v":""}]
[null,{"$f":"IF(ISBLANK(A26),\"\",VLOOKUP(A26,Articles!$A$6:$AF$3002,2))","v":""},null,{"$f":"IF(ISBLANK(A26),\"\",VLOOKUP(A26,Articles!$A$6:$AF$3002,6))","v":""},{"$f":"IF(ISBLANK(A26),\"\",IF($C$15=1,VLOOKUP(A26,Articles!$A$6:$AF$3038,3),IF($C$15=2,VLOOKUP(A26,Articles!$A$6:$AF$3038,20),IF($C$15=3,VLOOKUP(A26,Articles!$A$6:$AF$3038,21),IF($C$15=4,VLOOKUP(A26,Articles!$A$6:$AF$3038,22),\"Erreur\")))))","v":""},null,0,{"$f":"IF(ISBLANK(A26),0,VLOOKUP(A26,Articles!$A$6:$Q$3002,8))","v":0},{"$f":"IF(ISBLANK(A26),0,IF(Variables!$A$13=\"TTC\",IF(H26=1,G26-(G26*100)/(100+Variables!$A$2),(IF(H26=2,G26-(G26*100)/(100+Variables!$A$3),0))),IF(H26=1,G26*Variables!$A$2/(100),(IF(H26=2,G26*Variables!$A$3/(100),0)))))","v":0},{"$f":"IF(ISBLANK(A26),\"\",VLOOKUP(A26,Articles!$A$5:$AF$3000,11))","v":""},{"$f":"IF(ISBLANK(A26),\"\",(VLOOKUP(A26,Articles!$A$5:$AH$3002,34))*C26)","v":""}]
[null,{"$f":"IF(ISBLANK(A27),\"\",VLOOKUP(A27,Articles!$A$6:$AF$3002,2))","v":""},null,{"$f":"IF(ISBLANK(A27),\"\",VLOOKUP(A27,Articles!$A$6:$AF$3002,6))","v":""},{"$f":"IF(ISBLANK(A27),\"\",IF($C$15=1,VLOOKUP(A27,Articles!$A$6:$AF$3038,3),IF($C$15=2,VLOOKUP(A27,Articles!$A$6:$AF$3038,20),IF($C$15=3,VLOOKUP(A27,Articles!$A$6:$AF$3038,21),IF($C$15=4,VLOOKUP(A27,Articles!$A$6:$AF$3038,22),\"Erreur\")))))","v":""},null,0,{"$f":"IF(ISBLANK(A27),0,VLOOKUP(A27,Articles!$A$6:$Q$3002,8))","v":0},{"$f":"IF(ISBLANK(A27),0,IF(Variables!$A$13=\"TTC\",IF(H27=1,G27-(G27*100)/(100+Variables!$A$2),(IF(H27=2,G27-(G27*100)/(100+Variables!$A$3),0))),IF(H27=1,G27*Variables!$A$2/(100),(IF(H27=2,G27*Variables!$A$3/(100),0)))))","v":0},{"$f":"IF(ISBLANK(A27),\"\",VLOOKUP(A27,Articles!$A$5:$AF$3000,11))","v":""},{"$f":"IF(ISBLANK(A27),\"\",(VLOOKUP(A27,Articles!$A$5:$AH$3002,34))*C27)","v":""}]
[null,{"$f":"IF(ISBLANK(A28),\"\",VLOOKUP(A28,Articles!$A$6:$AF$3002,2))","v":""},null,{"$f":"IF(ISBLANK(A28),\"\",VLOOKUP(A28,Articles!$A$6:$AF$3002,6))","v":""},{"$f":"IF(ISBLANK(A28),\"\",IF($C$15=1,VLOOKUP(A28,Articles!$A$6:$AF$3038,3),IF($C$15=2,VLOOKUP(A28,Articles!$A$6:$AF$3038,20),IF($C$15=3,VLOOKUP(A28,Articles!$A$6:$AF$3038,21),IF($C$15=4,VLOOKUP(A28,Articles!$A$6:$AF$3038,22),\"Erreur\")))))","v":""},null,0,{"$f":"IF(ISBLANK(A28),0,VLOOKUP(A28,Articles!$A$6:$Q$3002,8))","v":0},{"$f":"IF(ISBLANK(A28),0,IF(Variables!$A$13=\"TTC\",IF(H28=1,G28-(G28*100)/(100+Variables!$A$2),(IF(H28=2,G28-(G28*100)/(100+Variables!$A$3),0))),IF(H28=1,G28*Variables!$A$2/(100),(IF(H28=2,G28*Variables!$A$3/(100),0)))))","v":0},{"$f":"IF(ISBLANK(A28),\"\",VLOOKUP(A28,Articles!$A$5:$AF$3000,11))","v":""},{"$f":"IF(ISBLANK(A28),\"\",(VLOOKUP(A28,Articles!$A$5:$AH$3002,34))*C28)","v":""}]
[null,{"$f":"IF(ISBLANK(A29),\"\",VLOOKUP(A29,Articles!$A$6:$AF$3002,2))","v":""},null,{"$f":"IF(ISBLANK(A29),\"\",VLOOKUP(A29,Articles!$A$6:$AF$3002,6))","v":""},{"$f":"IF(ISBLANK(A29),\"\",IF($C$15=1,VLOOKUP(A29,Articles!$A$6:$AF$3038,3),IF($C$15=2,VLOOKUP(A29,Articles!$A$6:$AF$3038,20),IF($C$15=3,VLOOKUP(A29,Articles!$A$6:$AF$3038,21),IF($C$15=4,VLOOKUP(A29,Articles!$A$6:$AF$3038,22),\"Erreur\")))))","v":""},null,0,{"$f":"IF(ISBLANK(A29),0,VLOOKUP(A29,Articles!$A$6:$Q$3002,8))","v":0},{"$f":"IF(ISBLANK(A29),0,IF(Variables!$A$13=\"TTC\",IF(H29=1,G29-(G29*100)/(100+Variables!$A$2),(IF(H29=2,G29-(G29*100)/(100+Variables!$A$3),0))),IF(H29=1,G29*Variables!$A$2/(100),(IF(H29=2,G29*Variables!$A$3/(100),0)))))","v":0},{"$f":"IF(ISBLANK(A29),\"\",VLOOKUP(A29,Articles!$A$5:$AF$3000,11))","v":""},{"$f":"IF(ISBLANK(A29),\"\",(VLOOKUP(A29,Articles!$A$5:$AH$3002,34))*C29)","v":""}]
[null,{"$f":"IF(ISBLANK(A30),\"\",VLOOKUP(A30,Articles!$A$6:$AF$3002,2))","v":""},null,{"$f":"IF(ISBLANK(A30),\"\",VLOOKUP(A30,Articles!$A$6:$AF$3002,6))","v":""},{"$f":"IF(ISBLANK(A30),\"\",IF($C$15=1,VLOOKUP(A30,Articles!$A$6:$AF$3038,3),IF($C$15=2,VLOOKUP(A30,Articles!$A$6:$AF$3038,20),IF($C$15=3,VLOOKUP(A30,Articles!$A$6:$AF$3038,21),IF($C$15=4,VLOOKUP(A30,Articles!$A$6:$AF$3038,22),\"Erreur\")))))","v":""},null,0,{"$f":"IF(ISBLANK(A30),0,VLOOKUP(A30,Articles!$A$6:$Q$3002,8))","v":0},{"$f":"IF(ISBLANK(A30),0,IF(Variables!$A$13=\"TTC\",IF(H30=1,G30-(G30*100)/(100+Variables!$A$2),(IF(H30=2,G30-(G30*100)/(100+Variables!$A$3),0))),IF(H30=1,G30*Variables!$A$2/(100),(IF(H30=2,G30*Variables!$A$3/(100),0)))))","v":0},{"$f":"IF(ISBLANK(A30),\"\",VLOOKUP(A30,Articles!$A$5:$AF$3000,11))","v":""},{"$f":"IF(ISBLANK(A30),\"\",(VLOOKUP(A30,Articles!$A$5:$AH$3002,34))*C30)","v":""}]
[null,{"$f":"IF(ISBLANK(A31),\"\",VLOOKUP(A31,Articles!$A$6:$AF$3002,2))","v":""},null,{"$f":"IF(ISBLANK(A31),\"\",VLOOKUP(A31,Articles!$A$6:$AF$3002,6))","v":""},{"$f":"IF(ISBLANK(A31),\"\",IF($C$15=1,VLOOKUP(A31,Articles!$A$6:$AF$3038,3),IF($C$15=2,VLOOKUP(A31,Articles!$A$6:$AF$3038,20),IF($C$15=3,VLOOKUP(A31,Articles!$A$6:$AF$3038,21),IF($C$15=4,VLOOKUP(A31,Articles!$A$6:$AF$3038,22),\"Erreur\")))))","v":""},null,0,{"$f":"IF(ISBLANK(A31),0,VLOOKUP(A31,Articles!$A$6:$Q$3002,8))","v":0},{"$f":"IF(ISBLANK(A31),0,IF(Variables!$A$13=\"TTC\",IF(H31=1,G31-(G31*100)/(100+Variables!$A$2),(IF(H31=2,G31-(G31*100)/(100+Variables!$A$3),0))),IF(H31=1,G31*Variables!$A$2/(100),(IF(H31=2,G31*Variables!$A$3/(100),0)))))","v":0},{"$f":"IF(ISBLANK(A31),\"\",VLOOKUP(A31,Articles!$A$5:$AF$3000,11))","v":""},{"$f":"IF(ISBLANK(A31),\"\",(VLOOKUP(A31,Articles!$A$5:$AH$3002,34))*C31)","v":""}]
[null,{"$f":"IF(ISBLANK(A32),\"\",VLOOKUP(A32,Articles!$A$6:$AF$3002,2))","v":""},null,{"$f":"IF(ISBLANK(A32),\"\",VLOOKUP(A32,Articles!$A$6:$AF$3002,6))","v":""},{"$f":"IF(ISBLANK(A32),\"\",IF($C$15=1,VLOOKUP(A32,Articles!$A$6:$AF$3038,3),IF($C$15=2,VLOOKUP(A32,Articles!$A$6:$AF$3038,20),IF($C$15=3,VLOOKUP(A32,Articles!$A$6:$AF$3038,21),IF($C$15=4,VLOOKUP(A32,Articles!$A$6:$AF$3038,22),\"Erreur\")))))","v":""},null,0,{"$f":"IF(ISBLANK(A32),0,VLOOKUP(A32,Articles!$A$6:$Q$3002,8))","v":0},{"$f":"IF(ISBLANK(A32),0,IF(Variables!$A$13=\"TTC\",IF(H32=1,G32-(G32*100)/(100+Variables!$A$2),(IF(H32=2,G32-(G32*100)/(100+Variables!$A$3),0))),IF(H32=1,G32*Variables!$A$2/(100),(IF(H32=2,G32*Variables!$A$3/(100),0)))))","v":0},{"$f":"IF(ISBLANK(A32),\"\",VLOOKUP(A32,Articles!$A$5:$AF$3000,11))","v":""},{"$f":"IF(ISBLANK(A32),\"\",(VLOOKUP(A32,Articles!$A$5:$AH$3002,34))*C32)","v":""}]
[null,{"$f":"IF(ISBLANK(A33),\"\",VLOOKUP(A33,Articles!$A$6:$AF$3002,2))","v":""},null,{"$f":"IF(ISBLANK(A33),\"\",VLOOKUP(A33,Articles!$A$6:$AF$3002,6))","v":""},{"$f":"IF(ISBLANK(A33),\"\",IF($C$15=1,VLOOKUP(A33,Articles!$A$6:$AF$3038,3),IF($C$15=2,VLOOKUP(A33,Articles!$A$6:$AF$3038,20),IF($C$15=3,VLOOKUP(A33,Articles!$A$6:$AF$3038,21),IF($C$15=4,VLOOKUP(A33,Articles!$A$6:$AF$3038,22),\"Erreur\")))))","v":""},null,0,{"$f":"IF(ISBLANK(A33),0,VLOOKUP(A33,Articles!$A$6:$Q$3002,8))","v":0},{"$f":"IF(ISBLANK(A33),0,IF(Variables!$A$13=\"TTC\",IF(H33=1,G33-(G33*100)/(100+Variables!$A$2),(IF(H33=2,G33-(G33*100)/(100+Variables!$A$3),0))),IF(H33=1,G33*Variables!$A$2/(100),(IF(H33=2,G33*Variables!$A$3/(100),0)))))","v":0},{"$f":"IF(ISBLANK(A33),\"\",VLOOKUP(A33,Articles!$A$5:$AF$3000,11))","v":""},{"$f":"IF(ISBLANK(A33),\"\",(VLOOKUP(A33,Articles!$A$5:$AH$3002,34))*C33)","v":""}]
[null,{"$f":"IF(ISBLANK(A34),\"\",VLOOKUP(A34,Articles!$A$6:$AF$3002,2))","v":""},null,{"$f":"IF(ISBLANK(A34),\"\",VLOOKUP(A34,Articles!$A$6:$AF$3002,6))","v":""},{"$f":"IF(ISBLANK(A34),\"\",IF($C$15=1,VLOOKUP(A34,Articles!$A$6:$AF$3038,3),IF($C$15=2,VLOOKUP(A34,Articles!$A$6:$AF$3038,20),IF($C$15=3,VLOOKUP(A34,Articles!$A$6:$AF$3038,21),IF($C$15=4,VLOOKUP(A34,Articles!$A$6:$AF$3038,22),\"Erreur\")))))","v":""},null,0,{"$f":"IF(ISBLANK(A34),0,VLOOKUP(A34,Articles!$A$6:$Q$3002,8))","v":0},{"$f":"IF(ISBLANK(A34),0,IF(Variables!$A$13=\"TTC\",IF(H34=1,G34-(G34*100)/(100+Variables!$A$2),(IF(H34=2,G34-(G34*100)/(100+Variables!$A$3),0))),IF(H34=1,G34*Variables!$A$2/(100),(IF(H34=2,G34*Variables!$A$3/(100),0)))))","v":0},{"$f":"IF(ISBLANK(A34),\"\",VLOOKUP(A34,Articles!$A$5:$AF$3000,11))","v":""},{"$f":"IF(ISBLANK(A34),\"\",(VLOOKUP(A34,Articles!$A$5:$AH$3002,34))*C34)","v":""}]
[null,{"$f":"IF(ISBLANK(A35),\"\",VLOOKUP(A35,Articles!$A$6:$AF$3002,2))","v":""},null,{"$f":"IF(ISBLANK(A35),\"\",VLOOKUP(A35,Articles!$A$6:$AF$3002,6))","v":""},{"$f":"IF(ISBLANK(A35),\"\",IF($C$15=1,VLOOKUP(A35,Articles!$A$6:$AF$3038,3),IF($C$15=2,VLOOKUP(A35,Articles!$A$6:$AF$3038,20),IF($C$15=3,VLOOKUP(A35,Articles!$A$6:$AF$3038,21),IF($C$15=4,VLOOKUP(A35,Articles!$A$6:$AF$3038,22),\"Erreur\")))))","v":""},null,0,{"$f":"IF(ISBLANK(A35),0,VLOOKUP(A35,Articles!$A$6:$Q$3002,8))","v":0},{"$f":"IF(ISBLANK(A35),0,IF(Variables!$A$13=\"TTC\",IF(H35=1,G35-(G35*100)/(100+Variables!$A$2),(IF(H35=2,G35-(G35*100)/(100+Variables!$A$3),0))),IF(H35=1,G35*Variables!$A$2/(100),(IF(H35=2,G35*Variables!$A$3/(100),0)))))","v":0},{"$f":"IF(ISBLANK(A35),\"\",VLOOKUP(A35,Articles!$A$5:$AF$3000,11))","v":""},{"$f":"IF(ISBLANK(A35),\"\",(VLOOKUP(A35,Articles!$A$5:$AH$3002,34))*C35)","v":""}]
[null,{"$f":"IF(ISBLANK(A36),\"\",VLOOKUP(A36,Articles!$A$6:$AF$3002,2))","v":""},null,{"$f":"IF(ISBLANK(A36),\"\",VLOOKUP(A36,Articles!$A$6:$AF$3002,6))","v":""},{"$f":"IF(ISBLANK(A36),\"\",IF($C$15=1,VLOOKUP(A36,Articles!$A$6:$AF$3038,3),IF($C$15=2,VLOOKUP(A36,Articles!$A$6:$AF$3038,20),IF($C$15=3,VLOOKUP(A36,Articles!$A$6:$AF$3038,21),IF($C$15=4,VLOOKUP(A36,Articles!$A$6:$AF$3038,22),\"Erreur\")))))","v":""},null,0,{"$f":"IF(ISBLANK(A36),0,VLOOKUP(A36,Articles!$A$6:$Q$3002,8))","v":0},{"$f":"IF(ISBLANK(A36),0,IF(Variables!$A$13=\"TTC\",IF(H36=1,G36-(G36*100)/(100+Variables!$A$2),(IF(H36=2,G36-(G36*100)/(100+Variables!$A$3),0))),IF(H36=1,G36*Variables!$A$2/(100),(IF(H36=2,G36*Variables!$A$3/(100),0)))))","v":0},{"$f":"IF(ISBLANK(A36),\"\",VLOOKUP(A36,Articles!$A$5:$AF$3000,11))","v":""},{"$f":"IF(ISBLANK(A36),\"\",(VLOOKUP(A36,Articles!$A$5:$AH$3002,34))*C36)","v":""}]
[null,{"$f":"IF(ISBLANK(A37),\"\",VLOOKUP(A37,Articles!$A$6:$AF$3002,2))","v":""},null,{"$f":"IF(ISBLANK(A37),\"\",VLOOKUP(A37,Articles!$A$6:$AF$3002,6))","v":""},{"$f":"IF(ISBLANK(A37),\"\",IF($C$15=1,VLOOKUP(A37,Articles!$A$6:$AF$3038,3),IF($C$15=2,VLOOKUP(A37,Articles!$A$6:$AF$3038,20),IF($C$15=3,VLOOKUP(A37,Articles!$A$6:$AF$3038,21),IF($C$15=4,VLOOKUP(A37,Articles!$A$6:$AF$3038,22),\"Erreur\")))))","v":""},null,0,{"$f":"IF(ISBLANK(A37),0,VLOOKUP(A37,Articles!$A$6:$Q$3002,8))","v":0},{"$f":"IF(ISBLANK(A37),0,IF(Variables!$A$13=\"TTC\",IF(H37=1,G37-(G37*100)/(100+Variables!$A$2),(IF(H37=2,G37-(G37*100)/(100+Variables!$A$3),0))),IF(H37=1,G37*Variables!$A$2/(100),(IF(H37=2,G37*Variables!$A$3/(100),0)))))","v":0},{"$f":"IF(ISBLANK(A37),\"\",VLOOKUP(A37,Articles!$A$5:$AF$3000,11))","v":""},{"$f":"IF(ISBLANK(A37),\"\",(VLOOKUP(A37,Articles!$A$5:$AH$3002,34))*C37)","v":""}]
[null,{"$f":"IF(ISBLANK(A38),\"\",VLOOKUP(A38,Articles!$A$6:$AF$3002,2))","v":""},null,{"$f":"IF(ISBLANK(A38),\"\",VLOOKUP(A38,Articles!$A$6:$AF$3002,6))","v":""},{"$f":"IF(ISBLANK(A38),\"\",IF($C$15=1,VLOOKUP(A38,Articles!$A$6:$AF$3038,3),IF($C$15=2,VLOOKUP(A38,Articles!$A$6:$AF$3038,20),IF($C$15=3,VLOOKUP(A38,Articles!$A$6:$AF$3038,21),IF($C$15=4,VLOOKUP(A38,Articles!$A$6:$AF$3038,22),\"Erreur\")))))","v":""},null,0,{"$f":"IF(ISBLANK(A38),0,VLOOKUP(A38,Articles!$A$6:$Q$3002,8))","v":0},{"$f":"IF(ISBLANK(A38),0,IF(Variables!$A$13=\"TTC\",IF(H38=1,G38-(G38*100)/(100+Variables!$A$2),(IF(H38=2,G38-(G38*100)/(100+Variables!$A$3),0))),IF(H38=1,G38*Variables!$A$2/(100),(IF(H38=2,G38*Variables!$A$3/(100),0)))))","v":0},{"$f":"IF(ISBLANK(A38),\"\",VLOOKUP(A38,Articles!$A$5:$AF$3000,11))","v":""},{"$f":"IF(ISBLANK(A38),\"\",(VLOOKUP(A38,Articles!$A$5:$AH$3002,34))*C38)","v":""}]
[null,{"$f":"IF(ISBLANK(A39),\"\",VLOOKUP(A39,Articles!$A$6:$AF$3002,2))","v":""},null,{"$f":"IF(ISBLANK(A39),\"\",VLOOKUP(A39,Articles!$A$6:$AF$3002,6))","v":""},{"$f":"IF(ISBLANK(A39),\"\",IF($C$15=1,VLOOKUP(A39,Articles!$A$6:$AF$3038,3),IF($C$15=2,VLOOKUP(A39,Articles!$A$6:$AF$3038,20),IF($C$15=3,VLOOKUP(A39,Articles!$A$6:$AF$3038,21),IF($C$15=4,VLOOKUP(A39,Articles!$A$6:$AF$3038,22),\"Erreur\")))))","v":""},null,0,{"$f":"IF(ISBLANK(A39),0,VLOOKUP(A39,Articles!$A$6:$Q$3002,8))","v":0},{"$f":"IF(ISBLANK(A39),0,IF(Variables!$A$13=\"TTC\",IF(H39=1,G39-(G39*100)/(100+Variables!$A$2),(IF(H39=2,G39-(G39*100)/(100+Variables!$A$3),0))),IF(H39=1,G39*Variables!$A$2/(100),(IF(H39=2,G39*Variables!$A$3/(100),0)))))","v":0},{"$f":"IF(ISBLANK(A39),\"\",VLOOKUP(A39,Articles!$A$5:$AF$3000,11))","v":""},{"$f":"IF(ISBLANK(A39),\"\",(VLOOKUP(A39,Articles!$A$5:$AH$3002,34))*C39)","v":""}]
[null,{"$f":"IF(ISBLANK(A40),\"\",VLOOKUP(A40,Articles!$A$6:$AF$3002,2))","v":""},null,{"$f":"IF(ISBLANK(A40),\"\",VLOOKUP(A40,Articles!$A$6:$AF$3002,6))","v":""},{"$f":"IF(ISBLANK(A40),\"\",IF($C$15=1,VLOOKUP(A40,Articles!$A$6:$AF$3038,3),IF($C$15=2,VLOOKUP(A40,Articles!$A$6:$AF$3038,20),IF($C$15=3,VLOOKUP(A40,Articles!$A$6:$AF$3038,21),IF($C$15=4,VLOOKUP(A40,Articles!$A$6:$AF$3038,22),\"Erreur\")))))","v":""},null,0,{"$f":"IF(ISBLANK(A40),0,VLOOKUP(A40,Articles!$A$6:$Q$3002,8))","v":0},{"$f":"IF(ISBLANK(A40),0,IF(Variables!$A$13=\"TTC\",IF(H40=1,G40-(G40*100)/(100+Variables!$A$2),(IF(H40=2,G40-(G40*100)/(100+Variables!$A$3),0))),IF(H40=1,G40*Variables!$A$2/(100),(IF(H40=2,G40*Variables!$A$3/(100),0)))))","v":0},{"$f":"IF(ISBLANK(A40),\"\",VLOOKUP(A40,Articles!$A$5:$AF$3000,11))","v":""},{"$f":"IF(ISBLANK(A40),\"\",(VLOOKUP(A40,Articles!$A$5:$AH$3002,34))*C40)","v":""}]
[null,{"$f":"IF(ISBLANK(A41),\"\",VLOOKUP(A41,Articles!$A$6:$AF$3002,2))","v":""},null,{"$f":"IF(ISBLANK(A41),\"\",VLOOKUP(A41,Articles!$A$6:$AF$3002,6))","v":""},{"$f":"IF(ISBLANK(A41),\"\",IF($C$15=1,VLOOKUP(A41,Articles!$A$6:$AF$3038,3),IF($C$15=2,VLOOKUP(A41,Articles!$A$6:$AF$3038,20),IF($C$15=3,VLOOKUP(A41,Articles!$A$6:$AF$3038,21),IF($C$15=4,VLOOKUP(A41,Articles!$A$6:$AF$3038,22),\"Erreur\")))))","v":""},null,0,{"$f":"IF(ISBLANK(A41),0,VLOOKUP(A41,Articles!$A$6:$Q$3002,8))","v":0},{"$f":"IF(ISBLANK(A41),0,IF(Variables!$A$13=\"TTC\",IF(H41=1,G41-(G41*100)/(100+Variables!$A$2),(IF(H41=2,G41-(G41*100)/(100+Variables!$A$3),0))),IF(H41=1,G41*Variables!$A$2/(100),(IF(H41=2,G41*Variables!$A$3/(100),0)))))","v":0},{"$f":"IF(ISBLANK(A41),\"\",VLOOKUP(A41,Articles!$A$5:$AF$3000,11))","v":""},{"$f":"IF(ISBLANK(A41),\"\",(VLOOKUP(A41,Articles!$A$5:$AH$3002,34))*C41)","v":""}]
[null,{"$f":"IF(ISBLANK(A42),\"\",VLOOKUP(A42,Articles!$A$6:$AF$3002,2))","v":""},null,{"$f":"IF(ISBLANK(A42),\"\",VLOOKUP(A42,Articles!$A$6:$AF$3002,6))","v":""},{"$f":"IF(ISBLANK(A42),\"\",IF($C$15=1,VLOOKUP(A42,Articles!$A$6:$AF$3038,3),IF($C$15=2,VLOOKUP(A42,Articles!$A$6:$AF$3038,20),IF($C$15=3,VLOOKUP(A42,Articles!$A$6:$AF$3038,21),IF($C$15=4,VLOOKUP(A42,Articles!$A$6:$AF$3038,22),\"Erreur\")))))","v":""},null,0,{"$f":"IF(ISBLANK(A42),0,VLOOKUP(A42,Articles!$A$6:$Q$3002,8))","v":0},{"$f":"IF(ISBLANK(A42),0,IF(Variables!$A$13=\"TTC\",IF(H42=1,G42-(G42*100)/(100+Variables!$A$2),(IF(H42=2,G42-(G42*100)/(100+Variables!$A$3),0))),IF(H42=1,G42*Variables!$A$2/(100),(IF(H42=2,G42*Variables!$A$3/(100),0)))))","v":0},{"$f":"IF(ISBLANK(A42),\"\",VLOOKUP(A42,Articles!$A$5:$AF$3000,11))","v":""},{"$f":"IF(ISBLANK(A42),\"\",(VLOOKUP(A42,Articles!$A$5:$AH$3002,34))*C42)","v":""}]
[null,{"$f":"IF(ISBLANK(A43),\"\",VLOOKUP(A43,Articles!$A$6:$AF$3002,2))","v":""},null,{"$f":"IF(ISBLANK(A43),\"\",VLOOKUP(A43,Articles!$A$6:$AF$3002,6))","v":""},{"$f":"IF(ISBLANK(A43),\"\",IF($C$15=1,VLOOKUP(A43,Articles!$A$6:$AF$3038,3),IF($C$15=2,VLOOKUP(A43,Articles!$A$6:$AF$3038,20),IF($C$15=3,VLOOKUP(A43,Articles!$A$6:$AF$3038,21),IF($C$15=4,VLOOKUP(A43,Articles!$A$6:$AF$3038,22),\"Erreur\")))))","v":""},null,0,{"$f":"IF(ISBLANK(A43),0,VLOOKUP(A43,Articles!$A$6:$Q$3002,8))","v":0},{"$f":"IF(ISBLANK(A43),0,IF(Variables!$A$13=\"TTC\",IF(H43=1,G43-(G43*100)/(100+Variables!$A$2),(IF(H43=2,G43-(G43*100)/(100+Variables!$A$3),0))),IF(H43=1,G43*Variables!$A$2/(100),(IF(H43=2,G43*Variables!$A$3/(100),0)))))","v":0},{"$f":"IF(ISBLANK(A43),\"\",VLOOKUP(A43,Articles!$A$5:$AF$3000,11))","v":""},{"$f":"IF(ISBLANK(A43),\"\",(VLOOKUP(A43,Articles!$A$5:$AH$3002,34))*C43)","v":""}]
[null,{"$f":"IF(ISBLANK(A44),\"\",VLOOKUP(A44,Articles!$A$6:$AF$3002,2))","v":""},null,{"$f":"IF(ISBLANK(A44),\"\",VLOOKUP(A44,Articles!$A$6:$AF$3002,6))","v":""},{"$f":"IF(ISBLANK(A44),\"\",IF($C$15=1,VLOOKUP(A44,Articles!$A$6:$AF$3038,3),IF($C$15=2,VLOOKUP(A44,Articles!$A$6:$AF$3038,20),IF($C$15=3,VLOOKUP(A44,Articles!$A$6:$AF$3038,21),IF($C$15=4,VLOOKUP(A44,Articles!$A$6:$AF$3038,22),\"Erreur\")))))","v":""},null,0,{"$f":"IF(ISBLANK(A44),0,VLOOKUP(A44,Articles!$A$6:$Q$3002,8))","v":0},{"$f":"IF(ISBLANK(A44),0,IF(Variables!$A$13=\"TTC\",IF(H44=1,G44-(G44*100)/(100+Variables!$A$2),(IF(H44=2,G44-(G44*100)/(100+Variables!$A$3),0))),IF(H44=1,G44*Variables!$A$2/(100),(IF(H44=2,G44*Variables!$A$3/(100),0)))))","v":0},{"$f":"IF(ISBLANK(A44),\"\",VLOOKUP(A44,Articles!$A$5:$AF$3000,11))","v":""},{"$f":"IF(ISBLANK(A44),\"\",(VLOOKUP(A44,Articles!$A$5:$AH$3002,34))*C44)","v":""}]
[null,{"$f":"IF(ISBLANK(A45),\"\",VLOOKUP(A45,Articles!$A$6:$AF$3002,2))","v":""},null,{"$f":"IF(ISBLANK(A45),\"\",VLOOKUP(A45,Articles!$A$6:$AF$3002,6))","v":""},{"$f":"IF(ISBLANK(A45),\"\",IF($C$15=1,VLOOKUP(A45,Articles!$A$6:$AF$3038,3),IF($C$15=2,VLOOKUP(A45,Articles!$A$6:$AF$3038,20),IF($C$15=3,VLOOKUP(A45,Articles!$A$6:$AF$3038,21),IF($C$15=4,VLOOKUP(A45,Articles!$A$6:$AF$3038,22),\"Erreur\")))))","v":""},null,0,{"$f":"IF(ISBLANK(A45),0,VLOOKUP(A45,Articles!$A$6:$Q$3002,8))","v":0},{"$f":"IF(ISBLANK(A45),0,IF(Variables!$A$13=\"TTC\",IF(H45=1,G45-(G45*100)/(100+Variables!$A$2),(IF(H45=2,G45-(G45*100)/(100+Variables!$A$3),0))),IF(H45=1,G45*Variables!$A$2/(100),(IF(H45=2,G45*Variables!$A$3/(100),0)))))","v":0},{"$f":"IF(ISBLANK(A45),\"\",VLOOKUP(A45,Articles!$A$5:$AF$3000,11))","v":""},{"$f":"IF(ISBLANK(A45),\"\",(VLOOKUP(A45,Articles!$A$5:$AH$3002,34))*C45)","v":""}]
[null,{"$f":"IF(ISBLANK(A46),\"\",VLOOKUP(A46,Articles!$A$6:$AF$3002,2))","v":""},null,{"$f":"IF(ISBLANK(A46),\"\",VLOOKUP(A46,Articles!$A$6:$AF$3002,6))","v":""},{"$f":"IF(ISBLANK(A46),\"\",IF($C$15=1,VLOOKUP(A46,Articles!$A$6:$AF$3038,3),IF($C$15=2,VLOOKUP(A46,Articles!$A$6:$AF$3038,20),IF($C$15=3,VLOOKUP(A46,Articles!$A$6:$AF$3038,21),IF($C$15=4,VLOOKUP(A46,Articles!$A$6:$AF$3038,22),\"Erreur\")))))","v":""},null,0,{"$f":"IF(ISBLANK(A46),0,VLOOKUP(A46,Articles!$A$6:$Q$3002,8))","v":0},{"$f":"IF(ISBLANK(A46),0,IF(Variables!$A$13=\"TTC\",IF(H46=1,G46-(G46*100)/(100+Variables!$A$2),(IF(H46=2,G46-(G46*100)/(100+Variables!$A$3),0))),IF(H46=1,G46*Variables!$A$2/(100),(IF(H46=2,G46*Variables!$A$3/(100),0)))))","v":0},{"$f":"IF(ISBLANK(A46),\"\",VLOOKUP(A46,Articles!$A$5:$AF$3000,11))","v":""},{"$f":"IF(ISBLANK(A46),\"\",(VLOOKUP(A46,Articles!$A$5:$AH$3002,34))*C46)","v":""}]
[null,{"$f":"IF(ISBLANK(A47),\"\",VLOOKUP(A47,Articles!$A$6:$AF$3002,2))","v":""},null,{"$f":"IF(ISBLANK(A47),\"\",VLOOKUP(A47,Articles!$A$6:$AF$3002,6))","v":""},{"$f":"IF(ISBLANK(A47),\"\",IF($C$15=1,VLOOKUP(A47,Articles!$A$6:$AF$3038,3),IF($C$15=2,VLOOKUP(A47,Articles!$A$6:$AF$3038,20),IF($C$15=3,VLOOKUP(A47,Articles!$A$6:$AF$3038,21),IF($C$15=4,VLOOKUP(A47,Articles!$A$6:$AF$3038,22),\"Erreur\")))))","v":""},null,0,{"$f":"IF(ISBLANK(A47),0,VLOOKUP(A47,Articles!$A$6:$Q$3002,8))","v":0},{"$f":"IF(ISBLANK(A47),0,IF(Variables!$A$13=\"TTC\",IF(H47=1,G47-(G47*100)/(100+Variables!$A$2),(IF(H47=2,G47-(G47*100)/(100+Variables!$A$3),0))),IF(H47=1,G47*Variables!$A$2/(100),(IF(H47=2,G47*Variables!$A$3/(100),0)))))","v":0},{"$f":"IF(ISBLANK(A47),\"\",VLOOKUP(A47,Articles!$A$5:$AF$3000,11))","v":""},{"$f":"IF(ISBLANK(A47),\"\",(VLOOKUP(A47,Articles!$A$5:$AH$3002,34))*C47)","v":""}]
[null,{"$f":"IF(ISBLANK(A48),\"\",VLOOKUP(A48,Articles!$A$6:$AF$3002,2))","v":""},null,{"$f":"IF(ISBLANK(A48),\"\",VLOOKUP(A48,Articles!$A$6:$AF$3002,6))","v":""},{"$f":"IF(ISBLANK(A48),\"\",IF($C$15=1,VLOOKUP(A48,Articles!$A$6:$AF$3038,3),IF($C$15=2,VLOOKUP(A48,Articles!$A$6:$AF$3038,20),IF($C$15=3,VLOOKUP(A48,Articles!$A$6:$AF$3038,21),IF($C$15=4,VLOOKUP(A48,Articles!$A$6:$AF$3038,22),\"Erreur\")))))","v":""},null,0,{"$f":"IF(ISBLANK(A48),0,VLOOKUP(A48,Articles!$A$6:$Q$3002,8))","v":0},{"$f":"IF(ISBLANK(A48),0,IF(Variables!$A$13=\"TTC\",IF(H48=1,G48-(G48*100)/(100+Variables!$A$2),(IF(H48=2,G48-(G48*100)/(100+Variables!$A$3),0))),IF(H48=1,G48*Variables!$A$2/(100),(IF(H48=2,G48*Variables!$A$3/(100),0)))))","v":0},{"$f":"IF(ISBLANK(A48),\"\",VLOOKUP(A48,Articles!$A$5:$AF$3000,11))","v":""},{"$f":"IF(ISBLANK(A48),\"\",(VLOOKUP(A48,Articles!$A$5:$AH$3002,34))*C48)","v":""}]
[null,{"$f":"IF(ISBLANK(A49),\"\",VLOOKUP(A49,Articles!$A$6:$AF$3002,2))","v":""},null,{"$f":"IF(ISBLANK(A49),\"\",VLOOKUP(A49,Articles!$A$6:$AF$3002,6))","v":""},{"$f":"IF(ISBLANK(A49),\"\",IF($C$15=1,VLOOKUP(A49,Articles!$A$6:$AF$3038,3),IF($C$15=2,VLOOKUP(A49,Articles!$A$6:$AF$3038,20),IF($C$15=3,VLOOKUP(A49,Articles!$A$6:$AF$3038,21),IF($C$15=4,VLOOKUP(A49,Articles!$A$6:$AF$3038,22),\"Erreur\")))))","v":""},null,0,{"$f":"IF(ISBLANK(A49),0,VLOOKUP(A49,Articles!$A$6:$Q$3002,8))","v":0},{"$f":"IF(ISBLANK(A49),0,IF(Variables!$A$13=\"TTC\",IF(H49=1,G49-(G49*100)/(100+Variables!$A$2),(IF(H49=2,G49-(G49*100)/(100+Variables!$A$3),0))),IF(H49=1,G49*Variables!$A$2/(100),(IF(H49=2,G49*Variables!$A$3/(100),0)))))","v":0},{"$f":"IF(ISBLANK(A49),\"\",VLOOKUP(A49,Articles!$A$5:$AF$3000,11))","v":""},{"$f":"IF(ISBLANK(A49),\"\",(VLOOKUP(A49,Articles!$A$5:$AH$3002,34))*C49)","v":""}]
[null,{"$f":"IF(ISBLANK(A50),\"\",VLOOKUP(A50,Articles!$A$6:$AF$3002,2))","v":""},null,{"$f":"IF(ISBLANK(A50),\"\",VLOOKUP(A50,Articles!$A$6:$AF$3002,6))","v":""},{"$f":"IF(ISBLANK(A50),\"\",IF($C$15=1,VLOOKUP(A50,Articles!$A$6:$AF$3038,3),IF($C$15=2,VLOOKUP(A50,Articles!$A$6:$AF$3038,20),IF($C$15=3,VLOOKUP(A50,Articles!$A$6:$AF$3038,21),IF($C$15=4,VLOOKUP(A50,Articles!$A$6:$AF$3038,22),\"Erreur\")))))","v":""},null,0,{"$f":"IF(ISBLANK(A50),0,VLOOKUP(A50,Articles!$A$6:$Q$3002,8))","v":0},{"$f":"IF(ISBLANK(A50),0,IF(Variables!$A$13=\"TTC\",IF(H50=1,G50-(G50*100)/(100+Variables!$A$2),(IF(H50=2,G50-(G50*100)/(100+Variables!$A$3),0))),IF(H50=1,G50*Variables!$A$2/(100),(IF(H50=2,G50*Variables!$A$3/(100),0)))))","v":0},{"$f":"IF(ISBLANK(A50),\"\",VLOOKUP(A50,Articles!$A$5:$AF$3000,11))","v":""},{"$f":"IF(ISBLANK(A50),\"\",(VLOOKUP(A50,Articles!$A$5:$AH$3002,34))*C50)","v":""}]
[null,{"$f":"IF(ISBLANK(A51),\"\",VLOOKUP(A51,Articles!$A$6:$AF$3002,2))","v":""},null,{"$f":"IF(ISBLANK(A51),\"\",VLOOKUP(A51,Articles!$A$6:$AF$3002,6))","v":""},{"$f":"IF(ISBLANK(A51),\"\",IF($C$15=1,VLOOKUP(A51,Articles!$A$6:$AF$3038,3),IF($C$15=2,VLOOKUP(A51,Articles!$A$6:$AF$3038,20),IF($C$15=3,VLOOKUP(A51,Articles!$A$6:$AF$3038,21),IF($C$15=4,VLOOKUP(A51,Articles!$A$6:$AF$3038,22),\"Erreur\")))))","v":""},null,0,{"$f":"IF(ISBLANK(A51),0,VLOOKUP(A51,Articles!$A$6:$Q$3002,8))","v":0},{"$f":"IF(ISBLANK(A51),0,IF(Variables!$A$13=\"TTC\",IF(H51=1,G51-(G51*100)/(100+Variables!$A$2),(IF(H51=2,G51-(G51*100)/(100+Variables!$A$3),0))),IF(H51=1,G51*Variables!$A$2/(100),(IF(H51=2,G51*Variables!$A$3/(100),0)))))","v":0},{"$f":"IF(ISBLANK(A51),\"\",VLOOKUP(A51,Articles!$A$5:$AF$3000,11))","v":""},{"$f":"IF(ISBLANK(A51),\"\",(VLOOKUP(A51,Articles!$A$5:$AH$3002,34))*C51)","v":""}]
[null,{"$f":"IF(ISBLANK(A52),\"\",VLOOKUP(A52,Articles!$A$6:$AF$3002,2))","v":""},null,{"$f":"IF(ISBLANK(A52),\"\",VLOOKUP(A52,Articles!$A$6:$AF$3002,6))","v":""},{"$f":"IF(ISBLANK(A52),\"\",IF($C$15=1,VLOOKUP(A52,Articles!$A$6:$AF$3038,3),IF($C$15=2,VLOOKUP(A52,Articles!$A$6:$AF$3038,20),IF($C$15=3,VLOOKUP(A52,Articles!$A$6:$AF$3038,21),IF($C$15=4,VLOOKUP(A52,Articles!$A$6:$AF$3038,22),\"Erreur\")))))","v":""},null,0,{"$f":"IF(ISBLANK(A52),0,VLOOKUP(A52,Articles!$A$6:$Q$3002,8))","v":0},{"$f":"IF(ISBLANK(A52),0,IF(Variables!$A$13=\"TTC\",IF(H52=1,G52-(G52*100)/(100+Variables!$A$2),(IF(H52=2,G52-(G52*100)/(100+Variables!$A$3),0))),IF(H52=1,G52*Variables!$A$2/(100),(IF(H52=2,G52*Variables!$A$3/(100),0)))))","v":0},{"$f":"IF(ISBLANK(A52),\"\",VLOOKUP(A52,Articles!$A$5:$AF$3000,11))","v":""},{"$f":"IF(ISBLANK(A52),\"\",(VLOOKUP(A52,Articles!$A$5:$AH$3002,34))*C52)","v":""}]
[null,{"$f":"IF(ISBLANK(A53),\"\",VLOOKUP(A53,Articles!$A$6:$AF$3002,2))","v":""},null,{"$f":"IF(ISBLANK(A53),\"\",VLOOKUP(A53,Articles!$A$6:$AF$3002,6))","v":""},{"$f":"IF(ISBLANK(A53),\"\",IF($C$15=1,VLOOKUP(A53,Articles!$A$6:$AF$3038,3),IF($C$15=2,VLOOKUP(A53,Articles!$A$6:$AF$3038,20),IF($C$15=3,VLOOKUP(A53,Articles!$A$6:$AF$3038,21),IF($C$15=4,VLOOKUP(A53,Articles!$A$6:$AF$3038,22),\"Erreur\")))))","v":""},null,0,{"$f":"IF(ISBLANK(A53),0,VLOOKUP(A53,Articles!$A$6:$Q$3002,8))","v":0},{"$f":"IF(ISBLANK(A53),0,IF(Variables!$A$13=\"TTC\",IF(H53=1,G53-(G53*100)/(100+Variables!$A$2),(IF(H53=2,G53-(G53*100)/(100+Variables!$A$3),0))),IF(H53=1,G53*Variables!$A$2/(100),(IF(H53=2,G53*Variables!$A$3/(100),0)))))","v":0},{"$f":"IF(ISBLANK(A53),\"\",VLOOKUP(A53,Articles!$A$5:$AF$3000,11))","v":""},{"$f":"IF(ISBLANK(A53),\"\",(VLOOKUP(A53,Articles!$A$5:$AH$3002,34))*C53)","v":""}]
[null,{"$f":"IF(ISBLANK(A54),\"\",VLOOKUP(A54,Articles!$A$6:$AF$3002,2))","v":""},null,{"$f":"IF(ISBLANK(A54),\"\",VLOOKUP(A54,Articles!$A$6:$AF$3002,6))","v":""},{"$f":"IF(ISBLANK(A54),\"\",IF($C$15=1,VLOOKUP(A54,Articles!$A$6:$AF$3038,3),IF($C$15=2,VLOOKUP(A54,Articles!$A$6:$AF$3038,20),IF($C$15=3,VLOOKUP(A54,Articles!$A$6:$AF$3038,21),IF($C$15=4,VLOOKUP(A54,Articles!$A$6:$AF$3038,22),\"Erreur\")))))","v":""},null,0,{"$f":"IF(ISBLANK(A54),0,VLOOKUP(A54,Articles!$A$6:$Q$3002,8))","v":0},{"$f":"IF(ISBLANK(A54),0,IF(Variables!$A$13=\"TTC\",IF(H54=1,G54-(G54*100)/(100+Variables!$A$2),(IF(H54=2,G54-(G54*100)/(100+Variables!$A$3),0))),IF(H54=1,G54*Variables!$A$2/(100),(IF(H54=2,G54*Variables!$A$3/(100),0)))))","v":0},{"$f":"IF(ISBLANK(A54),\"\",VLOOKUP(A54,Articles!$A$5:$AF$3000,11))","v":""},{"$f":"IF(ISBLANK(A54),\"\",(VLOOKUP(A54,Articles!$A$5:$AH$3002,34))*C54)","v":""}]
[null,{"$f":"IF(ISBLANK(A55),\"\",VLOOKUP(A55,Articles!$A$6:$AF$3002,2))","v":""},null,{"$f":"IF(ISBLANK(A55),\"\",VLOOKUP(A55,Articles!$A$6:$AF$3002,6))","v":""},{"$f":"IF(ISBLANK(A55),\"\",IF($C$15=1,VLOOKUP(A55,Articles!$A$6:$AF$3038,3),IF($C$15=2,VLOOKUP(A55,Articles!$A$6:$AF$3038,20),IF($C$15=3,VLOOKUP(A55,Articles!$A$6:$AF$3038,21),IF($C$15=4,VLOOKUP(A55,Articles!$A$6:$AF$3038,22),\"Erreur\")))))","v":""},null,0,{"$f":"IF(ISBLANK(A55),0,VLOOKUP(A55,Articles!$A$6:$Q$3002,8))","v":0},{"$f":"IF(ISBLANK(A55),0,IF(Variables!$A$13=\"TTC\",IF(H55=1,G55-(G55*100)/(100+Variables!$A$2),(IF(H55=2,G55-(G55*100)/(100+Variables!$A$3),0))),IF(H55=1,G55*Variables!$A$2/(100),(IF(H55=2,G55*Variables!$A$3/(100),0)))))","v":0},{"$f":"IF(ISBLANK(A55),\"\",VLOOKUP(A55,Articles!$A$5:$AF$3000,11))","v":""},{"$f":"IF(ISBLANK(A55),\"\",(VLOOKUP(A55,Articles!$A$5:$AH$3002,34))*C55)","v":""}]
[null,{"$f":"IF(ISBLANK(A56),\"\",VLOOKUP(A56,Articles!$A$6:$AF$3002,2))","v":""},null,{"$f":"IF(ISBLANK(A56),\"\",VLOOKUP(A56,Articles!$A$6:$AF$3002,6))","v":""},{"$f":"IF(ISBLANK(A56),\"\",IF($C$15=1,VLOOKUP(A56,Articles!$A$6:$AF$3038,3),IF($C$15=2,VLOOKUP(A56,Articles!$A$6:$AF$3038,20),IF($C$15=3,VLOOKUP(A56,Articles!$A$6:$AF$3038,21),IF($C$15=4,VLOOKUP(A56,Articles!$A$6:$AF$3038,22),\"Erreur\")))))","v":""},null,0,{"$f":"IF(ISBLANK(A56),0,VLOOKUP(A56,Articles!$A$6:$Q$3002,8))","v":0},{"$f":"IF(ISBLANK(A56),0,IF(Variables!$A$13=\"TTC\",IF(H56=1,G56-(G56*100)/(100+Variables!$A$2),(IF(H56=2,G56-(G56*100)/(100+Variables!$A$3),0))),IF(H56=1,G56*Variables!$A$2/(100),(IF(H56=2,G56*Variables!$A$3/(100),0)))))","v":0},{"$f":"IF(ISBLANK(A56),\"\",VLOOKUP(A56,Articles!$A$5:$AF$3000,11))","v":""},{"$f":"IF(ISBLANK(A56),\"\",(VLOOKUP(A56,Articles!$A$5:$AH$3002,34))*C56)","v":""}]
[null,{"$f":"IF(ISBLANK(A57),\"\",VLOOKUP(A57,Articles!$A$6:$AF$3002,2))","v":""},null,{"$f":"IF(ISBLANK(A57),\"\",VLOOKUP(A57,Articles!$A$6:$AF$3002,6))","v":""},{"$f":"IF(ISBLANK(A57),\"\",IF($C$15=1,VLOOKUP(A57,Articles!$A$6:$AF$3038,3),IF($C$15=2,VLOOKUP(A57,Articles!$A$6:$AF$3038,20),IF($C$15=3,VLOOKUP(A57,Articles!$A$6:$AF$3038,21),IF($C$15=4,VLOOKUP(A57,Articles!$A$6:$AF$3038,22),\"Erreur\")))))","v":""},null,0,{"$f":"IF(ISBLANK(A57),0,VLOOKUP(A57,Articles!$A$6:$Q$3002,8))","v":0},{"$f":"IF(ISBLANK(A57),0,IF(Variables!$A$13=\"TTC\",IF(H57=1,G57-(G57*100)/(100+Variables!$A$2),(IF(H57=2,G57-(G57*100)/(100+Variables!$A$3),0))),IF(H57=1,G57*Variables!$A$2/(100),(IF(H57=2,G57*Variables!$A$3/(100),0)))))","v":0},{"$f":"IF(ISBLANK(A57),\"\",VLOOKUP(A57,Articles!$A$5:$AF$3000,11))","v":""},{"$f":"IF(ISBLANK(A57),\"\",(VLOOKUP(A57,Articles!$A$5:$AH$3002,34))*C57)","v":""}]
[null,{"$f":"IF(ISBLANK(A58),\"\",VLOOKUP(A58,Articles!$A$6:$AF$3002,2))","v":""},null,{"$f":"IF(ISBLANK(A58),\"\",VLOOKUP(A58,Articles!$A$6:$AF$3002,6))","v":""},{"$f":"IF(ISBLANK(A58),\"\",IF($C$15=1,VLOOKUP(A58,Articles!$A$6:$AF$3038,3),IF($C$15=2,VLOOKUP(A58,Articles!$A$6:$AF$3038,20),IF($C$15=3,VLOOKUP(A58,Articles!$A$6:$AF$3038,21),IF($C$15=4,VLOOKUP(A58,Articles!$A$6:$AF$3038,22),\"Erreur\")))))","v":""},null,0,{"$f":"IF(ISBLANK(A58),0,VLOOKUP(A58,Articles!$A$6:$Q$3002,8))","v":0},{"$f":"IF(ISBLANK(A58),0,IF(Variables!$A$13=\"TTC\",IF(H58=1,G58-(G58*100)/(100+Variables!$A$2),(IF(H58=2,G58-(G58*100)/(100+Variables!$A$3),0))),IF(H58=1,G58*Variables!$A$2/(100),(IF(H58=2,G58*Variables!$A$3/(100),0)))))","v":0},{"$f":"IF(ISBLANK(A58),\"\",VLOOKUP(A58,Articles!$A$5:$AF$3000,11))","v":""},{"$f":"IF(ISBLANK(A58),\"\",(VLOOKUP(A58,Articles!$A$5:$AH$3002,34))*C58)","v":""}]
[null,{"$f":"IF(ISBLANK(A59),\"\",VLOOKUP(A59,Articles!$A$6:$AF$3002,2))","v":""},null,{"$f":"IF(ISBLANK(A59),\"\",VLOOKUP(A59,Articles!$A$6:$AF$3002,6))","v":""},{"$f":"IF(ISBLANK(A59),\"\",IF($C$15=1,VLOOKUP(A59,Articles!$A$6:$AF$3038,3),IF($C$15=2,VLOOKUP(A59,Articles!$A$6:$AF$3038,20),IF($C$15=3,VLOOKUP(A59,Articles!$A$6:$AF$3038,21),IF($C$15=4,VLOOKUP(A59,Articles!$A$6:$AF$3038,22),\"Erreur\")))))","v":""},null,0,{"$f":"IF(ISBLANK(A59),0,VLOOKUP(A59,Articles!$A$6:$Q$3002,8))","v":0},{"$f":"IF(ISBLANK(A59),0,IF(Variables!$A$13=\"TTC\",IF(H59=1,G59-(G59*100)/(100+Variables!$A$2),(IF(H59=2,G59-(G59*100)/(100+Variables!$A$3),0))),IF(H59=1,G59*Variables!$A$2/(100),(IF(H59=2,G59*Variables!$A$3/(100),0)))))","v":0},{"$f":"IF(ISBLANK(A59),\"\",VLOOKUP(A59,Articles!$A$5:$AF$3000,11))","v":""},{"$f":"IF(ISBLANK(A59),\"\",(VLOOKUP(A59,Articles!$A$5:$AH$3002,34))*C59)","v":""}]
[null,{"$f":"IF(ISBLANK(A60),\"\",VLOOKUP(A60,Articles!$A$6:$AF$3002,2))","v":""},null,{"$f":"IF(ISBLANK(A60),\"\",VLOOKUP(A60,Articles!$A$6:$AF$3002,6))","v":""},{"$f":"IF(ISBLANK(A60),\"\",IF($C$15=1,VLOOKUP(A60,Articles!$A$6:$AF$3038,3),IF($C$15=2,VLOOKUP(A60,Articles!$A$6:$AF$3038,20),IF($C$15=3,VLOOKUP(A60,Articles!$A$6:$AF$3038,21),IF($C$15=4,VLOOKUP(A60,Articles!$A$6:$AF$3038,22),\"Erreur\")))))","v":""},null,0,{"$f":"IF(ISBLANK(A60),0,VLOOKUP(A60,Articles!$A$6:$Q$3002,8))","v":0},{"$f":"IF(ISBLANK(A60),0,IF(Variables!$A$13=\"TTC\",IF(H60=1,G60-(G60*100)/(100+Variables!$A$2),(IF(H60=2,G60-(G60*100)/(100+Variables!$A$3),0))),IF(H60=1,G60*Variables!$A$2/(100),(IF(H60=2,G60*Variables!$A$3/(100),0)))))","v":0},{"$f":"IF(ISBLANK(A60),\"\",VLOOKUP(A60,Articles!$A$5:$AF$3000,11))","v":""},{"$f":"IF(ISBLANK(A60),\"\",(VLOOKUP(A60,Articles!$A$5:$AH$3002,34))*C60)","v":""}]
[null,{"$f":"IF(ISBLANK(A61),\"\",VLOOKUP(A61,Articles!$A$6:$AF$3002,2))","v":""},null,{"$f":"IF(ISBLANK(A61),\"\",VLOOKUP(A61,Articles!$A$6:$AF$3002,6))","v":""},{"$f":"IF(ISBLANK(A61),\"\",IF($C$15=1,VLOOKUP(A61,Articles!$A$6:$AF$3038,3),IF($C$15=2,VLOOKUP(A61,Articles!$A$6:$AF$3038,20),IF($C$15=3,VLOOKUP(A61,Articles!$A$6:$AF$3038,21),IF($C$15=4,VLOOKUP(A61,Articles!$A$6:$AF$3038,22),\"Erreur\")))))","v":""},null,0,{"$f":"IF(ISBLANK(A61),0,VLOOKUP(A61,Articles!$A$6:$Q$3002,8))","v":0},{"$f":"IF(ISBLANK(A61),0,IF(Variables!$A$13=\"TTC\",IF(H61=1,G61-(G61*100)/(100+Variables!$A$2),(IF(H61=2,G61-(G61*100)/(100+Variables!$A$3),0))),IF(H61=1,G61*Variables!$A$2/(100),(IF(H61=2,G61*Variables!$A$3/(100),0)))))","v":0},{"$f":"IF(ISBLANK(A61),\"\",VLOOKUP(A61,Articles!$A$5:$AF$3000,11))","v":""},{"$f":"IF(ISBLANK(A61),\"\",(VLOOKUP(A61,Articles!$A$5:$AH$3002,34))*C61)","v":""}]
[null,{"$f":"IF(ISBLANK(A62),\"\",VLOOKUP(A62,Articles!$A$6:$AF$3002,2))","v":""},null,{"$f":"IF(ISBLANK(A62),\"\",VLOOKUP(A62,Articles!$A$6:$AF$3002,6))","v":""},{"$f":"IF(ISBLANK(A62),\"\",IF($C$15=1,VLOOKUP(A62,Articles!$A$6:$AF$3038,3),IF($C$15=2,VLOOKUP(A62,Articles!$A$6:$AF$3038,20),IF($C$15=3,VLOOKUP(A62,Articles!$A$6:$AF$3038,21),IF($C$15=4,VLOOKUP(A62,Articles!$A$6:$AF$3038,22),\"Erreur\")))))","v":""},null,0,{"$f":"IF(ISBLANK(A62),0,VLOOKUP(A62,Articles!$A$6:$Q$3002,8))","v":0},{"$f":"IF(ISBLANK(A62),0,IF(Variables!$A$13=\"TTC\",IF(H62=1,G62-(G62*100)/(100+Variables!$A$2),(IF(H62=2,G62-(G62*100)/(100+Variables!$A$3),0))),IF(H62=1,G62*Variables!$A$2/(100),(IF(H62=2,G62*Variables!$A$3/(100),0)))))","v":0},{"$f":"IF(ISBLANK(A62),\"\",VLOOKUP(A62,Articles!$A$5:$AF$3000,11))","v":""},{"$f":"IF(ISBLANK(A62),\"\",(VLOOKUP(A62,Articles!$A$5:$AH$3002,34))*C62)","v":""}]
[null,{"$f":"IF(ISBLANK(A63),\"\",VLOOKUP(A63,Articles!$A$6:$AF$3002,2))","v":""},null,{"$f":"IF(ISBLANK(A63),\"\",VLOOKUP(A63,Articles!$A$6:$AF$3002,6))","v":""},{"$f":"IF(ISBLANK(A63),\"\",IF($C$15=1,VLOOKUP(A63,Articles!$A$6:$AF$3038,3),IF($C$15=2,VLOOKUP(A63,Articles!$A$6:$AF$3038,20),IF($C$15=3,VLOOKUP(A63,Articles!$A$6:$AF$3038,21),IF($C$15=4,VLOOKUP(A63,Articles!$A$6:$AF$3038,22),\"Erreur\")))))","v":""},null,0,{"$f":"IF(ISBLANK(A63),0,VLOOKUP(A63,Articles!$A$6:$Q$3002,8))","v":0},{"$f":"IF(ISBLANK(A63),0,IF(Variables!$A$13=\"TTC\",IF(H63=1,G63-(G63*100)/(100+Variables!$A$2),(IF(H63=2,G63-(G63*100)/(100+Variables!$A$3),0))),IF(H63=1,G63*Variables!$A$2/(100),(IF(H63=2,G63*Variables!$A$3/(100),0)))))","v":0},{"$f":"IF(ISBLANK(A63),\"\",VLOOKUP(A63,Articles!$A$5:$AF$3000,11))","v":""},{"$f":"IF(ISBLANK(A63),\"\",(VLOOKUP(A63,Articles!$A$5:$AH$3002,34))*C63)","v":""}]
[null,{"$f":"IF(ISBLANK(A64),\"\",VLOOKUP(A64,Articles!$A$6:$AF$3002,2))","v":""},null,{"$f":"IF(ISBLANK(A64),\"\",VLOOKUP(A64,Articles!$A$6:$AF$3002,6))","v":""},{"$f":"IF(ISBLANK(A64),\"\",IF($C$15=1,VLOOKUP(A64,Articles!$A$6:$AF$3038,3),IF($C$15=2,VLOOKUP(A64,Articles!$A$6:$AF$3038,20),IF($C$15=3,VLOOKUP(A64,Articles!$A$6:$AF$3038,21),IF($C$15=4,VLOOKUP(A64,Articles!$A$6:$AF$3038,22),\"Erreur\")))))","v":""},null,0,{"$f":"IF(ISBLANK(A64),0,VLOOKUP(A64,Articles!$A$6:$Q$3002,8))","v":0},{"$f":"IF(ISBLANK(A64),0,IF(Variables!$A$13=\"TTC\",IF(H64=1,G64-(G64*100)/(100+Variables!$A$2),(IF(H64=2,G64-(G64*100)/(100+Variables!$A$3),0))),IF(H64=1,G64*Variables!$A$2/(100),(IF(H64=2,G64*Variables!$A$3/(100),0)))))","v":0},{"$f":"IF(ISBLANK(A64),\"\",VLOOKUP(A64,Articles!$A$5:$AF$3000,11))","v":""},{"$f":"IF(ISBLANK(A64),\"\",(VLOOKUP(A64,Articles!$A$5:$AH$3002,34))*C64)","v":""}]
[null,{"$f":"IF(ISBLANK(A65),\"\",VLOOKUP(A65,Articles!$A$6:$AF$3002,2))","v":""},null,{"$f":"IF(ISBLANK(A65),\"\",VLOOKUP(A65,Articles!$A$6:$AF$3002,6))","v":""},{"$f":"IF(ISBLANK(A65),\"\",IF($C$15=1,VLOOKUP(A65,Articles!$A$6:$AF$3038,3),IF($C$15=2,VLOOKUP(A65,Articles!$A$6:$AF$3038,20),IF($C$15=3,VLOOKUP(A65,Articles!$A$6:$AF$3038,21),IF($C$15=4,VLOOKUP(A65,Articles!$A$6:$AF$3038,22),\"Erreur\")))))","v":""},null,0,{"$f":"IF(ISBLANK(A65),0,VLOOKUP(A65,Articles!$A$6:$Q$3002,8))","v":0},{"$f":"IF(ISBLANK(A65),0,IF(Variables!$A$13=\"TTC\",IF(H65=1,G65-(G65*100)/(100+Variables!$A$2),(IF(H65=2,G65-(G65*100)/(100+Variables!$A$3),0))),IF(H65=1,G65*Variables!$A$2/(100),(IF(H65=2,G65*Variables!$A$3/(100),0)))))","v":0},{"$f":"IF(ISBLANK(A65),\"\",VLOOKUP(A65,Articles!$A$5:$AF$3000,11))","v":""},{"$f":"IF(ISBLANK(A65),\"\",(VLOOKUP(A65,Articles!$A$5:$AH$3002,34))*C65)","v":""}]
[null,{"$f":"IF(ISBLANK(A66),\"\",VLOOKUP(A66,Articles!$A$6:$AF$3002,2))","v":""},null,{"$f":"IF(ISBLANK(A66),\"\",VLOOKUP(A66,Articles!$A$6:$AF$3002,6))","v":""},{"$f":"IF(ISBLANK(A66),\"\",IF($C$15=1,VLOOKUP(A66,Articles!$A$6:$AF$3038,3),IF($C$15=2,VLOOKUP(A66,Articles!$A$6:$AF$3038,20),IF($C$15=3,VLOOKUP(A66,Articles!$A$6:$AF$3038,21),IF($C$15=4,VLOOKUP(A66,Articles!$A$6:$AF$3038,22),\"Erreur\")))))","v":""},null,0,{"$f":"IF(ISBLANK(A66),0,VLOOKUP(A66,Articles!$A$6:$Q$3002,8))","v":0},{"$f":"IF(ISBLANK(A66),0,IF(Variables!$A$13=\"TTC\",IF(H66=1,G66-(G66*100)/(100+Variables!$A$2),(IF(H66=2,G66-(G66*100)/(100+Variables!$A$3),0))),IF(H66=1,G66*Variables!$A$2/(100),(IF(H66=2,G66*Variables!$A$3/(100),0)))))","v":0},{"$f":"IF(ISBLANK(A66),\"\",VLOOKUP(A66,Articles!$A$5:$AF$3000,11))","v":""},{"$f":"IF(ISBLANK(A66),\"\",(VLOOKUP(A66,Articles!$A$5:$AH$3002,34))*C66)","v":""}]
[null,{"$f":"IF(ISBLANK(A67),\"\",VLOOKUP(A67,Articles!$A$6:$AF$3002,2))","v":""},null,{"$f":"IF(ISBLANK(A67),\"\",VLOOKUP(A67,Articles!$A$6:$AF$3002,6))","v":""},{"$f":"IF(ISBLANK(A67),\"\",IF($C$15=1,VLOOKUP(A67,Articles!$A$6:$AF$3038,3),IF($C$15=2,VLOOKUP(A67,Articles!$A$6:$AF$3038,20),IF($C$15=3,VLOOKUP(A67,Articles!$A$6:$AF$3038,21),IF($C$15=4,VLOOKUP(A67,Articles!$A$6:$AF$3038,22),\"Erreur\")))))","v":""},null,0,{"$f":"IF(ISBLANK(A67),0,VLOOKUP(A67,Articles!$A$6:$Q$3002,8))","v":0},{"$f":"IF(ISBLANK(A67),0,IF(Variables!$A$13=\"TTC\",IF(H67=1,G67-(G67*100)/(100+Variables!$A$2),(IF(H67=2,G67-(G67*100)/(100+Variables!$A$3),0))),IF(H67=1,G67*Variables!$A$2/(100),(IF(H67=2,G67*Variables!$A$3/(100),0)))))","v":0},{"$f":"IF(ISBLANK(A67),\"\",VLOOKUP(A67,Articles!$A$5:$AF$3000,11))","v":""},{"$f":"IF(ISBLANK(A67),\"\",(VLOOKUP(A67,Articles!$A$5:$AH$3002,34))*C67)","v":""}]
[null,{"$f":"IF(ISBLANK(A68),\"\",VLOOKUP(A68,Articles!$A$6:$AF$3002,2))","v":""},null,{"$f":"IF(ISBLANK(A68),\"\",VLOOKUP(A68,Articles!$A$6:$AF$3002,6))","v":""},{"$f":"IF(ISBLANK(A68),\"\",IF($C$15=1,VLOOKUP(A68,Articles!$A$6:$AF$3038,3),IF($C$15=2,VLOOKUP(A68,Articles!$A$6:$AF$3038,20),IF($C$15=3,VLOOKUP(A68,Articles!$A$6:$AF$3038,21),IF($C$15=4,VLOOKUP(A68,Articles!$A$6:$AF$3038,22),\"Erreur\")))))","v":""},null,0,{"$f":"IF(ISBLANK(A68),0,VLOOKUP(A68,Articles!$A$6:$Q$3002,8))","v":0},{"$f":"IF(ISBLANK(A68),0,IF(Variables!$A$13=\"TTC\",IF(H68=1,G68-(G68*100)/(100+Variables!$A$2),(IF(H68=2,G68-(G68*100)/(100+Variables!$A$3),0))),IF(H68=1,G68*Variables!$A$2/(100),(IF(H68=2,G68*Variables!$A$3/(100),0)))))","v":0},{"$f":"IF(ISBLANK(A68),\"\",VLOOKUP(A68,Articles!$A$5:$AF$3000,11))","v":""},{"$f":"IF(ISBLANK(A68),\"\",(VLOOKUP(A68,Articles!$A$5:$AH$3002,34))*C68)","v":""}]
[null,{"$f":"IF(ISBLANK(A69),\"\",VLOOKUP(A69,Articles!$A$6:$AF$3002,2))","v":""},null,{"$f":"IF(ISBLANK(A69),\"\",VLOOKUP(A69,Articles!$A$6:$AF$3002,6))","v":""},{"$f":"IF(ISBLANK(A69),\"\",IF($C$15=1,VLOOKUP(A69,Articles!$A$6:$AF$3038,3),IF($C$15=2,VLOOKUP(A69,Articles!$A$6:$AF$3038,20),IF($C$15=3,VLOOKUP(A69,Articles!$A$6:$AF$3038,21),IF($C$15=4,VLOOKUP(A69,Articles!$A$6:$AF$3038,22),\"Erreur\")))))","v":""},null,0,{"$f":"IF(ISBLANK(A69),0,VLOOKUP(A69,Articles!$A$6:$Q$3002,8))","v":0},{"$f":"IF(ISBLANK(A69),0,IF(Variables!$A$13=\"TTC\",IF(H69=1,G69-(G69*100)/(100+Variables!$A$2),(IF(H69=2,G69-(G69*100)/(100+Variables!$A$3),0))),IF(H69=1,G69*Variables!$A$2/(100),(IF(H69=2,G69*Variables!$A$3/(100),0)))))","v":0},{"$f":"IF(ISBLANK(A69),\"\",VLOOKUP(A69,Articles!$A$5:$AF$3000,11))","v":""},{"$f":"IF(ISBLANK(A69),\"\",(VLOOKUP(A69,Articles!$A$5:$AH$3002,34))*C69)","v":""}]
[null,{"$f":"IF(ISBLANK(A70),\"\",VLOOKUP(A70,Articles!$A$6:$AF$3002,2))","v":""},null,{"$f":"IF(ISBLANK(A70),\"\",VLOOKUP(A70,Articles!$A$6:$AF$3002,6))","v":""},{"$f":"IF(ISBLANK(A70),\"\",IF($C$15=1,VLOOKUP(A70,Articles!$A$6:$AF$3038,3),IF($C$15=2,VLOOKUP(A70,Articles!$A$6:$AF$3038,20),IF($C$15=3,VLOOKUP(A70,Articles!$A$6:$AF$3038,21),IF($C$15=4,VLOOKUP(A70,Articles!$A$6:$AF$3038,22),\"Erreur\")))))","v":""},null,0,{"$f":"IF(ISBLANK(A70),0,VLOOKUP(A70,Articles!$A$6:$Q$3002,8))","v":0},{"$f":"IF(ISBLANK(A70),0,IF(Variables!$A$13=\"TTC\",IF(H70=1,G70-(G70*100)/(100+Variables!$A$2),(IF(H70=2,G70-(G70*100)/(100+Variables!$A$3),0))),IF(H70=1,G70*Variables!$A$2/(100),(IF(H70=2,G70*Variables!$A$3/(100),0)))))","v":0},{"$f":"IF(ISBLANK(A70),\"\",VLOOKUP(A70,Articles!$A$5:$AF$3000,11))","v":""},{"$f":"IF(ISBLANK(A70),\"\",(VLOOKUP(A70,Articles!$A$5:$AH$3002,34))*C70)","v":""}]
[null,{"$f":"IF(ISBLANK(A71),\"\",VLOOKUP(A71,Articles!$A$6:$AF$3002,2))","v":""},null,{"$f":"IF(ISBLANK(A71),\"\",VLOOKUP(A71,Articles!$A$6:$AF$3002,6))","v":""},{"$f":"IF(ISBLANK(A71),\"\",IF($C$15=1,VLOOKUP(A71,Articles!$A$6:$AF$3038,3),IF($C$15=2,VLOOKUP(A71,Articles!$A$6:$AF$3038,20),IF($C$15=3,VLOOKUP(A71,Articles!$A$6:$AF$3038,21),IF($C$15=4,VLOOKUP(A71,Articles!$A$6:$AF$3038,22),\"Erreur\")))))","v":""},null,0,{"$f":"IF(ISBLANK(A71),0,VLOOKUP(A71,Articles!$A$6:$Q$3002,8))","v":0},{"$f":"IF(ISBLANK(A71),0,IF(Variables!$A$13=\"TTC\",IF(H71=1,G71-(G71*100)/(100+Variables!$A$2),(IF(H71=2,G71-(G71*100)/(100+Variables!$A$3),0))),IF(H71=1,G71*Variables!$A$2/(100),(IF(H71=2,G71*Variables!$A$3/(100),0)))))","v":0},{"$f":"IF(ISBLANK(A71),\"\",VLOOKUP(A71,Articles!$A$5:$AF$3000,11))","v":""},{"$f":"IF(ISBLANK(A71),\"\",(VLOOKUP(A71,Articles!$A$5:$AH$3002,34))*C71)","v":""}]
[null,{"$f":"IF(ISBLANK(A72),\"\",VLOOKUP(A72,Articles!$A$6:$AF$3002,2))","v":""},null,{"$f":"IF(ISBLANK(A72),\"\",VLOOKUP(A72,Articles!$A$6:$AF$3002,6))","v":""},{"$f":"IF(ISBLANK(A72),\"\",IF($C$15=1,VLOOKUP(A72,Articles!$A$6:$AF$3038,3),IF($C$15=2,VLOOKUP(A72,Articles!$A$6:$AF$3038,20),IF($C$15=3,VLOOKUP(A72,Articles!$A$6:$AF$3038,21),IF($C$15=4,VLOOKUP(A72,Articles!$A$6:$AF$3038,22),\"Erreur\")))))","v":""},null,0,{"$f":"IF(ISBLANK(A72),0,VLOOKUP(A72,Articles!$A$6:$Q$3002,8))","v":0},{"$f":"IF(ISBLANK(A72),0,IF(Variables!$A$13=\"TTC\",IF(H72=1,G72-(G72*100)/(100+Variables!$A$2),(IF(H72=2,G72-(G72*100)/(100+Variables!$A$3),0))),IF(H72=1,G72*Variables!$A$2/(100),(IF(H72=2,G72*Variables!$A$3/(100),0)))))","v":0},{"$f":"IF(ISBLANK(A72),\"\",VLOOKUP(A72,Articles!$A$5:$AF$3000,11))","v":""},{"$f":"IF(ISBLANK(A72),\"\",(VLOOKUP(A72,Articles!$A$5:$AH$3002,34))*C72)","v":""}]
[null,{"$f":"IF(ISBLANK(A73),\"\",VLOOKUP(A73,Articles!$A$6:$AF$3002,2))","v":""},null,{"$f":"IF(ISBLANK(A73),\"\",VLOOKUP(A73,Articles!$A$6:$AF$3002,6))","v":""},{"$f":"IF(ISBLANK(A73),\"\",IF($C$15=1,VLOOKUP(A73,Articles!$A$6:$AF$3038,3),IF($C$15=2,VLOOKUP(A73,Articles!$A$6:$AF$3038,20),IF($C$15=3,VLOOKUP(A73,Articles!$A$6:$AF$3038,21),IF($C$15=4,VLOOKUP(A73,Articles!$A$6:$AF$3038,22),\"Erreur\")))))","v":""},null,0,{"$f":"IF(ISBLANK(A73),0,VLOOKUP(A73,Articles!$A$6:$Q$3002,8))","v":0},{"$f":"IF(ISBLANK(A73),0,IF(Variables!$A$13=\"TTC\",IF(H73=1,G73-(G73*100)/(100+Variables!$A$2),(IF(H73=2,G73-(G73*100)/(100+Variables!$A$3),0))),IF(H73=1,G73*Variables!$A$2/(100),(IF(H73=2,G73*Variables!$A$3/(100),0)))))","v":0},{"$f":"IF(ISBLANK(A73),\"\",VLOOKUP(A73,Articles!$A$5:$AF$3000,11))","v":""},{"$f":"IF(ISBLANK(A73),\"\",(VLOOKUP(A73,Articles!$A$5:$AH$3002,34))*C73)","v":""}]
[null,{"$f":"IF(ISBLANK(A74),\"\",VLOOKUP(A74,Articles!$A$6:$AF$3002,2))","v":""},null,{"$f":"IF(ISBLANK(A74),\"\",VLOOKUP(A74,Articles!$A$6:$AF$3002,6))","v":""},{"$f":"IF(ISBLANK(A74),\"\",IF($C$15=1,VLOOKUP(A74,Articles!$A$6:$AF$3038,3),IF($C$15=2,VLOOKUP(A74,Articles!$A$6:$AF$3038,20),IF($C$15=3,VLOOKUP(A74,Articles!$A$6:$AF$3038,21),IF($C$15=4,VLOOKUP(A74,Articles!$A$6:$AF$3038,22),\"Erreur\")))))","v":""},null,0,{"$f":"IF(ISBLANK(A74),0,VLOOKUP(A74,Articles!$A$6:$Q$3002,8))","v":0},{"$f":"IF(ISBLANK(A74),0,IF(Variables!$A$13=\"TTC\",IF(H74=1,G74-(G74*100)/(100+Variables!$A$2),(IF(H74=2,G74-(G74*100)/(100+Variables!$A$3),0))),IF(H74=1,G74*Variables!$A$2/(100),(IF(H74=2,G74*Variables!$A$3/(100),0)))))","v":0},{"$f":"IF(ISBLANK(A74),\"\",VLOOKUP(A74,Articles!$A$5:$AF$3000,11))","v":""},{"$f":"IF(ISBLANK(A74),\"\",(VLOOKUP(A74,Articles!$A$5:$AH$3002,34))*C74)","v":""}]
[null,{"$f":"IF(ISBLANK(A75),\"\",VLOOKUP(A75,Articles!$A$6:$AF$3002,2))","v":""},null,{"$f":"IF(ISBLANK(A75),\"\",VLOOKUP(A75,Articles!$A$6:$AF$3002,6))","v":""},{"$f":"IF(ISBLANK(A75),\"\",IF($C$15=1,VLOOKUP(A75,Articles!$A$6:$AF$3038,3),IF($C$15=2,VLOOKUP(A75,Articles!$A$6:$AF$3038,20),IF($C$15=3,VLOOKUP(A75,Articles!$A$6:$AF$3038,21),IF($C$15=4,VLOOKUP(A75,Articles!$A$6:$AF$3038,22),\"Erreur\")))))","v":""},null,0,{"$f":"IF(ISBLANK(A75),0,VLOOKUP(A75,Articles!$A$6:$Q$3002,8))","v":0},{"$f":"IF(ISBLANK(A75),0,IF(Variables!$A$13=\"TTC\",IF(H75=1,G75-(G75*100)/(100+Variables!$A$2),(IF(H75=2,G75-(G75*100)/(100+Variables!$A$3),0))),IF(H75=1,G75*Variables!$A$2/(100),(IF(H75=2,G75*Variables!$A$3/(100),0)))))","v":0},{"$f":"IF(ISBLANK(A75),\"\",VLOOKUP(A75,Articles!$A$5:$AF$3000,11))","v":""},{"$f":"IF(ISBLANK(A75),\"\",(VLOOKUP(A75,Articles!$A$5:$AH$3002,34))*C75)","v":""}]
[null,{"$f":"IF(ISBLANK(A76),\"\",VLOOKUP(A76,Articles!$A$6:$AF$3002,2))","v":""},null,{"$f":"IF(ISBLANK(A76),\"\",VLOOKUP(A76,Articles!$A$6:$AF$3002,6))","v":""},{"$f":"IF(ISBLANK(A76),\"\",IF($C$15=1,VLOOKUP(A76,Articles!$A$6:$AF$3038,3),IF($C$15=2,VLOOKUP(A76,Articles!$A$6:$AF$3038,20),IF($C$15=3,VLOOKUP(A76,Articles!$A$6:$AF$3038,21),IF($C$15=4,VLOOKUP(A76,Articles!$A$6:$AF$3038,22),\"Erreur\")))))","v":""},null,0,{"$f":"IF(ISBLANK(A76),0,VLOOKUP(A76,Articles!$A$6:$Q$3002,8))","v":0},{"$f":"IF(ISBLANK(A76),0,IF(Variables!$A$13=\"TTC\",IF(H76=1,G76-(G76*100)/(100+Variables!$A$2),(IF(H76=2,G76-(G76*100)/(100+Variables!$A$3),0))),IF(H76=1,G76*Variables!$A$2/(100),(IF(H76=2,G76*Variables!$A$3/(100),0)))))","v":0},{"$f":"IF(ISBLANK(A76),\"\",VLOOKUP(A76,Articles!$A$5:$AF$3000,11))","v":""},{"$f":"IF(ISBLANK(A76),\"\",(VLOOKUP(A76,Articles!$A$5:$AH$3002,34))*C76)","v":""}]
[null,{"$f":"IF(ISBLANK(A77),\"\",VLOOKUP(A77,Articles!$A$6:$AF$3002,2))","v":""},null,{"$f":"IF(ISBLANK(A77),\"\",VLOOKUP(A77,Articles!$A$6:$AF$3002,6))","v":""},{"$f":"IF(ISBLANK(A77),\"\",IF($C$15=1,VLOOKUP(A77,Articles!$A$6:$AF$3038,3),IF($C$15=2,VLOOKUP(A77,Articles!$A$6:$AF$3038,20),IF($C$15=3,VLOOKUP(A77,Articles!$A$6:$AF$3038,21),IF($C$15=4,VLOOKUP(A77,Articles!$A$6:$AF$3038,22),\"Erreur\")))))","v":""},null,0,{"$f":"IF(ISBLANK(A77),0,VLOOKUP(A77,Articles!$A$6:$Q$3002,8))","v":0},{"$f":"IF(ISBLANK(A77),0,IF(Variables!$A$13=\"TTC\",IF(H77=1,G77-(G77*100)/(100+Variables!$A$2),(IF(H77=2,G77-(G77*100)/(100+Variables!$A$3),0))),IF(H77=1,G77*Variables!$A$2/(100),(IF(H77=2,G77*Variables!$A$3/(100),0)))))","v":0},{"$f":"IF(ISBLANK(A77),\"\",VLOOKUP(A77,Articles!$A$5:$AF$3000,11))","v":""},{"$f":"IF(ISBLANK(A77),\"\",(VLOOKUP(A77,Articles!$A$5:$AH$3002,34))*C77)","v":""}]
[null,{"$f":"IF(ISBLANK(A78),\"\",VLOOKUP(A78,Articles!$A$6:$AF$3002,2))","v":""},null,{"$f":"IF(ISBLANK(A78),\"\",VLOOKUP(A78,Articles!$A$6:$AF$3002,6))","v":""},{"$f":"IF(ISBLANK(A78),\"\",IF($C$15=1,VLOOKUP(A78,Articles!$A$6:$AF$3038,3),IF($C$15=2,VLOOKUP(A78,Articles!$A$6:$AF$3038,20),IF($C$15=3,VLOOKUP(A78,Articles!$A$6:$AF$3038,21),IF($C$15=4,VLOOKUP(A78,Articles!$A$6:$AF$3038,22),\"Erreur\")))))","v":""},null,0,{"$f":"IF(ISBLANK(A78),0,VLOOKUP(A78,Articles!$A$6:$Q$3002,8))","v":0},{"$f":"IF(ISBLANK(A78),0,IF(Variables!$A$13=\"TTC\",IF(H78=1,G78-(G78*100)/(100+Variables!$A$2),(IF(H78=2,G78-(G78*100)/(100+Variables!$A$3),0))),IF(H78=1,G78*Variables!$A$2/(100),(IF(H78=2,G78*Variables!$A$3/(100),0)))))","v":0},{"$f":"IF(ISBLANK(A78),\"\",VLOOKUP(A78,Articles!$A$5:$AF$3000,11))","v":""},{"$f":"IF(ISBLANK(A78),\"\",(VLOOKUP(A78,Articles!$A$5:$AH$3002,34))*C78)","v":""}]
[null,{"$f":"IF(ISBLANK(A79),\"\",VLOOKUP(A79,Articles!$A$6:$AF$3002,2))","v":""},null,{"$f":"IF(ISBLANK(A79),\"\",VLOOKUP(A79,Articles!$A$6:$AF$3002,6))","v":""},{"$f":"IF(ISBLANK(A79),\"\",IF($C$15=1,VLOOKUP(A79,Articles!$A$6:$AF$3038,3),IF($C$15=2,VLOOKUP(A79,Articles!$A$6:$AF$3038,20),IF($C$15=3,VLOOKUP(A79,Articles!$A$6:$AF$3038,21),IF($C$15=4,VLOOKUP(A79,Articles!$A$6:$AF$3038,22),\"Erreur\")))))","v":""},null,0,{"$f":"IF(ISBLANK(A79),0,VLOOKUP(A79,Articles!$A$6:$Q$3002,8))","v":0},{"$f":"IF(ISBLANK(A79),0,IF(Variables!$A$13=\"TTC\",IF(H79=1,G79-(G79*100)/(100+Variables!$A$2),(IF(H79=2,G79-(G79*100)/(100+Variables!$A$3),0))),IF(H79=1,G79*Variables!$A$2/(100),(IF(H79=2,G79*Variables!$A$3/(100),0)))))","v":0},{"$f":"IF(ISBLANK(A79),\"\",VLOOKUP(A79,Articles!$A$5:$AF$3000,11))","v":""},{"$f":"IF(ISBLANK(A79),\"\",(VLOOKUP(A79,Articles!$A$5:$AH$3002,34))*C79)","v":""}]
[null,{"$f":"IF(ISBLANK(A80),\"\",VLOOKUP(A80,Articles!$A$6:$AF$3002,2))","v":""},null,{"$f":"IF(ISBLANK(A80),\"\",VLOOKUP(A80,Articles!$A$6:$AF$3002,6))","v":""},{"$f":"IF(ISBLANK(A80),\"\",IF($C$15=1,VLOOKUP(A80,Articles!$A$6:$AF$3038,3),IF($C$15=2,VLOOKUP(A80,Articles!$A$6:$AF$3038,20),IF($C$15=3,VLOOKUP(A80,Articles!$A$6:$AF$3038,21),IF($C$15=4,VLOOKUP(A80,Articles!$A$6:$AF$3038,22),\"Erreur\")))))","v":""},null,0,{"$f":"IF(ISBLANK(A80),0,VLOOKUP(A80,Articles!$A$6:$Q$3002,8))","v":0},{"$f":"IF(ISBLANK(A80),0,IF(Variables!$A$13=\"TTC\",IF(H80=1,G80-(G80*100)/(100+Variables!$A$2),(IF(H80=2,G80-(G80*100)/(100+Variables!$A$3),0))),IF(H80=1,G80*Variables!$A$2/(100),(IF(H80=2,G80*Variables!$A$3/(100),0)))))","v":0},{"$f":"IF(ISBLANK(A80),\"\",VLOOKUP(A80,Articles!$A$5:$AF$3000,11))","v":""},{"$f":"IF(ISBLANK(A80),\"\",(VLOOKUP(A80,Articles!$A$5:$AH$3002,34))*C80)","v":""}]
[null,{"$f":"IF(ISBLANK(A81),\"\",VLOOKUP(A81,Articles!$A$6:$AF$3002,2))","v":""},null,{"$f":"IF(ISBLANK(A81),\"\",VLOOKUP(A81,Articles!$A$6:$AF$3002,6))","v":""},{"$f":"IF(ISBLANK(A81),\"\",IF($C$15=1,VLOOKUP(A81,Articles!$A$6:$AF$3038,3),IF($C$15=2,VLOOKUP(A81,Articles!$A$6:$AF$3038,20),IF($C$15=3,VLOOKUP(A81,Articles!$A$6:$AF$3038,21),IF($C$15=4,VLOOKUP(A81,Articles!$A$6:$AF$3038,22),\"Erreur\")))))","v":""},null,0,{"$f":"IF(ISBLANK(A81),0,VLOOKUP(A81,Articles!$A$6:$Q$3002,8))","v":0},{"$f":"IF(ISBLANK(A81),0,IF(Variables!$A$13=\"TTC\",IF(H81=1,G81-(G81*100)/(100+Variables!$A$2),(IF(H81=2,G81-(G81*100)/(100+Variables!$A$3),0))),IF(H81=1,G81*Variables!$A$2/(100),(IF(H81=2,G81*Variables!$A$3/(100),0)))))","v":0},{"$f":"IF(ISBLANK(A81),\"\",VLOOKUP(A81,Articles!$A$5:$AF$3000,11))","v":""},{"$f":"IF(ISBLANK(A81),\"\",(VLOOKUP(A81,Articles!$A$5:$AH$3002,34))*C81)","v":""}]
[null,{"$f":"IF(ISBLANK(A82),\"\",VLOOKUP(A82,Articles!$A$6:$AF$3002,2))","v":""},null,{"$f":"IF(ISBLANK(A82),\"\",VLOOKUP(A82,Articles!$A$6:$AF$3002,6))","v":""},{"$f":"IF(ISBLANK(A82),\"\",IF($C$15=1,VLOOKUP(A82,Articles!$A$6:$AF$3038,3),IF($C$15=2,VLOOKUP(A82,Articles!$A$6:$AF$3038,20),IF($C$15=3,VLOOKUP(A82,Articles!$A$6:$AF$3038,21),IF($C$15=4,VLOOKUP(A82,Articles!$A$6:$AF$3038,22),\"Erreur\")))))","v":""},null,{"$f":"IF(ISBLANK(A82),0,SUM(C82*E82)*(100-F82)/100)","v":0},{"$f":"IF(ISBLANK(A82),0,VLOOKUP(A82,Articles!$A$6:$Q$3002,8))","v":0},{"$f":"IF(ISBLANK(A82),0,IF(Variables!$A$13=\"TTC\",IF(H82=1,G82-(G82*100)/(100+Variables!$A$2),(IF(H82=2,G82-(G82*100)/(100+Variables!$A$3),0))),IF(H82=1,G82*Variables!$A$2/(100),(IF(H82=2,G82*Variables!$A$3/(100),0)))))","v":0},{"$f":"IF(ISBLANK(A82),\"\",VLOOKUP(A82,Articles!$A$5:$AF$3000,11))","v":""},{"$f":"IF(ISBLANK(A82),\"\",(VLOOKUP(A82,Articles!$A$5:$AH$3002,34))*C82)","v":""}]
[null,{"$f":"IF(ISBLANK(A83),\"\",VLOOKUP(A83,Articles!$A$6:$AF$3002,2))","v":""},null,{"$f":"IF(ISBLANK(A83),\"\",VLOOKUP(A83,Articles!$A$6:$AF$3002,6))","v":""},{"$f":"IF(ISBLANK(A83),\"\",IF($C$15=1,VLOOKUP(A83,Articles!$A$6:$AF$3038,3),IF($C$15=2,VLOOKUP(A83,Articles!$A$6:$AF$3038,20),IF($C$15=3,VLOOKUP(A83,Articles!$A$6:$AF$3038,21),IF($C$15=4,VLOOKUP(A83,Articles!$A$6:$AF$3038,22),\"Erreur\")))))","v":""},null,0,{"$f":"IF(ISBLANK(A83),0,VLOOKUP(A83,Articles!$A$6:$Q$3002,8))","v":0},{"$f":"IF(ISBLANK(A83),0,IF(Variables!$A$13=\"TTC\",IF(H83=1,G83-(G83*100)/(100+Variables!$A$2),(IF(H83=2,G83-(G83*100)/(100+Variables!$A$3),0))),IF(H83=1,G83*Variables!$A$2/(100),(IF(H83=2,G83*Variables!$A$3/(100),0)))))","v":0},{"$f":"IF(ISBLANK(A83),\"\",VLOOKUP(A83,Articles!$A$5:$AF$3000,11))","v":""},{"$f":"IF(ISBLANK(A83),\"\",(VLOOKUP(A83,Articles!$A$5:$AH$3002,34))*C83)","v":""}]
[null,{"$f":"IF(ISBLANK(A84),\"\",VLOOKUP(A84,Articles!$A$6:$AF$3002,2))","v":""},null,{"$f":"IF(ISBLANK(A84),\"\",VLOOKUP(A84,Articles!$A$6:$AF$3002,6))","v":""},{"$f":"IF(ISBLANK(A84),\"\",IF($C$15=1,VLOOKUP(A84,Articles!$A$6:$AF$3038,3),IF($C$15=2,VLOOKUP(A84,Articles!$A$6:$AF$3038,20),IF($C$15=3,VLOOKUP(A84,Articles!$A$6:$AF$3038,21),IF($C$15=4,VLOOKUP(A84,Articles!$A$6:$AF$3038,22),\"Erreur\")))))","v":""},null,0,{"$f":"IF(ISBLANK(A84),0,VLOOKUP(A84,Articles!$A$6:$Q$3002,8))","v":0},{"$f":"IF(ISBLANK(A84),0,IF(Variables!$A$13=\"TTC\",IF(H84=1,G84-(G84*100)/(100+Variables!$A$2),(IF(H84=2,G84-(G84*100)/(100+Variables!$A$3),0))),IF(H84=1,G84*Variables!$A$2/(100),(IF(H84=2,G84*Variables!$A$3/(100),0)))))","v":0},{"$f":"IF(ISBLANK(A84),\"\",VLOOKUP(A84,Articles!$A$5:$AF$3000,11))","v":""},{"$f":"IF(ISBLANK(A84),\"\",(VLOOKUP(A84,Articles!$A$5:$AH$3002,34))*C84)","v":""}]
[null,{"$f":"IF(ISBLANK(A85),\"\",VLOOKUP(A85,Articles!$A$6:$AF$3002,2))","v":""},null,{"$f":"IF(ISBLANK(A85),\"\",VLOOKUP(A85,Articles!$A$6:$AF$3002,6))","v":""},{"$f":"IF(ISBLANK(A85),\"\",IF($C$15=1,VLOOKUP(A85,Articles!$A$6:$AF$3038,3),IF($C$15=2,VLOOKUP(A85,Articles!$A$6:$AF$3038,20),IF($C$15=3,VLOOKUP(A85,Articles!$A$6:$AF$3038,21),IF($C$15=4,VLOOKUP(A85,Articles!$A$6:$AF$3038,22),\"Erreur\")))))","v":""},null,0,{"$f":"IF(ISBLANK(A85),0,VLOOKUP(A85,Articles!$A$6:$Q$3002,8))","v":0},{"$f":"IF(ISBLANK(A85),0,IF(Variables!$A$13=\"TTC\",IF(H85=1,G85-(G85*100)/(100+Variables!$A$2),(IF(H85=2,G85-(G85*100)/(100+Variables!$A$3),0))),IF(H85=1,G85*Variables!$A$2/(100),(IF(H85=2,G85*Variables!$A$3/(100),0)))))","v":0},{"$f":"IF(ISBLANK(A85),\"\",VLOOKUP(A85,Articles!$A$5:$AF$3000,11))","v":""},{"$f":"IF(ISBLANK(A85),\"\",(VLOOKUP(A85,Articles!$A$5:$AH$3002,34))*C85)","v":""}]
[null,{"$f":"IF(ISBLANK(A86),\"\",VLOOKUP(A86,Articles!$A$6:$AF$3002,2))","v":""},null,{"$f":"IF(ISBLANK(A86),\"\",VLOOKUP(A86,Articles!$A$6:$AF$3002,6))","v":""},{"$f":"IF(ISBLANK(A86),\"\",IF($C$15=1,VLOOKUP(A86,Articles!$A$6:$AF$3038,3),IF($C$15=2,VLOOKUP(A86,Articles!$A$6:$AF$3038,20),IF($C$15=3,VLOOKUP(A86,Articles!$A$6:$AF$3038,21),IF($C$15=4,VLOOKUP(A86,Articles!$A$6:$AF$3038,22),\"Erreur\")))))","v":""},null,0,{"$f":"IF(ISBLANK(A86),0,VLOOKUP(A86,Articles!$A$6:$Q$3002,8))","v":0},{"$f":"IF(ISBLANK(A86),0,IF(Variables!$A$13=\"TTC\",IF(H86=1,G86-(G86*100)/(100+Variables!$A$2),(IF(H86=2,G86-(G86*100)/(100+Variables!$A$3),0))),IF(H86=1,G86*Variables!$A$2/(100),(IF(H86=2,G86*Variables!$A$3/(100),0)))))","v":0},{"$f":"IF(ISBLANK(A86),\"\",VLOOKUP(A86,Articles!$A$5:$AF$3000,11))","v":""},{"$f":"IF(ISBLANK(A86),\"\",(VLOOKUP(A86,Articles!$A$5:$AH$3002,34))*C86)","v":""}]
[null,{"$f":"IF(ISBLANK(A87),\"\",VLOOKUP(A87,Articles!$A$6:$AF$3002,2))","v":""},null,{"$f":"IF(ISBLANK(A87),\"\",VLOOKUP(A87,Articles!$A$6:$AF$3002,6))","v":""},{"$f":"IF(ISBLANK(A87),\"\",IF($C$15=1,VLOOKUP(A87,Articles!$A$6:$AF$3038,3),IF($C$15=2,VLOOKUP(A87,Articles!$A$6:$AF$3038,20),IF($C$15=3,VLOOKUP(A87,Articles!$A$6:$AF$3038,21),IF($C$15=4,VLOOKUP(A87,Articles!$A$6:$AF$3038,22),\"Erreur\")))))","v":""},null,0,{"$f":"IF(ISBLANK(A87),0,VLOOKUP(A87,Articles!$A$6:$Q$3002,8))","v":0},{"$f":"IF(ISBLANK(A87),0,IF(Variables!$A$13=\"TTC\",IF(H87=1,G87-(G87*100)/(100+Variables!$A$2),(IF(H87=2,G87-(G87*100)/(100+Variables!$A$3),0))),IF(H87=1,G87*Variables!$A$2/(100),(IF(H87=2,G87*Variables!$A$3/(100),0)))))","v":0},{"$f":"IF(ISBLANK(A87),\"\",VLOOKUP(A87,Articles!$A$5:$AF$3000,11))","v":""},{"$f":"IF(ISBLANK(A87),\"\",(VLOOKUP(A87,Articles!$A$5:$AH$3002,34))*C87)","v":""}]
[null,{"$f":"IF(ISBLANK(A88),\"\",VLOOKUP(A88,Articles!$A$6:$AF$3002,2))","v":""},null,{"$f":"IF(ISBLANK(A88),\"\",VLOOKUP(A88,Articles!$A$6:$AF$3002,6))","v":""},{"$f":"IF(ISBLANK(A88),\"\",IF($C$15=1,VLOOKUP(A88,Articles!$A$6:$AF$3038,3),IF($C$15=2,VLOOKUP(A88,Articles!$A$6:$AF$3038,20),IF($C$15=3,VLOOKUP(A88,Articles!$A$6:$AF$3038,21),IF($C$15=4,VLOOKUP(A88,Articles!$A$6:$AF$3038,22),\"Erreur\")))))","v":""},null,0,{"$f":"IF(ISBLANK(A88),0,VLOOKUP(A88,Articles!$A$6:$Q$3002,8))","v":0},{"$f":"IF(ISBLANK(A88),0,IF(Variables!$A$13=\"TTC\",IF(H88=1,G88-(G88*100)/(100+Variables!$A$2),(IF(H88=2,G88-(G88*100)/(100+Variables!$A$3),0))),IF(H88=1,G88*Variables!$A$2/(100),(IF(H88=2,G88*Variables!$A$3/(100),0)))))","v":0},{"$f":"IF(ISBLANK(A88),\"\",VLOOKUP(A88,Articles!$A$5:$AF$3000,11))","v":""},{"$f":"IF(ISBLANK(A88),\"\",(VLOOKUP(A88,Articles!$A$5:$AH$3002,34))*C88)","v":""}]
[null,{"$f":"IF(ISBLANK(A89),\"\",VLOOKUP(A89,Articles!$A$6:$AF$3002,2))","v":""},null,{"$f":"IF(ISBLANK(A89),\"\",VLOOKUP(A89,Articles!$A$6:$AF$3002,6))","v":""},{"$f":"IF(ISBLANK(A89),\"\",IF($C$15=1,VLOOKUP(A89,Articles!$A$6:$AF$3038,3),IF($C$15=2,VLOOKUP(A89,Articles!$A$6:$AF$3038,20),IF($C$15=3,VLOOKUP(A89,Articles!$A$6:$AF$3038,21),IF($C$15=4,VLOOKUP(A89,Articles!$A$6:$AF$3038,22),\"Erreur\")))))","v":""},null,0,{"$f":"IF(ISBLANK(A89),0,VLOOKUP(A89,Articles!$A$6:$Q$3002,8))","v":0},{"$f":"IF(ISBLANK(A89),0,IF(Variables!$A$13=\"TTC\",IF(H89=1,G89-(G89*100)/(100+Variables!$A$2),(IF(H89=2,G89-(G89*100)/(100+Variables!$A$3),0))),IF(H89=1,G89*Variables!$A$2/(100),(IF(H89=2,G89*Variables!$A$3/(100),0)))))","v":0},{"$f":"IF(ISBLANK(A89),\"\",VLOOKUP(A89,Articles!$A$5:$AF$3000,11))","v":""},{"$f":"IF(ISBLANK(A89),\"\",(VLOOKUP(A89,Articles!$A$5:$AH$3002,34))*C89)","v":""}]
[null,{"$f":"IF(ISBLANK(A90),\"\",VLOOKUP(A90,Articles!$A$6:$AF$3002,2))","v":""},null,{"$f":"IF(ISBLANK(A90),\"\",VLOOKUP(A90,Articles!$A$6:$AF$3002,6))","v":""},{"$f":"IF(ISBLANK(A90),\"\",IF($C$15=1,VLOOKUP(A90,Articles!$A$6:$AF$3038,3),IF($C$15=2,VLOOKUP(A90,Articles!$A$6:$AF$3038,20),IF($C$15=3,VLOOKUP(A90,Articles!$A$6:$AF$3038,21),IF($C$15=4,VLOOKUP(A90,Articles!$A$6:$AF$3038,22),\"Erreur\")))))","v":""},null,0,{"$f":"IF(ISBLANK(A90),0,VLOOKUP(A90,Articles!$A$6:$Q$3002,8))","v":0},{"$f":"IF(ISBLANK(A90),0,IF(Variables!$A$13=\"TTC\",IF(H90=1,G90-(G90*100)/(100+Variables!$A$2),(IF(H90=2,G90-(G90*100)/(100+Variables!$A$3),0))),IF(H90=1,G90*Variables!$A$2/(100),(IF(H90=2,G90*Variables!$A$3/(100),0)))))","v":0},{"$f":"IF(ISBLANK(A90),\"\",VLOOKUP(A90,Articles!$A$5:$AF$3000,11))","v":""},{"$f":"IF(ISBLANK(A90),\"\",(VLOOKUP(A90,Articles!$A$5:$AH$3002,34))*C90)","v":""}]
[null,{"$f":"IF(ISBLANK(A91),\"\",VLOOKUP(A91,Articles!$A$6:$AF$3002,2))","v":""},null,{"$f":"IF(ISBLANK(A91),\"\",VLOOKUP(A91,Articles!$A$6:$AF$3002,6))","v":""},{"$f":"IF(ISBLANK(A91),\"\",IF($C$15=1,VLOOKUP(A91,Articles!$A$6:$AF$3038,3),IF($C$15=2,VLOOKUP(A91,Articles!$A$6:$AF$3038,20),IF($C$15=3,VLOOKUP(A91,Articles!$A$6:$AF$3038,21),IF($C$15=4,VLOOKUP(A91,Articles!$A$6:$AF$3038,22),\"Erreur\")))))","v":""},null,0,{"$f":"IF(ISBLANK(A91),0,VLOOKUP(A91,Articles!$A$6:$Q$3002,8))","v":0},{"$f":"IF(ISBLANK(A91),0,IF(Variables!$A$13=\"TTC\",IF(H91=1,G91-(G91*100)/(100+Variables!$A$2),(IF(H91=2,G91-(G91*100)/(100+Variables!$A$3),0))),IF(H91=1,G91*Variables!$A$2/(100),(IF(H91=2,G91*Variables!$A$3/(100),0)))))","v":0},{"$f":"IF(ISBLANK(A91),\"\",VLOOKUP(A91,Articles!$A$5:$AF$3000,11))","v":""},{"$f":"IF(ISBLANK(A91),\"\",(VLOOKUP(A91,Articles!$A$5:$AH$3002,34))*C91)","v":""}]
[null,{"$f":"IF(ISBLANK(A92),\"\",VLOOKUP(A92,Articles!$A$6:$AF$3002,2))","v":""},null,{"$f":"IF(ISBLANK(A92),\"\",VLOOKUP(A92,Articles!$A$6:$AF$3002,6))","v":""},{"$f":"IF(ISBLANK(A92),\"\",IF($C$15=1,VLOOKUP(A92,Articles!$A$6:$AF$3038,3),IF($C$15=2,VLOOKUP(A92,Articles!$A$6:$AF$3038,20),IF($C$15=3,VLOOKUP(A92,Articles!$A$6:$AF$3038,21),IF($C$15=4,VLOOKUP(A92,Articles!$A$6:$AF$3038,22),\"Erreur\")))))","v":""},null,0,{"$f":"IF(ISBLANK(A92),0,VLOOKUP(A92,Articles!$A$6:$Q$3002,8))","v":0},{"$f":"IF(ISBLANK(A92),0,IF(Variables!$A$13=\"TTC\",IF(H92=1,G92-(G92*100)/(100+Variables!$A$2),(IF(H92=2,G92-(G92*100)/(100+Variables!$A$3),0))),IF(H92=1,G92*Variables!$A$2/(100),(IF(H92=2,G92*Variables!$A$3/(100),0)))))","v":0},{"$f":"IF(ISBLANK(A92),\"\",VLOOKUP(A92,Articles!$A$5:$AF$3000,11))","v":""},{"$f":"IF(ISBLANK(A92),\"\",(VLOOKUP(A92,Articles!$A$5:$AH$3002,34))*C92)","v":""}]
[null,{"$f":"IF(ISBLANK(A93),\"\",VLOOKUP(A93,Articles!$A$6:$AF$3002,2))","v":""},null,{"$f":"IF(ISBLANK(A93),\"\",VLOOKUP(A93,Articles!$A$6:$AF$3002,6))","v":""},{"$f":"IF(ISBLANK(A93),\"\",IF($C$15=1,VLOOKUP(A93,Articles!$A$6:$AF$3038,3),IF($C$15=2,VLOOKUP(A93,Articles!$A$6:$AF$3038,20),IF($C$15=3,VLOOKUP(A93,Articles!$A$6:$AF$3038,21),IF($C$15=4,VLOOKUP(A93,Articles!$A$6:$AF$3038,22),\"Erreur\")))))","v":""},null,0,{"$f":"IF(ISBLANK(A93),0,VLOOKUP(A93,Articles!$A$6:$Q$3002,8))","v":0},{"$f":"IF(ISBLANK(A93),0,IF(Variables!$A$13=\"TTC\",IF(H93=1,G93-(G93*100)/(100+Variables!$A$2),(IF(H93=2,G93-(G93*100)/(100+Variables!$A$3),0))),IF(H93=1,G93*Variables!$A$2/(100),(IF(H93=2,G93*Variables!$A$3/(100),0)))))","v":0},{"$f":"IF(ISBLANK(A93),\"\",VLOOKUP(A93,Articles!$A$5:$AF$3000,11))","v":""},{"$f":"IF(ISBLANK(A93),\"\",(VLOOKUP(A93,Articles!$A$5:$AH$3002,34))*C93)","v":""}]
[null,{"$f":"IF(ISBLANK(A94),\"\",VLOOKUP(A94,Articles!$A$6:$AF$3002,2))","v":""},null,{"$f":"IF(ISBLANK(A94),\"\",VLOOKUP(A94,Articles!$A$6:$AF$3002,6))","v":""},{"$f":"IF(ISBLANK(A94),\"\",IF($C$15=1,VLOOKUP(A94,Articles!$A$6:$AF$3038,3),IF($C$15=2,VLOOKUP(A94,Articles!$A$6:$AF$3038,20),IF($C$15=3,VLOOKUP(A94,Articles!$A$6:$AF$3038,21),IF($C$15=4,VLOOKUP(A94,Articles!$A$6:$AF$3038,22),\"Erreur\")))))","v":""},null,0,{"$f":"IF(ISBLANK(A94),0,VLOOKUP(A94,Articles!$A$6:$Q$3002,8))","v":0},{"$f":"IF(ISBLANK(A94),0,IF(Variables!$A$13=\"TTC\",IF(H94=1,G94-(G94*100)/(100+Variables!$A$2),(IF(H94=2,G94-(G94*100)/(100+Variables!$A$3),0))),IF(H94=1,G94*Variables!$A$2/(100),(IF(H94=2,G94*Variables!$A$3/(100),0)))))","v":0},{"$f":"IF(ISBLANK(A94),\"\",VLOOKUP(A94,Articles!$A$5:$AF$3000,11))","v":""},{"$f":"IF(ISBLANK(A94),\"\",(VLOOKUP(A94,Articles!$A$5:$AH$3002,34))*C94)","v":""}]
[null,{"$f":"IF(ISBLANK(A95),\"\",VLOOKUP(A95,Articles!$A$6:$AF$3002,2))","v":""},null,{"$f":"IF(ISBLANK(A95),\"\",VLOOKUP(A95,Articles!$A$6:$AF$3002,6))","v":""},{"$f":"IF(ISBLANK(A95),\"\",IF($C$15=1,VLOOKUP(A95,Articles!$A$6:$AF$3038,3),IF($C$15=2,VLOOKUP(A95,Articles!$A$6:$AF$3038,20),IF($C$15=3,VLOOKUP(A95,Articles!$A$6:$AF$3038,21),IF($C$15=4,VLOOKUP(A95,Articles!$A$6:$AF$3038,22),\"Erreur\")))))","v":""},null,0,{"$f":"IF(ISBLANK(A95),0,VLOOKUP(A95,Articles!$A$6:$Q$3002,8))","v":0},{"$f":"IF(ISBLANK(A95),0,IF(Variables!$A$13=\"TTC\",IF(H95=1,G95-(G95*100)/(100+Variables!$A$2),(IF(H95=2,G95-(G95*100)/(100+Variables!$A$3),0))),IF(H95=1,G95*Variables!$A$2/(100),(IF(H95=2,G95*Variables!$A$3/(100),0)))))","v":0},{"$f":"IF(ISBLANK(A95),\"\",VLOOKUP(A95,Articles!$A$5:$AF$3000,11))","v":""},{"$f":"IF(ISBLANK(A95),\"\",(VLOOKUP(A95,Articles!$A$5:$AH$3002,34))*C95)","v":""}]
[null,{"$f":"IF(ISBLANK(A96),\"\",VLOOKUP(A96,Articles!$A$6:$AF$3002,2))","v":""},null,{"$f":"IF(ISBLANK(A96),\"\",VLOOKUP(A96,Articles!$A$6:$AF$3002,6))","v":""},{"$f":"IF(ISBLANK(A96),\"\",IF($C$15=1,VLOOKUP(A96,Articles!$A$6:$AF$3038,3),IF($C$15=2,VLOOKUP(A96,Articles!$A$6:$AF$3038,20),IF($C$15=3,VLOOKUP(A96,Articles!$A$6:$AF$3038,21),IF($C$15=4,VLOOKUP(A96,Articles!$A$6:$AF$3038,22),\"Erreur\")))))","v":""},null,0,{"$f":"IF(ISBLANK(A96),0,VLOOKUP(A96,Articles!$A$6:$Q$3002,8))","v":0},{"$f":"IF(ISBLANK(A96),0,IF(Variables!$A$13=\"TTC\",IF(H96=1,G96-(G96*100)/(100+Variables!$A$2),(IF(H96=2,G96-(G96*100)/(100+Variables!$A$3),0))),IF(H96=1,G96*Variables!$A$2/(100),(IF(H96=2,G96*Variables!$A$3/(100),0)))))","v":0},{"$f":"IF(ISBLANK(A96),\"\",VLOOKUP(A96,Articles!$A$5:$AF$3000,11))","v":""},{"$f":"IF(ISBLANK(A96),\"\",(VLOOKUP(A96,Articles!$A$5:$AH$3002,34))*C96)","v":""}]
[null,{"$f":"IF(ISBLANK(A97),\"\",VLOOKUP(A97,Articles!$A$6:$AF$3002,2))","v":""},null,{"$f":"IF(ISBLANK(A97),\"\",VLOOKUP(A97,Articles!$A$6:$AF$3002,6))","v":""},{"$f":"IF(ISBLANK(A97),\"\",IF($C$15=1,VLOOKUP(A97,Articles!$A$6:$AF$3038,3),IF($C$15=2,VLOOKUP(A97,Articles!$A$6:$AF$3038,20),IF($C$15=3,VLOOKUP(A97,Articles!$A$6:$AF$3038,21),IF($C$15=4,VLOOKUP(A97,Articles!$A$6:$AF$3038,22),\"Erreur\")))))","v":""},null,0,{"$f":"IF(ISBLANK(A97),0,VLOOKUP(A97,Articles!$A$6:$Q$3002,8))","v":0},{"$f":"IF(ISBLANK(A97),0,IF(Variables!$A$13=\"TTC\",IF(H97=1,G97-(G97*100)/(100+Variables!$A$2),(IF(H97=2,G97-(G97*100)/(100+Variables!$A$3),0))),IF(H97=1,G97*Variables!$A$2/(100),(IF(H97=2,G97*Variables!$A$3/(100),0)))))","v":0},{"$f":"IF(ISBLANK(A97),\"\",VLOOKUP(A97,Articles!$A$5:$AF$3000,11))","v":""},{"$f":"IF(ISBLANK(A97),\"\",(VLOOKUP(A97,Articles!$A$5:$AH$3002,34))*C97)","v":""}]
[null,{"$f":"IF(ISBLANK(A98),\"\",VLOOKUP(A98,Articles!$A$6:$AF$3002,2))","v":""},null,{"$f":"IF(ISBLANK(A98),\"\",VLOOKUP(A98,Articles!$A$6:$AF$3002,6))","v":""},{"$f":"IF(ISBLANK(A98),\"\",IF($C$15=1,VLOOKUP(A98,Articles!$A$6:$AF$3038,3),IF($C$15=2,VLOOKUP(A98,Articles!$A$6:$AF$3038,20),IF($C$15=3,VLOOKUP(A98,Articles!$A$6:$AF$3038,21),IF($C$15=4,VLOOKUP(A98,Articles!$A$6:$AF$3038,22),\"Erreur\")))))","v":""},null,0,{"$f":"IF(ISBLANK(A98),0,VLOOKUP(A98,Articles!$A$6:$Q$3002,8))","v":0},{"$f":"IF(ISBLANK(A98),0,IF(Variables!$A$13=\"TTC\",IF(H98=1,G98-(G98*100)/(100+Variables!$A$2),(IF(H98=2,G98-(G98*100)/(100+Variables!$A$3),0))),IF(H98=1,G98*Variables!$A$2/(100),(IF(H98=2,G98*Variables!$A$3/(100),0)))))","v":0},{"$f":"IF(ISBLANK(A98),\"\",VLOOKUP(A98,Articles!$A$5:$AF$3000,11))","v":""},{"$f":"IF(ISBLANK(A98),\"\",(VLOOKUP(A98,Articles!$A$5:$AH$3002,34))*C98)","v":""}]
[null,{"$f":"IF(ISBLANK(A99),\"\",VLOOKUP(A99,Articles!$A$6:$AF$3002,2))","v":""},null,{"$f":"IF(ISBLANK(A99),\"\",VLOOKUP(A99,Articles!$A$6:$AF$3002,6))","v":""},{"$f":"IF(ISBLANK(A99),\"\",IF($C$15=1,VLOOKUP(A99,Articles!$A$6:$AF$3038,3),IF($C$15=2,VLOOKUP(A99,Articles!$A$6:$AF$3038,20),IF($C$15=3,VLOOKUP(A99,Articles!$A$6:$AF$3038,21),IF($C$15=4,VLOOKUP(A99,Articles!$A$6:$AF$3038,22),\"Erreur\")))))","v":""},null,0,{"$f":"IF(ISBLANK(A99),0,VLOOKUP(A99,Articles!$A$6:$Q$3002,8))","v":0},{"$f":"IF(ISBLANK(A99),0,IF(Variables!$A$13=\"TTC\",IF(H99=1,G99-(G99*100)/(100+Variables!$A$2),(IF(H99=2,G99-(G99*100)/(100+Variables!$A$3),0))),IF(H99=1,G99*Variables!$A$2/(100),(IF(H99=2,G99*Variables!$A$3/(100),0)))))","v":0},{"$f":"IF(ISBLANK(A99),\"\",VLOOKUP(A99,Articles!$A$5:$AF$3000,11))","v":""},{"$f":"IF(ISBLANK(A99),\"\",(VLOOKUP(A99,Articles!$A$5:$AH$3002,34))*C99)","v":""}]
[null,{"$f":"IF(ISBLANK(A100),\"\",VLOOKUP(A100,Articles!$A$6:$AF$3002,2))","v":""},null,{"$f":"IF(ISBLANK(A100),\"\",VLOOKUP(A100,Articles!$A$6:$AF$3002,6))","v":""},{"$f":"IF(ISBLANK(A100),\"\",IF($C$15=1,VLOOKUP(A100,Articles!$A$6:$AF$3038,3),IF($C$15=2,VLOOKUP(A100,Articles!$A$6:$AF$3038,20),IF($C$15=3,VLOOKUP(A100,Articles!$A$6:$AF$3038,21),IF($C$15=4,VLOOKUP(A100,Articles!$A$6:$AF$3038,22),\"Erreur\")))))","v":""},null,0,{"$f":"IF(ISBLANK(A100),0,VLOOKUP(A100,Articles!$A$6:$Q$3002,8))","v":0},{"$f":"IF(ISBLANK(A100),0,IF(Variables!$A$13=\"TTC\",IF(H100=1,G100-(G100*100)/(100+Variables!$A$2),(IF(H100=2,G100-(G100*100)/(100+Variables!$A$3),0))),IF(H100=1,G100*Variables!$A$2/(100),(IF(H100=2,G100*Variables!$A$3/(100),0)))))","v":0},{"$f":"IF(ISBLANK(A100),\"\",VLOOKUP(A100,Articles!$A$5:$AF$3000,11))","v":""},{"$f":"IF(ISBLANK(A100),\"\",(VLOOKUP(A100,Articles!$A$5:$AH$3002,34))*C100)","v":""}]
[null,{"$f":"IF(ISBLANK(A101),\"\",VLOOKUP(A101,Articles!$A$6:$AF$3002,2))","v":""},null,{"$f":"IF(ISBLANK(A101),\"\",VLOOKUP(A101,Articles!$A$6:$AF$3002,6))","v":""},{"$f":"IF(ISBLANK(A101),\"\",IF($C$15=1,VLOOKUP(A101,Articles!$A$6:$AF$3038,3),IF($C$15=2,VLOOKUP(A101,Articles!$A$6:$AF$3038,20),IF($C$15=3,VLOOKUP(A101,Articles!$A$6:$AF$3038,21),IF($C$15=4,VLOOKUP(A101,Articles!$A$6:$AF$3038,22),\"Erreur\")))))","v":""},null,0,{"$f":"IF(ISBLANK(A101),0,VLOOKUP(A101,Articles!$A$6:$Q$3002,8))","v":0},{"$f":"IF(ISBLANK(A101),0,IF(Variables!$A$13=\"TTC\",IF(H101=1,G101-(G101*100)/(100+Variables!$A$2),(IF(H101=2,G101-(G101*100)/(100+Variables!$A$3),0))),IF(H101=1,G101*Variables!$A$2/(100),(IF(H101=2,G101*Variables!$A$3/(100),0)))))","v":0},{"$f":"IF(ISBLANK(A101),\"\",VLOOKUP(A101,Articles!$A$5:$AF$3000,11))","v":""},{"$f":"IF(ISBLANK(A101),\"\",(VLOOKUP(A101,Articles!$A$5:$AH$3002,34))*C101)","v":""}]
[null,{"$f":"IF(ISBLANK(A102),\"\",VLOOKUP(A102,Articles!$A$6:$AF$3002,2))","v":""},null,{"$f":"IF(ISBLANK(A102),\"\",VLOOKUP(A102,Articles!$A$6:$AF$3002,6))","v":""},{"$f":"IF(ISBLANK(A102),\"\",IF($C$15=1,VLOOKUP(A102,Articles!$A$6:$AF$3038,3),IF($C$15=2,VLOOKUP(A102,Articles!$A$6:$AF$3038,20),IF($C$15=3,VLOOKUP(A102,Articles!$A$6:$AF$3038,21),IF($C$15=4,VLOOKUP(A102,Articles!$A$6:$AF$3038,22),\"Erreur\")))))","v":""},null,0,{"$f":"IF(ISBLANK(A102),0,VLOOKUP(A102,Articles!$A$6:$Q$3002,8))","v":0},{"$f":"IF(ISBLANK(A102),0,IF(Variables!$A$13=\"TTC\",IF(H102=1,G102-(G102*100)/(100+Variables!$A$2),(IF(H102=2,G102-(G102*100)/(100+Variables!$A$3),0))),IF(H102=1,G102*Variables!$A$2/(100),(IF(H102=2,G102*Variables!$A$3/(100),0)))))","v":0},{"$f":"IF(ISBLANK(A102),\"\",VLOOKUP(A102,Articles!$A$5:$AF$3000,11))","v":""},{"$f":"IF(ISBLANK(A102),\"\",(VLOOKUP(A102,Articles!$A$5:$AH$3002,34))*C102)","v":""}]
[null,{"$f":"IF(ISBLANK(A103),\"\",VLOOKUP(A103,Articles!$A$6:$AF$3002,2))","v":""},null,{"$f":"IF(ISBLANK(A103),\"\",VLOOKUP(A103,Articles!$A$6:$AF$3002,6))","v":""},{"$f":"IF(ISBLANK(A103),\"\",IF($C$15=1,VLOOKUP(A103,Articles!$A$6:$AF$3038,3),IF($C$15=2,VLOOKUP(A103,Articles!$A$6:$AF$3038,20),IF($C$15=3,VLOOKUP(A103,Articles!$A$6:$AF$3038,21),IF($C$15=4,VLOOKUP(A103,Articles!$A$6:$AF$3038,22),\"Erreur\")))))","v":""},null,0,{"$f":"IF(ISBLANK(A103),0,VLOOKUP(A103,Articles!$A$6:$Q$3002,8))","v":0},{"$f":"IF(ISBLANK(A103),0,IF(Variables!$A$13=\"TTC\",IF(H103=1,G103-(G103*100)/(100+Variables!$A$2),(IF(H103=2,G103-(G103*100)/(100+Variables!$A$3),0))),IF(H103=1,G103*Variables!$A$2/(100),(IF(H103=2,G103*Variables!$A$3/(100),0)))))","v":0},{"$f":"IF(ISBLANK(A103),\"\",VLOOKUP(A103,Articles!$A$5:$AF$3000,11))","v":""},{"$f":"IF(ISBLANK(A103),\"\",(VLOOKUP(A103,Articles!$A$5:$AH$3002,34))*C103)","v":""}]
[null,{"$f":"IF(ISBLANK(A104),\"\",VLOOKUP(A104,Articles!$A$6:$AF$3002,2))","v":""},null,{"$f":"IF(ISBLANK(A104),\"\",VLOOKUP(A104,Articles!$A$6:$AF$3002,6))","v":""},{"$f":"IF(ISBLANK(A104),\"\",IF($C$15=1,VLOOKUP(A104,Articles!$A$6:$AF$3038,3),IF($C$15=2,VLOOKUP(A104,Articles!$A$6:$AF$3038,20),IF($C$15=3,VLOOKUP(A104,Articles!$A$6:$AF$3038,21),IF($C$15=4,VLOOKUP(A104,Articles!$A$6:$AF$3038,22),\"Erreur\")))))","v":""},null,0,{"$f":"IF(ISBLANK(A104),0,VLOOKUP(A104,Articles!$A$6:$Q$3002,8))","v":0},{"$f":"IF(ISBLANK(A104),0,IF(Variables!$A$13=\"TTC\",IF(H104=1,G104-(G104*100)/(100+Variables!$A$2),(IF(H104=2,G104-(G104*100)/(100+Variables!$A$3),0))),IF(H104=1,G104*Variables!$A$2/(100),(IF(H104=2,G104*Variables!$A$3/(100),0)))))","v":0},{"$f":"IF(ISBLANK(A104),\"\",VLOOKUP(A104,Articles!$A$5:$AF$3000,11))","v":""},{"$f":"IF(ISBLANK(A104),\"\",(VLOOKUP(A104,Articles!$A$5:$AH$3002,34))*C104)","v":""}]
[null,{"$f":"IF(ISBLANK(A105),\"\",VLOOKUP(A105,Articles!$A$6:$AF$3002,2))","v":""},null,{"$f":"IF(ISBLANK(A105),\"\",VLOOKUP(A105,Articles!$A$6:$AF$3002,6))","v":""},{"$f":"IF(ISBLANK(A105),\"\",IF($C$15=1,VLOOKUP(A105,Articles!$A$6:$AF$3038,3),IF($C$15=2,VLOOKUP(A105,Articles!$A$6:$AF$3038,20),IF($C$15=3,VLOOKUP(A105,Articles!$A$6:$AF$3038,21),IF($C$15=4,VLOOKUP(A105,Articles!$A$6:$AF$3038,22),\"Erreur\")))))","v":""},null,0,{"$f":"IF(ISBLANK(A105),0,VLOOKUP(A105,Articles!$A$6:$Q$3002,8))","v":0},{"$f":"IF(ISBLANK(A105),0,IF(Variables!$A$13=\"TTC\",IF(H105=1,G105-(G105*100)/(100+Variables!$A$2),(IF(H105=2,G105-(G105*100)/(100+Variables!$A$3),0))),IF(H105=1,G105*Variables!$A$2/(100),(IF(H105=2,G105*Variables!$A$3/(100),0)))))","v":0},{"$f":"IF(ISBLANK(A105),\"\",VLOOKUP(A105,Articles!$A$5:$AF$3000,11))","v":""},{"$f":"IF(ISBLANK(A105),\"\",(VLOOKUP(A105,Articles!$A$5:$AH$3002,34))*C105)","v":""}]
[null,{"$f":"IF(ISBLANK(A106),\"\",VLOOKUP(A106,Articles!$A$6:$AF$3002,2))","v":""},null,{"$f":"IF(ISBLANK(A106),\"\",VLOOKUP(A106,Articles!$A$6:$AF$3002,6))","v":""},{"$f":"IF(ISBLANK(A106),\"\",IF($C$15=1,VLOOKUP(A106,Articles!$A$6:$AF$3038,3),IF($C$15=2,VLOOKUP(A106,Articles!$A$6:$AF$3038,20),IF($C$15=3,VLOOKUP(A106,Articles!$A$6:$AF$3038,21),IF($C$15=4,VLOOKUP(A106,Articles!$A$6:$AF$3038,22),\"Erreur\")))))","v":""},null,0,{"$f":"IF(ISBLANK(A106),0,VLOOKUP(A106,Articles!$A$6:$Q$3002,8))","v":0},{"$f":"IF(ISBLANK(A106),0,IF(Variables!$A$13=\"TTC\",IF(H106=1,G106-(G106*100)/(100+Variables!$A$2),(IF(H106=2,G106-(G106*100)/(100+Variables!$A$3),0))),IF(H106=1,G106*Variables!$A$2/(100),(IF(H106=2,G106*Variables!$A$3/(100),0)))))","v":0},{"$f":"IF(ISBLANK(A106),\"\",VLOOKUP(A106,Articles!$A$5:$AF$3000,11))","v":""},{"$f":"IF(ISBLANK(A106),\"\",(VLOOKUP(A106,Articles!$A$5:$AH$3002,34))*C106)","v":""}]
[null,{"$f":"IF(ISBLANK(A107),\"\",VLOOKUP(A107,Articles!$A$6:$AF$3002,2))","v":""},null,{"$f":"IF(ISBLANK(A107),\"\",VLOOKUP(A107,Articles!$A$6:$AF$3002,6))","v":""},{"$f":"IF(ISBLANK(A107),\"\",IF($C$15=1,VLOOKUP(A107,Articles!$A$6:$AF$3038,3),IF($C$15=2,VLOOKUP(A107,Articles!$A$6:$AF$3038,20),IF($C$15=3,VLOOKUP(A107,Articles!$A$6:$AF$3038,21),IF($C$15=4,VLOOKUP(A107,Articles!$A$6:$AF$3038,22),\"Erreur\")))))","v":""},null,0,{"$f":"IF(ISBLANK(A107),0,VLOOKUP(A107,Articles!$A$6:$Q$3002,8))","v":0},{"$f":"IF(ISBLANK(A107),0,IF(Variables!$A$13=\"TTC\",IF(H107=1,G107-(G107*100)/(100+Variables!$A$2),(IF(H107=2,G107-(G107*100)/(100+Variables!$A$3),0))),IF(H107=1,G107*Variables!$A$2/(100),(IF(H107=2,G107*Variables!$A$3/(100),0)))))","v":0},{"$f":"IF(ISBLANK(A107),\"\",VLOOKUP(A107,Articles!$A$5:$AF$3000,11))","v":""},{"$f":"IF(ISBLANK(A107),\"\",(VLOOKUP(A107,Articles!$A$5:$AH$3002,34))*C107)","v":""}]
[null,{"$f":"IF(ISBLANK(A108),\"\",VLOOKUP(A108,Articles!$A$6:$AF$3002,2))","v":""},null,{"$f":"IF(ISBLANK(A108),\"\",VLOOKUP(A108,Articles!$A$6:$AF$3002,6))","v":""},{"$f":"IF(ISBLANK(A108),\"\",IF($C$15=1,VLOOKUP(A108,Articles!$A$6:$AF$3038,3),IF($C$15=2,VLOOKUP(A108,Articles!$A$6:$AF$3038,20),IF($C$15=3,VLOOKUP(A108,Articles!$A$6:$AF$3038,21),IF($C$15=4,VLOOKUP(A108,Articles!$A$6:$AF$3038,22),\"Erreur\")))))","v":""},null,0,{"$f":"IF(ISBLANK(A108),0,VLOOKUP(A108,Articles!$A$6:$Q$3002,8))","v":0},{"$f":"IF(ISBLANK(A108),0,IF(Variables!$A$13=\"TTC\",IF(H108=1,G108-(G108*100)/(100+Variables!$A$2),(IF(H108=2,G108-(G108*100)/(100+Variables!$A$3),0))),IF(H108=1,G108*Variables!$A$2/(100),(IF(H108=2,G108*Variables!$A$3/(100),0)))))","v":0},{"$f":"IF(ISBLANK(A108),\"\",VLOOKUP(A108,Articles!$A$5:$AF$3000,11))","v":""},{"$f":"IF(ISBLANK(A108),\"\",(VLOOKUP(A108,Articles!$A$5:$AH$3002,34))*C108)","v":""}]
[null,{"$f":"IF(ISBLANK(A109),\"\",VLOOKUP(A109,Articles!$A$6:$AF$3002,2))","v":""},null,{"$f":"IF(ISBLANK(A109),\"\",VLOOKUP(A109,Articles!$A$6:$AF$3002,6))","v":""},{"$f":"IF(ISBLANK(A109),\"\",IF($C$15=1,VLOOKUP(A109,Articles!$A$6:$AF$3038,3),IF($C$15=2,VLOOKUP(A109,Articles!$A$6:$AF$3038,20),IF($C$15=3,VLOOKUP(A109,Articles!$A$6:$AF$3038,21),IF($C$15=4,VLOOKUP(A109,Articles!$A$6:$AF$3038,22),\"Erreur\")))))","v":""},null,0,{"$f":"IF(ISBLANK(A109),0,VLOOKUP(A109,Articles!$A$6:$Q$3002,8))","v":0},{"$f":"IF(ISBLANK(A109),0,IF(Variables!$A$13=\"TTC\",IF(H109=1,G109-(G109*100)/(100+Variables!$A$2),(IF(H109=2,G109-(G109*100)/(100+Variables!$A$3),0))),IF(H109=1,G109*Variables!$A$2/(100),(IF(H109=2,G109*Variables!$A$3/(100),0)))))","v":0},{"$f":"IF(ISBLANK(A109),\"\",VLOOKUP(A109,Articles!$A$5:$AF$3000,11))","v":""},{"$f":"IF(ISBLANK(A109),\"\",(VLOOKUP(A109,Articles!$A$5:$AH$3002,34))*C109)","v":""}]
[null,{"$f":"IF(ISBLANK(A110),\"\",VLOOKUP(A110,Articles!$A$6:$AF$3002,2))","v":""},null,{"$f":"IF(ISBLANK(A110),\"\",VLOOKUP(A110,Articles!$A$6:$AF$3002,6))","v":""},{"$f":"IF(ISBLANK(A110),\"\",IF($C$15=1,VLOOKUP(A110,Articles!$A$6:$AF$3038,3),IF($C$15=2,VLOOKUP(A110,Articles!$A$6:$AF$3038,20),IF($C$15=3,VLOOKUP(A110,Articles!$A$6:$AF$3038,21),IF($C$15=4,VLOOKUP(A110,Articles!$A$6:$AF$3038,22),\"Erreur\")))))","v":""},null,0,{"$f":"IF(ISBLANK(A110),0,VLOOKUP(A110,Articles!$A$6:$Q$3002,8))","v":0},{"$f":"IF(ISBLANK(A110),0,IF(Variables!$A$13=\"TTC\",IF(H110=1,G110-(G110*100)/(100+Variables!$A$2),(IF(H110=2,G110-(G110*100)/(100+Variables!$A$3),0))),IF(H110=1,G110*Variables!$A$2/(100),(IF(H110=2,G110*Variables!$A$3/(100),0)))))","v":0},{"$f":"IF(ISBLANK(A110),\"\",VLOOKUP(A110,Articles!$A$5:$AF$3000,11))","v":""},{"$f":"IF(ISBLANK(A110),\"\",(VLOOKUP(A110,Articles!$A$5:$AH$3002,34))*C110)","v":""}]
[null,{"$f":"IF(ISBLANK(A111),\"\",VLOOKUP(A111,Articles!$A$6:$AF$3002,2))","v":""},null,{"$f":"IF(ISBLANK(A111),\"\",VLOOKUP(A111,Articles!$A$6:$AF$3002,6))","v":""},{"$f":"IF(ISBLANK(A111),\"\",IF($C$15=1,VLOOKUP(A111,Articles!$A$6:$AF$3038,3),IF($C$15=2,VLOOKUP(A111,Articles!$A$6:$AF$3038,20),IF($C$15=3,VLOOKUP(A111,Articles!$A$6:$AF$3038,21),IF($C$15=4,VLOOKUP(A111,Articles!$A$6:$AF$3038,22),\"Erreur\")))))","v":""},null,0,{"$f":"IF(ISBLANK(A111),0,VLOOKUP(A111,Articles!$A$6:$Q$3002,8))","v":0},{"$f":"IF(ISBLANK(A111),0,IF(Variables!$A$13=\"TTC\",IF(H111=1,G111-(G111*100)/(100+Variables!$A$2),(IF(H111=2,G111-(G111*100)/(100+Variables!$A$3),0))),IF(H111=1,G111*Variables!$A$2/(100),(IF(H111=2,G111*Variables!$A$3/(100),0)))))","v":0},{"$f":"IF(ISBLANK(A111),\"\",VLOOKUP(A111,Articles!$A$5:$AF$3000,11))","v":""},{"$f":"IF(ISBLANK(A111),\"\",(VLOOKUP(A111,Articles!$A$5:$AH$3002,34))*C111)","v":""}]
[null,{"$f":"IF(ISBLANK(A112),\"\",VLOOKUP(A112,Articles!$A$6:$AF$3002,2))","v":""},null,{"$f":"IF(ISBLANK(A112),\"\",VLOOKUP(A112,Articles!$A$6:$AF$3002,6))","v":""},{"$f":"IF(ISBLANK(A112),\"\",IF($C$15=1,VLOOKUP(A112,Articles!$A$6:$AF$3038,3),IF($C$15=2,VLOOKUP(A112,Articles!$A$6:$AF$3038,20),IF($C$15=3,VLOOKUP(A112,Articles!$A$6:$AF$3038,21),IF($C$15=4,VLOOKUP(A112,Articles!$A$6:$AF$3038,22),\"Erreur\")))))","v":""},null,0,{"$f":"IF(ISBLANK(A112),0,VLOOKUP(A112,Articles!$A$6:$Q$3002,8))","v":0},{"$f":"IF(ISBLANK(A112),0,IF(Variables!$A$13=\"TTC\",IF(H112=1,G112-(G112*100)/(100+Variables!$A$2),(IF(H112=2,G112-(G112*100)/(100+Variables!$A$3),0))),IF(H112=1,G112*Variables!$A$2/(100),(IF(H112=2,G112*Variables!$A$3/(100),0)))))","v":0},{"$f":"IF(ISBLANK(A112),\"\",VLOOKUP(A112,Articles!$A$5:$AF$3000,11))","v":""},{"$f":"IF(ISBLANK(A112),\"\",(VLOOKUP(A112,Articles!$A$5:$AH$3002,34))*C112)","v":""}]
[null,{"$f":"IF(ISBLANK(A113),\"\",VLOOKUP(A113,Articles!$A$6:$AF$3002,2))","v":""},null,{"$f":"IF(ISBLANK(A113),\"\",VLOOKUP(A113,Articles!$A$6:$AF$3002,6))","v":""},{"$f":"IF(ISBLANK(A113),\"\",IF($C$15=1,VLOOKUP(A113,Articles!$A$6:$AF$3038,3),IF($C$15=2,VLOOKUP(A113,Articles!$A$6:$AF$3038,20),IF($C$15=3,VLOOKUP(A113,Articles!$A$6:$AF$3038,21),IF($C$15=4,VLOOKUP(A113,Articles!$A$6:$AF$3038,22),\"Erreur\")))))","v":""},null,0,{"$f":"IF(ISBLANK(A113),0,VLOOKUP(A113,Articles!$A$6:$Q$3002,8))","v":0},{"$f":"IF(ISBLANK(A113),0,IF(Variables!$A$13=\"TTC\",IF(H113=1,G113-(G113*100)/(100+Variables!$A$2),(IF(H113=2,G113-(G113*100)/(100+Variables!$A$3),0))),IF(H113=1,G113*Variables!$A$2/(100),(IF(H113=2,G113*Variables!$A$3/(100),0)))))","v":0},{"$f":"IF(ISBLANK(A113),\"\",VLOOKUP(A113,Articles!$A$5:$AF$3000,11))","v":""},{"$f":"IF(ISBLANK(A113),\"\",(VLOOKUP(A113,Articles!$A$5:$AH$3002,34))*C113)","v":""}]
[null,{"$f":"IF(ISBLANK(A114),\"\",VLOOKUP(A114,Articles!$A$6:$AF$3002,2))","v":""},null,{"$f":"IF(ISBLANK(A114),\"\",VLOOKUP(A114,Articles!$A$6:$AF$3002,6))","v":""},{"$f":"IF(ISBLANK(A114),\"\",IF($C$15=1,VLOOKUP(A114,Articles!$A$6:$AF$3038,3),IF($C$15=2,VLOOKUP(A114,Articles!$A$6:$AF$3038,20),IF($C$15=3,VLOOKUP(A114,Articles!$A$6:$AF$3038,21),IF($C$15=4,VLOOKUP(A114,Articles!$A$6:$AF$3038,22),\"Erreur\")))))","v":""},null,0,{"$f":"IF(ISBLANK(A114),0,VLOOKUP(A114,Articles!$A$6:$Q$3002,8))","v":0},{"$f":"IF(ISBLANK(A114),0,IF(Variables!$A$13=\"TTC\",IF(H114=1,G114-(G114*100)/(100+Variables!$A$2),(IF(H114=2,G114-(G114*100)/(100+Variables!$A$3),0))),IF(H114=1,G114*Variables!$A$2/(100),(IF(H114=2,G114*Variables!$A$3/(100),0)))))","v":0},{"$f":"IF(ISBLANK(A114),\"\",VLOOKUP(A114,Articles!$A$5:$AF$3000,11))","v":""},{"$f":"IF(ISBLANK(A114),\"\",(VLOOKUP(A114,Articles!$A$5:$AH$3002,34))*C114)","v":""}]
[null,{"$f":"IF(ISBLANK(A115),\"\",VLOOKUP(A115,Articles!$A$6:$AF$3002,2))","v":""},null,{"$f":"IF(ISBLANK(A115),\"\",VLOOKUP(A115,Articles!$A$6:$AF$3002,6))","v":""},{"$f":"IF(ISBLANK(A115),\"\",IF($C$15=1,VLOOKUP(A115,Articles!$A$6:$AF$3038,3),IF($C$15=2,VLOOKUP(A115,Articles!$A$6:$AF$3038,20),IF($C$15=3,VLOOKUP(A115,Articles!$A$6:$AF$3038,21),IF($C$15=4,VLOOKUP(A115,Articles!$A$6:$AF$3038,22),\"Erreur\")))))","v":""},null,0,{"$f":"IF(ISBLANK(A115),0,VLOOKUP(A115,Articles!$A$6:$Q$3002,8))","v":0},{"$f":"IF(ISBLANK(A115),0,IF(Variables!$A$13=\"TTC\",IF(H115=1,G115-(G115*100)/(100+Variables!$A$2),(IF(H115=2,G115-(G115*100)/(100+Variables!$A$3),0))),IF(H115=1,G115*Variables!$A$2/(100),(IF(H115=2,G115*Variables!$A$3/(100),0)))))","v":0},{"$f":"IF(ISBLANK(A115),\"\",VLOOKUP(A115,Articles!$A$5:$AF$3000,11))","v":""},{"$f":"IF(ISBLANK(A115),\"\",(VLOOKUP(A115,Articles!$A$5:$AH$3002,34))*C115)","v":""}]
[null,{"$f":"IF(ISBLANK(A116),\"\",VLOOKUP(A116,Articles!$A$6:$AF$3002,2))","v":""},null,{"$f":"IF(ISBLANK(A116),\"\",VLOOKUP(A116,Articles!$A$6:$AF$3002,6))","v":""},{"$f":"IF(ISBLANK(A116),\"\",IF($C$15=1,VLOOKUP(A116,Articles!$A$6:$AF$3038,3),IF($C$15=2,VLOOKUP(A116,Articles!$A$6:$AF$3038,20),IF($C$15=3,VLOOKUP(A116,Articles!$A$6:$AF$3038,21),IF($C$15=4,VLOOKUP(A116,Articles!$A$6:$AF$3038,22),\"Erreur\")))))","v":""},null,0,{"$f":"IF(ISBLANK(A116),0,VLOOKUP(A116,Articles!$A$6:$Q$3002,8))","v":0},{"$f":"IF(ISBLANK(A116),0,IF(Variables!$A$13=\"TTC\",IF(H116=1,G116-(G116*100)/(100+Variables!$A$2),(IF(H116=2,G116-(G116*100)/(100+Variables!$A$3),0))),IF(H116=1,G116*Variables!$A$2/(100),(IF(H116=2,G116*Variables!$A$3/(100),0)))))","v":0},{"$f":"IF(ISBLANK(A116),\"\",VLOOKUP(A116,Articles!$A$5:$AF$3000,11))","v":""},{"$f":"IF(ISBLANK(A116),\"\",(VLOOKUP(A116,Articles!$A$5:$AH$3002,34))*C116)","v":""}]
[null,{"$f":"IF(ISBLANK(A117),\"\",VLOOKUP(A117,Articles!$A$6:$AF$3002,2))","v":""},null,{"$f":"IF(ISBLANK(A117),\"\",VLOOKUP(A117,Articles!$A$6:$AF$3002,6))","v":""},{"$f":"IF(ISBLANK(A117),\"\",IF($C$15=1,VLOOKUP(A117,Articles!$A$6:$AF$3038,3),IF($C$15=2,VLOOKUP(A117,Articles!$A$6:$AF$3038,20),IF($C$15=3,VLOOKUP(A117,Articles!$A$6:$AF$3038,21),IF($C$15=4,VLOOKUP(A117,Articles!$A$6:$AF$3038,22),\"Erreur\")))))","v":""},null,0,{"$f":"IF(ISBLANK(A117),0,VLOOKUP(A117,Articles!$A$6:$Q$3002,8))","v":0},{"$f":"IF(ISBLANK(A117),0,IF(Variables!$A$13=\"TTC\",IF(H117=1,G117-(G117*100)/(100+Variables!$A$2),(IF(H117=2,G117-(G117*100)/(100+Variables!$A$3),0))),IF(H117=1,G117*Variables!$A$2/(100),(IF(H117=2,G117*Variables!$A$3/(100),0)))))","v":0},{"$f":"IF(ISBLANK(A117),\"\",VLOOKUP(A117,Articles!$A$5:$AF$3000,11))","v":""},{"$f":"IF(ISBLANK(A117),\"\",(VLOOKUP(A117,Articles!$A$5:$AH$3002,34))*C117)","v":""}]
[null,{"$f":"IF(ISBLANK(A118),\"\",VLOOKUP(A118,Articles!$A$6:$AF$3002,2))","v":""},null,{"$f":"IF(ISBLANK(A118),\"\",VLOOKUP(A118,Articles!$A$6:$AF$3002,6))","v":""},{"$f":"IF(ISBLANK(A118),\"\",IF($C$15=1,VLOOKUP(A118,Articles!$A$6:$AF$3038,3),IF($C$15=2,VLOOKUP(A118,Articles!$A$6:$AF$3038,20),IF($C$15=3,VLOOKUP(A118,Articles!$A$6:$AF$3038,21),IF($C$15=4,VLOOKUP(A118,Articles!$A$6:$AF$3038,22),\"Erreur\")))))","v":""},null,0,{"$f":"IF(ISBLANK(A118),0,VLOOKUP(A118,Articles!$A$6:$Q$3002,8))","v":0},{"$f":"IF(ISBLANK(A118),0,IF(Variables!$A$13=\"TTC\",IF(H118=1,G118-(G118*100)/(100+Variables!$A$2),(IF(H118=2,G118-(G118*100)/(100+Variables!$A$3),0))),IF(H118=1,G118*Variables!$A$2/(100),(IF(H118=2,G118*Variables!$A$3/(100),0)))))","v":0},{"$f":"IF(ISBLANK(A118),\"\",VLOOKUP(A118,Articles!$A$5:$AF$3000,11))","v":""},{"$f":"IF(ISBLANK(A118),\"\",(VLOOKUP(A118,Articles!$A$5:$AH$3002,34))*C118)","v":""}]
[null,{"$f":"IF(ISBLANK(A119),\"\",VLOOKUP(A119,Articles!$A$6:$AF$3002,2))","v":""},null,{"$f":"IF(ISBLANK(A119),\"\",VLOOKUP(A119,Articles!$A$6:$AF$3002,6))","v":""},{"$f":"IF(ISBLANK(A119),\"\",IF($C$15=1,VLOOKUP(A119,Articles!$A$6:$AF$3038,3),IF($C$15=2,VLOOKUP(A119,Articles!$A$6:$AF$3038,20),IF($C$15=3,VLOOKUP(A119,Articles!$A$6:$AF$3038,21),IF($C$15=4,VLOOKUP(A119,Articles!$A$6:$AF$3038,22),\"Erreur\")))))","v":""},null,0,{"$f":"IF(ISBLANK(A119),0,VLOOKUP(A119,Articles!$A$6:$Q$3002,8))","v":0},{"$f":"IF(ISBLANK(A119),0,IF(Variables!$A$13=\"TTC\",IF(H119=1,G119-(G119*100)/(100+Variables!$A$2),(IF(H119=2,G119-(G119*100)/(100+Variables!$A$3),0))),IF(H119=1,G119*Variables!$A$2/(100),(IF(H119=2,G119*Variables!$A$3/(100),0)))))","v":0},{"$f":"IF(ISBLANK(A119),\"\",VLOOKUP(A119,Articles!$A$5:$AF$3000,11))","v":""},{"$f":"IF(ISBLANK(A119),\"\",(VLOOKUP(A119,Articles!$A$5:$AH$3002,34))*C119)","v":""}]
[null,{"$f":"IF(ISBLANK(A120),\"\",VLOOKUP(A120,Articles!$A$6:$AF$3002,2))","v":""},null,{"$f":"IF(ISBLANK(A120),\"\",VLOOKUP(A120,Articles!$A$6:$AF$3002,6))","v":""},{"$f":"IF(ISBLANK(A120),\"\",IF($C$15=1,VLOOKUP(A120,Articles!$A$6:$AF$3038,3),IF($C$15=2,VLOOKUP(A120,Articles!$A$6:$AF$3038,20),IF($C$15=3,VLOOKUP(A120,Articles!$A$6:$AF$3038,21),IF($C$15=4,VLOOKUP(A120,Articles!$A$6:$AF$3038,22),\"Erreur\")))))","v":""},null,0,{"$f":"IF(ISBLANK(A120),0,VLOOKUP(A120,Articles!$A$6:$Q$3002,8))","v":0},{"$f":"IF(ISBLANK(A120),0,IF(Variables!$A$13=\"TTC\",IF(H120=1,G120-(G120*100)/(100+Variables!$A$2),(IF(H120=2,G120-(G120*100)/(100+Variables!$A$3),0))),IF(H120=1,G120*Variables!$A$2/(100),(IF(H120=2,G120*Variables!$A$3/(100),0)))))","v":0},{"$f":"IF(ISBLANK(A120),\"\",VLOOKUP(A120,Articles!$A$5:$AF$3000,11))","v":""},{"$f":"IF(ISBLANK(A120),\"\",(VLOOKUP(A120,Articles!$A$5:$AH$3002,34))*C120)","v":""}]
[null,{"$f":"IF(ISBLANK(A121),\"\",VLOOKUP(A121,Articles!$A$6:$AF$3002,2))","v":""},null,{"$f":"IF(ISBLANK(A121),\"\",VLOOKUP(A121,Articles!$A$6:$AF$3002,6))","v":""},{"$f":"IF(ISBLANK(A121),\"\",IF($C$15=1,VLOOKUP(A121,Articles!$A$6:$AF$3038,3),IF($C$15=2,VLOOKUP(A121,Articles!$A$6:$AF$3038,20),IF($C$15=3,VLOOKUP(A121,Articles!$A$6:$AF$3038,21),IF($C$15=4,VLOOKUP(A121,Articles!$A$6:$AF$3038,22),\"Erreur\")))))","v":""},null,0,{"$f":"IF(ISBLANK(A121),0,VLOOKUP(A121,Articles!$A$6:$Q$3002,8))","v":0},{"$f":"IF(ISBLANK(A121),0,IF(Variables!$A$13=\"TTC\",IF(H121=1,G121-(G121*100)/(100+Variables!$A$2),(IF(H121=2,G121-(G121*100)/(100+Variables!$A$3),0))),IF(H121=1,G121*Variables!$A$2/(100),(IF(H121=2,G121*Variables!$A$3/(100),0)))))","v":0},{"$f":"IF(ISBLANK(A121),\"\",VLOOKUP(A121,Articles!$A$5:$AF$3000,11))","v":""},{"$f":"IF(ISBLANK(A121),\"\",(VLOOKUP(A121,Articles!$A$5:$AH$3002,34))*C121)","v":""}]
[null,{"$f":"IF(ISBLANK(A122),\"\",VLOOKUP(A122,Articles!$A$6:$AF$3002,2))","v":""},null,{"$f":"IF(ISBLANK(A122),\"\",VLOOKUP(A122,Articles!$A$6:$AF$3002,6))","v":""},{"$f":"IF(ISBLANK(A122),\"\",IF($C$15=1,VLOOKUP(A122,Articles!$A$6:$AF$3038,3),IF($C$15=2,VLOOKUP(A122,Articles!$A$6:$AF$3038,20),IF($C$15=3,VLOOKUP(A122,Articles!$A$6:$AF$3038,21),IF($C$15=4,VLOOKUP(A122,Articles!$A$6:$AF$3038,22),\"Erreur\")))))","v":""},null,0,{"$f":"IF(ISBLANK(A122),0,VLOOKUP(A122,Articles!$A$6:$Q$3002,8))","v":0},{"$f":"IF(ISBLANK(A122),0,IF(Variables!$A$13=\"TTC\",IF(H122=1,G122-(G122*100)/(100+Variables!$A$2),(IF(H122=2,G122-(G122*100)/(100+Variables!$A$3),0))),IF(H122=1,G122*Variables!$A$2/(100),(IF(H122=2,G122*Variables!$A$3/(100),0)))))","v":0},{"$f":"IF(ISBLANK(A122),\"\",VLOOKUP(A122,Articles!$A$5:$AF$3000,11))","v":""},{"$f":"IF(ISBLANK(A122),\"\",(VLOOKUP(A122,Articles!$A$5:$AH$3002,34))*C122)","v":""}]
[null,{"$f":"IF(ISBLANK(A123),\"\",VLOOKUP(A123,Articles!$A$6:$AF$3002,2))","v":""},null,{"$f":"IF(ISBLANK(A123),\"\",VLOOKUP(A123,Articles!$A$6:$AF$3002,6))","v":""},{"$f":"IF(ISBLANK(A123),\"\",IF($C$15=1,VLOOKUP(A123,Articles!$A$6:$AF$3038,3),IF($C$15=2,VLOOKUP(A123,Articles!$A$6:$AF$3038,20),IF($C$15=3,VLOOKUP(A123,Articles!$A$6:$AF$3038,21),IF($C$15=4,VLOOKUP(A123,Articles!$A$6:$AF$3038,22),\"Erreur\")))))","v":""},null,0,{"$f":"IF(ISBLANK(A123),0,VLOOKUP(A123,Articles!$A$6:$Q$3002,8))","v":0},{"$f":"IF(ISBLANK(A123),0,IF(Variables!$A$13=\"TTC\",IF(H123=1,G123-(G123*100)/(100+Variables!$A$2),(IF(H123=2,G123-(G123*100)/(100+Variables!$A$3),0))),IF(H123=1,G123*Variables!$A$2/(100),(IF(H123=2,G123*Variables!$A$3/(100),0)))))","v":0},{"$f":"IF(ISBLANK(A123),\"\",VLOOKUP(A123,Articles!$A$5:$AF$3000,11))","v":""},{"$f":"IF(ISBLANK(A123),\"\",(VLOOKUP(A123,Articles!$A$5:$AH$3002,34))*C123)","v":""}]
[null,{"$f":"IF(ISBLANK(A124),\"\",VLOOKUP(A124,Articles!$A$6:$AF$3002,2))","v":""},null,{"$f":"IF(ISBLANK(A124),\"\",VLOOKUP(A124,Articles!$A$6:$AF$3002,6))","v":""},{"$f":"IF(ISBLANK(A124),\"\",IF($C$15=1,VLOOKUP(A124,Articles!$A$6:$AF$3038,3),IF($C$15=2,VLOOKUP(A124,Articles!$A$6:$AF$3038,20),IF($C$15=3,VLOOKUP(A124,Articles!$A$6:$AF$3038,21),IF($C$15=4,VLOOKUP(A124,Articles!$A$6:$AF$3038,22),\"Erreur\")))))","v":""},null,0,{"$f":"IF(ISBLANK(A124),0,VLOOKUP(A124,Articles!$A$6:$Q$3002,8))","v":0},{"$f":"IF(ISBLANK(A124),0,IF(Variables!$A$13=\"TTC\",IF(H124=1,G124-(G124*100)/(100+Variables!$A$2),(IF(H124=2,G124-(G124*100)/(100+Variables!$A$3),0))),IF(H124=1,G124*Variables!$A$2/(100),(IF(H124=2,G124*Variables!$A$3/(100),0)))))","v":0},{"$f":"IF(ISBLANK(A124),\"\",VLOOKUP(A124,Articles!$A$5:$AF$3000,11))","v":""},{"$f":"IF(ISBLANK(A124),\"\",(VLOOKUP(A124,Articles!$A$5:$AH$3002,34))*C124)","v":""}]
[null,{"$f":"IF(ISBLANK(A125),\"\",VLOOKUP(A125,Articles!$A$6:$AF$3002,2))","v":""},null,{"$f":"IF(ISBLANK(A125),\"\",VLOOKUP(A125,Articles!$A$6:$AF$3002,6))","v":""},{"$f":"IF(ISBLANK(A125),\"\",IF($C$15=1,VLOOKUP(A125,Articles!$A$6:$AF$3038,3),IF($C$15=2,VLOOKUP(A125,Articles!$A$6:$AF$3038,20),IF($C$15=3,VLOOKUP(A125,Articles!$A$6:$AF$3038,21),IF($C$15=4,VLOOKUP(A125,Articles!$A$6:$AF$3038,22),\"Erreur\")))))","v":""},null,0,{"$f":"IF(ISBLANK(A125),0,VLOOKUP(A125,Articles!$A$6:$Q$3002,8))","v":0},{"$f":"IF(ISBLANK(A125),0,IF(Variables!$A$13=\"TTC\",IF(H125=1,G125-(G125*100)/(100+Variables!$A$2),(IF(H125=2,G125-(G125*100)/(100+Variables!$A$3),0))),IF(H125=1,G125*Variables!$A$2/(100),(IF(H125=2,G125*Variables!$A$3/(100),0)))))","v":0},{"$f":"IF(ISBLANK(A125),\"\",VLOOKUP(A125,Articles!$A$5:$AF$3000,11))","v":""},{"$f":"IF(ISBLANK(A125),\"\",(VLOOKUP(A125,Articles!$A$5:$AH$3002,34))*C125)","v":""}]
[null,{"$f":"IF(ISBLANK(A126),\"\",VLOOKUP(A126,Articles!$A$6:$AF$3002,2))","v":""},null,{"$f":"IF(ISBLANK(A126),\"\",VLOOKUP(A126,Articles!$A$6:$AF$3002,6))","v":""},{"$f":"IF(ISBLANK(A126),\"\",IF($C$15=1,VLOOKUP(A126,Articles!$A$6:$AF$3038,3),IF($C$15=2,VLOOKUP(A126,Articles!$A$6:$AF$3038,20),IF($C$15=3,VLOOKUP(A126,Articles!$A$6:$AF$3038,21),IF($C$15=4,VLOOKUP(A126,Articles!$A$6:$AF$3038,22),\"Erreur\")))))","v":""},null,0,{"$f":"IF(ISBLANK(A126),0,VLOOKUP(A126,Articles!$A$6:$Q$3002,8))","v":0},{"$f":"IF(ISBLANK(A126),0,IF(Variables!$A$13=\"TTC\",IF(H126=1,G126-(G126*100)/(100+Variables!$A$2),(IF(H126=2,G126-(G126*100)/(100+Variables!$A$3),0))),IF(H126=1,G126*Variables!$A$2/(100),(IF(H126=2,G126*Variables!$A$3/(100),0)))))","v":0},{"$f":"IF(ISBLANK(A126),\"\",VLOOKUP(A126,Articles!$A$5:$AF$3000,11))","v":""},{"$f":"IF(ISBLANK(A126),\"\",(VLOOKUP(A126,Articles!$A$5:$AH$3002,34))*C126)","v":""}]
[null,{"$f":"IF(ISBLANK(A127),\"\",VLOOKUP(A127,Articles!$A$6:$AF$3002,2))","v":""},null,{"$f":"IF(ISBLANK(A127),\"\",VLOOKUP(A127,Articles!$A$6:$AF$3002,6))","v":""},{"$f":"IF(ISBLANK(A127),\"\",IF($C$15=1,VLOOKUP(A127,Articles!$A$6:$AF$3038,3),IF($C$15=2,VLOOKUP(A127,Articles!$A$6:$AF$3038,20),IF($C$15=3,VLOOKUP(A127,Articles!$A$6:$AF$3038,21),IF($C$15=4,VLOOKUP(A127,Articles!$A$6:$AF$3038,22),\"Erreur\")))))","v":""},null,0,{"$f":"IF(ISBLANK(A127),0,VLOOKUP(A127,Articles!$A$6:$Q$3002,8))","v":0},{"$f":"IF(ISBLANK(A127),0,IF(Variables!$A$13=\"TTC\",IF(H127=1,G127-(G127*100)/(100+Variables!$A$2),(IF(H127=2,G127-(G127*100)/(100+Variables!$A$3),0))),IF(H127=1,G127*Variables!$A$2/(100),(IF(H127=2,G127*Variables!$A$3/(100),0)))))","v":0},{"$f":"IF(ISBLANK(A127),\"\",VLOOKUP(A127,Articles!$A$5:$AF$3000,11))","v":""},{"$f":"IF(ISBLANK(A127),\"\",(VLOOKUP(A127,Articles!$A$5:$AH$3002,34))*C127)","v":""}]
[null,{"$f":"IF(ISBLANK(A128),\"\",VLOOKUP(A128,Articles!$A$6:$AF$3002,2))","v":""},null,{"$f":"IF(ISBLANK(A128),\"\",VLOOKUP(A128,Articles!$A$6:$AF$3002,6))","v":""},{"$f":"IF(ISBLANK(A128),\"\",IF($C$15=1,VLOOKUP(A128,Articles!$A$6:$AF$3038,3),IF($C$15=2,VLOOKUP(A128,Articles!$A$6:$AF$3038,20),IF($C$15=3,VLOOKUP(A128,Articles!$A$6:$AF$3038,21),IF($C$15=4,VLOOKUP(A128,Articles!$A$6:$AF$3038,22),\"Erreur\")))))","v":""},null,0,{"$f":"IF(ISBLANK(A128),0,VLOOKUP(A128,Articles!$A$6:$Q$3002,8))","v":0},{"$f":"IF(ISBLANK(A128),0,IF(Variables!$A$13=\"TTC\",IF(H128=1,G128-(G128*100)/(100+Variables!$A$2),(IF(H128=2,G128-(G128*100)/(100+Variables!$A$3),0))),IF(H128=1,G128*Variables!$A$2/(100),(IF(H128=2,G128*Variables!$A$3/(100),0)))))","v":0},{"$f":"IF(ISBLANK(A128),\"\",VLOOKUP(A128,Articles!$A$5:$AF$3000,11))","v":""},{"$f":"IF(ISBLANK(A128),\"\",(VLOOKUP(A128,Articles!$A$5:$AH$3002,34))*C128)","v":""}]
[null,{"$f":"IF(ISBLANK(A129),\"\",VLOOKUP(A129,Articles!$A$6:$AF$3002,2))","v":""},null,{"$f":"IF(ISBLANK(A129),\"\",VLOOKUP(A129,Articles!$A$6:$AF$3002,6))","v":""},{"$f":"IF(ISBLANK(A129),\"\",IF($C$15=1,VLOOKUP(A129,Articles!$A$6:$AF$3038,3),IF($C$15=2,VLOOKUP(A129,Articles!$A$6:$AF$3038,20),IF($C$15=3,VLOOKUP(A129,Articles!$A$6:$AF$3038,21),IF($C$15=4,VLOOKUP(A129,Articles!$A$6:$AF$3038,22),\"Erreur\")))))","v":""},null,0,{"$f":"IF(ISBLANK(A129),0,VLOOKUP(A129,Articles!$A$6:$Q$3002,8))","v":0},{"$f":"IF(ISBLANK(A129),0,IF(Variables!$A$13=\"TTC\",IF(H129=1,G129-(G129*100)/(100+Variables!$A$2),(IF(H129=2,G129-(G129*100)/(100+Variables!$A$3),0))),IF(H129=1,G129*Variables!$A$2/(100),(IF(H129=2,G129*Variables!$A$3/(100),0)))))","v":0},{"$f":"IF(ISBLANK(A129),\"\",VLOOKUP(A129,Articles!$A$5:$AF$3000,11))","v":""},{"$f":"IF(ISBLANK(A129),\"\",(VLOOKUP(A129,Articles!$A$5:$AH$3002,34))*C129)","v":""}]
[null,{"$f":"IF(ISBLANK(A130),\"\",VLOOKUP(A130,Articles!$A$6:$AF$3002,2))","v":""},null,{"$f":"IF(ISBLANK(A130),\"\",VLOOKUP(A130,Articles!$A$6:$AF$3002,6))","v":""},{"$f":"IF(ISBLANK(A130),\"\",IF($C$15=1,VLOOKUP(A130,Articles!$A$6:$AF$3038,3),IF($C$15=2,VLOOKUP(A130,Articles!$A$6:$AF$3038,20),IF($C$15=3,VLOOKUP(A130,Articles!$A$6:$AF$3038,21),IF($C$15=4,VLOOKUP(A130,Articles!$A$6:$AF$3038,22),\"Erreur\")))))","v":""},null,0,{"$f":"IF(ISBLANK(A130),0,VLOOKUP(A130,Articles!$A$6:$Q$3002,8))","v":0},{"$f":"IF(ISBLANK(A130),0,IF(Variables!$A$13=\"TTC\",IF(H130=1,G130-(G130*100)/(100+Variables!$A$2),(IF(H130=2,G130-(G130*100)/(100+Variables!$A$3),0))),IF(H130=1,G130*Variables!$A$2/(100),(IF(H130=2,G130*Variables!$A$3/(100),0)))))","v":0},{"$f":"IF(ISBLANK(A130),\"\",VLOOKUP(A130,Articles!$A$5:$AF$3000,11))","v":""},{"$f":"IF(ISBLANK(A130),\"\",(VLOOKUP(A130,Articles!$A$5:$AH$3002,34))*C130)","v":""}]
[null,{"$f":"IF(ISBLANK(A131),\"\",VLOOKUP(A131,Articles!$A$6:$AF$3002,2))","v":""},null,{"$f":"IF(ISBLANK(A131),\"\",VLOOKUP(A131,Articles!$A$6:$AF$3002,6))","v":""},{"$f":"IF(ISBLANK(A131),\"\",IF($C$15=1,VLOOKUP(A131,Articles!$A$6:$AF$3038,3),IF($C$15=2,VLOOKUP(A131,Articles!$A$6:$AF$3038,20),IF($C$15=3,VLOOKUP(A131,Articles!$A$6:$AF$3038,21),IF($C$15=4,VLOOKUP(A131,Articles!$A$6:$AF$3038,22),\"Erreur\")))))","v":""},null,0,{"$f":"IF(ISBLANK(A131),0,VLOOKUP(A131,Articles!$A$6:$Q$3002,8))","v":0},{"$f":"IF(ISBLANK(A131),0,IF(Variables!$A$13=\"TTC\",IF(H131=1,G131-(G131*100)/(100+Variables!$A$2),(IF(H131=2,G131-(G131*100)/(100+Variables!$A$3),0))),IF(H131=1,G131*Variables!$A$2/(100),(IF(H131=2,G131*Variables!$A$3/(100),0)))))","v":0},{"$f":"IF(ISBLANK(A131),\"\",VLOOKUP(A131,Articles!$A$5:$AF$3000,11))","v":""},{"$f":"IF(ISBLANK(A131),\"\",(VLOOKUP(A131,Articles!$A$5:$AH$3002,34))*C131)","v":""}]
[null,{"$f":"IF(ISBLANK(A132),\"\",VLOOKUP(A132,Articles!$A$6:$AF$3002,2))","v":""},null,{"$f":"IF(ISBLANK(A132),\"\",VLOOKUP(A132,Articles!$A$6:$AF$3002,6))","v":""},{"$f":"IF(ISBLANK(A132),\"\",IF($C$15=1,VLOOKUP(A132,Articles!$A$6:$AF$3038,3),IF($C$15=2,VLOOKUP(A132,Articles!$A$6:$AF$3038,20),IF($C$15=3,VLOOKUP(A132,Articles!$A$6:$AF$3038,21),IF($C$15=4,VLOOKUP(A132,Articles!$A$6:$AF$3038,22),\"Erreur\")))))","v":""},null,0,{"$f":"IF(ISBLANK(A132),0,VLOOKUP(A132,Articles!$A$6:$Q$3002,8))","v":0},{"$f":"IF(ISBLANK(A132),0,IF(Variables!$A$13=\"TTC\",IF(H132=1,G132-(G132*100)/(100+Variables!$A$2),(IF(H132=2,G132-(G132*100)/(100+Variables!$A$3),0))),IF(H132=1,G132*Variables!$A$2/(100),(IF(H132=2,G132*Variables!$A$3/(100),0)))))","v":0},{"$f":"IF(ISBLANK(A132),\"\",VLOOKUP(A132,Articles!$A$5:$AF$3000,11))","v":""},{"$f":"IF(ISBLANK(A132),\"\",(VLOOKUP(A132,Articles!$A$5:$AH$3002,34))*C132)","v":""}]
[null,{"$f":"IF(ISBLANK(A133),\"\",VLOOKUP(A133,Articles!$A$6:$AF$3002,2))","v":""},null,{"$f":"IF(ISBLANK(A133),\"\",VLOOKUP(A133,Articles!$A$6:$AF$3002,6))","v":""},{"$f":"IF(ISBLANK(A133),\"\",IF($C$15=1,VLOOKUP(A133,Articles!$A$6:$AF$3038,3),IF($C$15=2,VLOOKUP(A133,Articles!$A$6:$AF$3038,20),IF($C$15=3,VLOOKUP(A133,Articles!$A$6:$AF$3038,21),IF($C$15=4,VLOOKUP(A133,Articles!$A$6:$AF$3038,22),\"Erreur\")))))","v":""},null,0,{"$f":"IF(ISBLANK(A133),0,VLOOKUP(A133,Articles!$A$6:$Q$3002,8))","v":0},{"$f":"IF(ISBLANK(A133),0,IF(Variables!$A$13=\"TTC\",IF(H133=1,G133-(G133*100)/(100+Variables!$A$2),(IF(H133=2,G133-(G133*100)/(100+Variables!$A$3),0))),IF(H133=1,G133*Variables!$A$2/(100),(IF(H133=2,G133*Variables!$A$3/(100),0)))))","v":0},{"$f":"IF(ISBLANK(A133),\"\",VLOOKUP(A133,Articles!$A$5:$AF$3000,11))","v":""},{"$f":"IF(ISBLANK(A133),\"\",(VLOOKUP(A133,Articles!$A$5:$AH$3002,34))*C133)","v":""}]
[null,{"$f":"IF(ISBLANK(A134),\"\",VLOOKUP(A134,Articles!$A$6:$AF$3002,2))","v":""},null,{"$f":"IF(ISBLANK(A134),\"\",VLOOKUP(A134,Articles!$A$6:$AF$3002,6))","v":""},{"$f":"IF(ISBLANK(A134),\"\",IF($C$15=1,VLOOKUP(A134,Articles!$A$6:$AF$3038,3),IF($C$15=2,VLOOKUP(A134,Articles!$A$6:$AF$3038,20),IF($C$15=3,VLOOKUP(A134,Articles!$A$6:$AF$3038,21),IF($C$15=4,VLOOKUP(A134,Articles!$A$6:$AF$3038,22),\"Erreur\")))))","v":""},null,0,{"$f":"IF(ISBLANK(A134),0,VLOOKUP(A134,Articles!$A$6:$Q$3002,8))","v":0},{"$f":"IF(ISBLANK(A134),0,IF(Variables!$A$13=\"TTC\",IF(H134=1,G134-(G134*100)/(100+Variables!$A$2),(IF(H134=2,G134-(G134*100)/(100+Variables!$A$3),0))),IF(H134=1,G134*Variables!$A$2/(100),(IF(H134=2,G134*Variables!$A$3/(100),0)))))","v":0},{"$f":"IF(ISBLANK(A134),\"\",VLOOKUP(A134,Articles!$A$5:$AF$3000,11))","v":""},{"$f":"IF(ISBLANK(A134),\"\",(VLOOKUP(A134,Articles!$A$5:$AH$3002,34))*C134)","v":""}]
[null,{"$f":"IF(ISBLANK(A135),\"\",VLOOKUP(A135,Articles!$A$6:$AF$3002,2))","v":""},null,{"$f":"IF(ISBLANK(A135),\"\",VLOOKUP(A135,Articles!$A$6:$AF$3002,6))","v":""},{"$f":"IF(ISBLANK(A135),\"\",IF($C$15=1,VLOOKUP(A135,Articles!$A$6:$AF$3038,3),IF($C$15=2,VLOOKUP(A135,Articles!$A$6:$AF$3038,20),IF($C$15=3,VLOOKUP(A135,Articles!$A$6:$AF$3038,21),IF($C$15=4,VLOOKUP(A135,Articles!$A$6:$AF$3038,22),\"Erreur\")))))","v":""},null,0,{"$f":"IF(ISBLANK(A135),0,VLOOKUP(A135,Articles!$A$6:$Q$3002,8))","v":0},{"$f":"IF(ISBLANK(A135),0,IF(Variables!$A$13=\"TTC\",IF(H135=1,G135-(G135*100)/(100+Variables!$A$2),(IF(H135=2,G135-(G135*100)/(100+Variables!$A$3),0))),IF(H135=1,G135*Variables!$A$2/(100),(IF(H135=2,G135*Variables!$A$3/(100),0)))))","v":0},{"$f":"IF(ISBLANK(A135),\"\",VLOOKUP(A135,Articles!$A$5:$AF$3000,11))","v":""},{"$f":"IF(ISBLANK(A135),\"\",(VLOOKUP(A135,Articles!$A$5:$AH$3002,34))*C135)","v":""}]
[null,{"$f":"IF(ISBLANK(A136),\"\",VLOOKUP(A136,Articles!$A$6:$AF$3002,2))","v":""},null,{"$f":"IF(ISBLANK(A136),\"\",VLOOKUP(A136,Articles!$A$6:$AF$3002,6))","v":""},{"$f":"IF(ISBLANK(A136),\"\",IF($C$15=1,VLOOKUP(A136,Articles!$A$6:$AF$3038,3),IF($C$15=2,VLOOKUP(A136,Articles!$A$6:$AF$3038,20),IF($C$15=3,VLOOKUP(A136,Articles!$A$6:$AF$3038,21),IF($C$15=4,VLOOKUP(A136,Articles!$A$6:$AF$3038,22),\"Erreur\")))))","v":""},null,0,{"$f":"IF(ISBLANK(A136),0,VLOOKUP(A136,Articles!$A$6:$Q$3002,8))","v":0},{"$f":"IF(ISBLANK(A136),0,IF(Variables!$A$13=\"TTC\",IF(H136=1,G136-(G136*100)/(100+Variables!$A$2),(IF(H136=2,G136-(G136*100)/(100+Variables!$A$3),0))),IF(H136=1,G136*Variables!$A$2/(100),(IF(H136=2,G136*Variables!$A$3/(100),0)))))","v":0},{"$f":"IF(ISBLANK(A136),\"\",VLOOKUP(A136,Articles!$A$5:$AF$3000,11))","v":""},{"$f":"IF(ISBLANK(A136),\"\",(VLOOKUP(A136,Articles!$A$5:$AH$3002,34))*C136)","v":""}]
[null,{"$f":"IF(ISBLANK(A137),\"\",VLOOKUP(A137,Articles!$A$6:$AF$3002,2))","v":""},null,{"$f":"IF(ISBLANK(A137),\"\",VLOOKUP(A137,Articles!$A$6:$AF$3002,6))","v":""},{"$f":"IF(ISBLANK(A137),\"\",IF($C$15=1,VLOOKUP(A137,Articles!$A$6:$AF$3038,3),IF($C$15=2,VLOOKUP(A137,Articles!$A$6:$AF$3038,20),IF($C$15=3,VLOOKUP(A137,Articles!$A$6:$AF$3038,21),IF($C$15=4,VLOOKUP(A137,Articles!$A$6:$AF$3038,22),\"Erreur\")))))","v":""},null,0,{"$f":"IF(ISBLANK(A137),0,VLOOKUP(A137,Articles!$A$6:$Q$3002,8))","v":0},{"$f":"IF(ISBLANK(A137),0,IF(Variables!$A$13=\"TTC\",IF(H137=1,G137-(G137*100)/(100+Variables!$A$2),(IF(H137=2,G137-(G137*100)/(100+Variables!$A$3),0))),IF(H137=1,G137*Variables!$A$2/(100),(IF(H137=2,G137*Variables!$A$3/(100),0)))))","v":0},{"$f":"IF(ISBLANK(A137),\"\",VLOOKUP(A137,Articles!$A$5:$AF$3000,11))","v":""},{"$f":"IF(ISBLANK(A137),\"\",(VLOOKUP(A137,Articles!$A$5:$AH$3002,34))*C137)","v":""}]
[null,{"$f":"IF(ISBLANK(A138),\"\",VLOOKUP(A138,Articles!$A$6:$AF$3002,2))","v":""},null,{"$f":"IF(ISBLANK(A138),\"\",VLOOKUP(A138,Articles!$A$6:$AF$3002,6))","v":""},{"$f":"IF(ISBLANK(A138),\"\",IF($C$15=1,VLOOKUP(A138,Articles!$A$6:$AF$3038,3),IF($C$15=2,VLOOKUP(A138,Articles!$A$6:$AF$3038,20),IF($C$15=3,VLOOKUP(A138,Articles!$A$6:$AF$3038,21),IF($C$15=4,VLOOKUP(A138,Articles!$A$6:$AF$3038,22),\"Erreur\")))))","v":""},null,0,{"$f":"IF(ISBLANK(A138),0,VLOOKUP(A138,Articles!$A$6:$Q$3002,8))","v":0},{"$f":"IF(ISBLANK(A138),0,IF(Variables!$A$13=\"TTC\",IF(H138=1,G138-(G138*100)/(100+Variables!$A$2),(IF(H138=2,G138-(G138*100)/(100+Variables!$A$3),0))),IF(H138=1,G138*Variables!$A$2/(100),(IF(H138=2,G138*Variables!$A$3/(100),0)))))","v":0},{"$f":"IF(ISBLANK(A138),\"\",VLOOKUP(A138,Articles!$A$5:$AF$3000,11))","v":""},{"$f":"IF(ISBLANK(A138),\"\",(VLOOKUP(A138,Articles!$A$5:$AH$3002,34))*C138)","v":""}]
[null,{"$f":"IF(ISBLANK(A139),\"\",VLOOKUP(A139,Articles!$A$6:$AF$3002,2))","v":""},null,{"$f":"IF(ISBLANK(A139),\"\",VLOOKUP(A139,Articles!$A$6:$AF$3002,6))","v":""},{"$f":"IF(ISBLANK(A139),\"\",IF($C$15=1,VLOOKUP(A139,Articles!$A$6:$AF$3038,3),IF($C$15=2,VLOOKUP(A139,Articles!$A$6:$AF$3038,20),IF($C$15=3,VLOOKUP(A139,Articles!$A$6:$AF$3038,21),IF($C$15=4,VLOOKUP(A139,Articles!$A$6:$AF$3038,22),\"Erreur\")))))","v":""},null,0,{"$f":"IF(ISBLANK(A139),0,VLOOKUP(A139,Articles!$A$6:$Q$3002,8))","v":0},{"$f":"IF(ISBLANK(A139),0,IF(Variables!$A$13=\"TTC\",IF(H139=1,G139-(G139*100)/(100+Variables!$A$2),(IF(H139=2,G139-(G139*100)/(100+Variables!$A$3),0))),IF(H139=1,G139*Variables!$A$2/(100),(IF(H139=2,G139*Variables!$A$3/(100),0)))))","v":0},{"$f":"IF(ISBLANK(A139),\"\",VLOOKUP(A139,Articles!$A$5:$AF$3000,11))","v":""},{"$f":"IF(ISBLANK(A139),\"\",(VLOOKUP(A139,Articles!$A$5:$AH$3002,34))*C139)","v":""}]
[null,{"$f":"IF(ISBLANK(A140),\"\",VLOOKUP(A140,Articles!$A$6:$AF$3002,2))","v":""},null,{"$f":"IF(ISBLANK(A140),\"\",VLOOKUP(A140,Articles!$A$6:$AF$3002,6))","v":""},{"$f":"IF(ISBLANK(A140),\"\",IF($C$15=1,VLOOKUP(A140,Articles!$A$6:$AF$3038,3),IF($C$15=2,VLOOKUP(A140,Articles!$A$6:$AF$3038,20),IF($C$15=3,VLOOKUP(A140,Articles!$A$6:$AF$3038,21),IF($C$15=4,VLOOKUP(A140,Articles!$A$6:$AF$3038,22),\"Erreur\")))))","v":""},null,0,{"$f":"IF(ISBLANK(A140),0,VLOOKUP(A140,Articles!$A$6:$Q$3002,8))","v":0},{"$f":"IF(ISBLANK(A140),0,IF(Variables!$A$13=\"TTC\",IF(H140=1,G140-(G140*100)/(100+Variables!$A$2),(IF(H140=2,G140-(G140*100)/(100+Variables!$A$3),0))),IF(H140=1,G140*Variables!$A$2/(100),(IF(H140=2,G140*Variables!$A$3/(100),0)))))","v":0},{"$f":"IF(ISBLANK(A140),\"\",VLOOKUP(A140,Articles!$A$5:$AF$3000,11))","v":""},{"$f":"IF(ISBLANK(A140),\"\",(VLOOKUP(A140,Articles!$A$5:$AH$3002,34))*C140)","v":""}]
[null,{"$f":"IF(ISBLANK(A141),\"\",VLOOKUP(A141,Articles!$A$6:$AF$3002,2))","v":""},null,{"$f":"IF(ISBLANK(A141),\"\",VLOOKUP(A141,Articles!$A$6:$AF$3002,6))","v":""},{"$f":"IF(ISBLANK(A141),\"\",IF($C$15=1,VLOOKUP(A141,Articles!$A$6:$AF$3038,3),IF($C$15=2,VLOOKUP(A141,Articles!$A$6:$AF$3038,20),IF($C$15=3,VLOOKUP(A141,Articles!$A$6:$AF$3038,21),IF($C$15=4,VLOOKUP(A141,Articles!$A$6:$AF$3038,22),\"Erreur\")))))","v":""},null,0,{"$f":"IF(ISBLANK(A141),0,VLOOKUP(A141,Articles!$A$6:$Q$3002,8))","v":0},{"$f":"IF(ISBLANK(A141),0,IF(Variables!$A$13=\"TTC\",IF(H141=1,G141-(G141*100)/(100+Variables!$A$2),(IF(H141=2,G141-(G141*100)/(100+Variables!$A$3),0))),IF(H141=1,G141*Variables!$A$2/(100),(IF(H141=2,G141*Variables!$A$3/(100),0)))))","v":0},{"$f":"IF(ISBLANK(A141),\"\",VLOOKUP(A141,Articles!$A$5:$AF$3000,11))","v":""},{"$f":"IF(ISBLANK(A141),\"\",(VLOOKUP(A141,Articles!$A$5:$AH$3002,34))*C141)","v":""}]
[null,{"$f":"IF(ISBLANK(A142),\"\",VLOOKUP(A142,Articles!$A$6:$AF$3002,2))","v":""},null,{"$f":"IF(ISBLANK(A142),\"\",VLOOKUP(A142,Articles!$A$6:$AF$3002,6))","v":""},{"$f":"IF(ISBLANK(A142),\"\",IF($C$15=1,VLOOKUP(A142,Articles!$A$6:$AF$3038,3),IF($C$15=2,VLOOKUP(A142,Articles!$A$6:$AF$3038,20),IF($C$15=3,VLOOKUP(A142,Articles!$A$6:$AF$3038,21),IF($C$15=4,VLOOKUP(A142,Articles!$A$6:$AF$3038,22),\"Erreur\")))))","v":""},null,0,{"$f":"IF(ISBLANK(A142),0,VLOOKUP(A142,Articles!$A$6:$Q$3002,8))","v":0},{"$f":"IF(ISBLANK(A142),0,IF(Variables!$A$13=\"TTC\",IF(H142=1,G142-(G142*100)/(100+Variables!$A$2),(IF(H142=2,G142-(G142*100)/(100+Variables!$A$3),0))),IF(H142=1,G142*Variables!$A$2/(100),(IF(H142=2,G142*Variables!$A$3/(100),0)))))","v":0},{"$f":"IF(ISBLANK(A142),\"\",VLOOKUP(A142,Articles!$A$5:$AF$3000,11))","v":""},{"$f":"IF(ISBLANK(A142),\"\",(VLOOKUP(A142,Articles!$A$5:$AH$3002,34))*C142)","v":""}]
[null,{"$f":"IF(ISBLANK(A143),\"\",VLOOKUP(A143,Articles!$A$6:$AF$3002,2))","v":""},null,{"$f":"IF(ISBLANK(A143),\"\",VLOOKUP(A143,Articles!$A$6:$AF$3002,6))","v":""},{"$f":"IF(ISBLANK(A143),\"\",IF($C$15=1,VLOOKUP(A143,Articles!$A$6:$AF$3038,3),IF($C$15=2,VLOOKUP(A143,Articles!$A$6:$AF$3038,20),IF($C$15=3,VLOOKUP(A143,Articles!$A$6:$AF$3038,21),IF($C$15=4,VLOOKUP(A143,Articles!$A$6:$AF$3038,22),\"Erreur\")))))","v":""},null,0,{"$f":"IF(ISBLANK(A143),0,VLOOKUP(A143,Articles!$A$6:$Q$3002,8))","v":0},{"$f":"IF(ISBLANK(A143),0,IF(Variables!$A$13=\"TTC\",IF(H143=1,G143-(G143*100)/(100+Variables!$A$2),(IF(H143=2,G143-(G143*100)/(100+Variables!$A$3),0))),IF(H143=1,G143*Variables!$A$2/(100),(IF(H143=2,G143*Variables!$A$3/(100),0)))))","v":0},{"$f":"IF(ISBLANK(A143),\"\",VLOOKUP(A143,Articles!$A$5:$AF$3000,11))","v":""},{"$f":"IF(ISBLANK(A143),\"\",(VLOOKUP(A143,Articles!$A$5:$AH$3002,34))*C143)","v":""}]
[null,{"$f":"IF(ISBLANK(A144),\"\",VLOOKUP(A144,Articles!$A$6:$AF$3002,2))","v":""},null,{"$f":"IF(ISBLANK(A144),\"\",VLOOKUP(A144,Articles!$A$6:$AF$3002,6))","v":""},{"$f":"IF(ISBLANK(A144),\"\",IF($C$15=1,VLOOKUP(A144,Articles!$A$6:$AF$3038,3),IF($C$15=2,VLOOKUP(A144,Articles!$A$6:$AF$3038,20),IF($C$15=3,VLOOKUP(A144,Articles!$A$6:$AF$3038,21),IF($C$15=4,VLOOKUP(A144,Articles!$A$6:$AF$3038,22),\"Erreur\")))))","v":""},null,0,{"$f":"IF(ISBLANK(A144),0,VLOOKUP(A144,Articles!$A$6:$Q$3002,8))","v":0},{"$f":"IF(ISBLANK(A144),0,IF(Variables!$A$13=\"TTC\",IF(H144=1,G144-(G144*100)/(100+Variables!$A$2),(IF(H144=2,G144-(G144*100)/(100+Variables!$A$3),0))),IF(H144=1,G144*Variables!$A$2/(100),(IF(H144=2,G144*Variables!$A$3/(100),0)))))","v":0},{"$f":"IF(ISBLANK(A144),\"\",VLOOKUP(A144,Articles!$A$5:$AF$3000,11))","v":""},{"$f":"IF(ISBLANK(A144),\"\",(VLOOKUP(A144,Articles!$A$5:$AH$3002,34))*C144)","v":""}]
[null,{"$f":"IF(ISBLANK(A145),\"\",VLOOKUP(A145,Articles!$A$6:$AF$3002,2))","v":""},null,{"$f":"IF(ISBLANK(A145),\"\",VLOOKUP(A145,Articles!$A$6:$AF$3002,6))","v":""},{"$f":"IF(ISBLANK(A145),\"\",IF($C$15=1,VLOOKUP(A145,Articles!$A$6:$AF$3038,3),IF($C$15=2,VLOOKUP(A145,Articles!$A$6:$AF$3038,20),IF($C$15=3,VLOOKUP(A145,Articles!$A$6:$AF$3038,21),IF($C$15=4,VLOOKUP(A145,Articles!$A$6:$AF$3038,22),\"Erreur\")))))","v":""},null,0,{"$f":"IF(ISBLANK(A145),0,VLOOKUP(A145,Articles!$A$6:$Q$3002,8))","v":0},{"$f":"IF(ISBLANK(A145),0,IF(Variables!$A$13=\"TTC\",IF(H145=1,G145-(G145*100)/(100+Variables!$A$2),(IF(H145=2,G145-(G145*100)/(100+Variables!$A$3),0))),IF(H145=1,G145*Variables!$A$2/(100),(IF(H145=2,G145*Variables!$A$3/(100),0)))))","v":0},{"$f":"IF(ISBLANK(A145),\"\",VLOOKUP(A145,Articles!$A$5:$AF$3000,11))","v":""},{"$f":"IF(ISBLANK(A145),\"\",(VLOOKUP(A145,Articles!$A$5:$AH$3002,34))*C145)","v":""}]
[null,{"$f":"IF(ISBLANK(A146),\"\",VLOOKUP(A146,Articles!$A$6:$AF$3002,2))","v":""},null,{"$f":"IF(ISBLANK(A146),\"\",VLOOKUP(A146,Articles!$A$6:$AF$3002,6))","v":""},{"$f":"IF(ISBLANK(A146),\"\",IF($C$15=1,VLOOKUP(A146,Articles!$A$6:$AF$3038,3),IF($C$15=2,VLOOKUP(A146,Articles!$A$6:$AF$3038,20),IF($C$15=3,VLOOKUP(A146,Articles!$A$6:$AF$3038,21),IF($C$15=4,VLOOKUP(A146,Articles!$A$6:$AF$3038,22),\"Erreur\")))))","v":""},null,{"$f":"IF(ISBLANK(A146),0,SUM(C146*E146)*(100-F146)/100)","v":0},{"$f":"IF(ISBLANK(A146),0,VLOOKUP(A146,Articles!$A$6:$Q$3002,8))","v":0},{"$f":"IF(ISBLANK(A146),0,IF(Variables!$A$13=\"TTC\",IF(H146=1,G146-(G146*100)/(100+Variables!$A$2),(IF(H146=2,G146-(G146*100)/(100+Variables!$A$3),0))),IF(H146=1,G146*Variables!$A$2/(100),(IF(H146=2,G146*Variables!$A$3/(100),0)))))","v":0},{"$f":"IF(ISBLANK(A146),\"\",VLOOKUP(A146,Articles!$A$5:$AF$3000,11))","v":""},{"$f":"IF(ISBLANK(A146),\"\",(VLOOKUP(A146,Articles!$A$5:$AH$3002,34))*C146)","v":""}]
[null,{"$f":"IF(ISBLANK(A147),\"\",VLOOKUP(A147,Articles!$A$6:$AF$3002,2))","v":""},null,{"$f":"IF(ISBLANK(A147),\"\",VLOOKUP(A147,Articles!$A$6:$AF$3002,6))","v":""},{"$f":"IF(ISBLANK(A147),\"\",IF($C$15=1,VLOOKUP(A147,Articles!$A$6:$AF$3038,3),IF($C$15=2,VLOOKUP(A147,Articles!$A$6:$AF$3038,20),IF($C$15=3,VLOOKUP(A147,Articles!$A$6:$AF$3038,21),IF($C$15=4,VLOOKUP(A147,Articles!$A$6:$AF$3038,22),\"Erreur\")))))","v":""},null,0,{"$f":"IF(ISBLANK(A147),0,VLOOKUP(A147,Articles!$A$6:$Q$3002,8))","v":0},{"$f":"IF(ISBLANK(A147),0,IF(Variables!$A$13=\"TTC\",IF(H147=1,G147-(G147*100)/(100+Variables!$A$2),(IF(H147=2,G147-(G147*100)/(100+Variables!$A$3),0))),IF(H147=1,G147*Variables!$A$2/(100),(IF(H147=2,G147*Variables!$A$3/(100),0)))))","v":0},{"$f":"IF(ISBLANK(A147),\"\",VLOOKUP(A147,Articles!$A$5:$AF$3000,11))","v":""},{"$f":"IF(ISBLANK(A147),\"\",(VLOOKUP(A147,Articles!$A$5:$AH$3002,34))*C147)","v":""}]
[null,{"$f":"IF(ISBLANK(A148),\"\",VLOOKUP(A148,Articles!$A$6:$AF$3002,2))","v":""},null,{"$f":"IF(ISBLANK(A148),\"\",VLOOKUP(A148,Articles!$A$6:$AF$3002,6))","v":""},{"$f":"IF(ISBLANK(A148),\"\",IF($C$15=1,VLOOKUP(A148,Articles!$A$6:$AF$3038,3),IF($C$15=2,VLOOKUP(A148,Articles!$A$6:$AF$3038,20),IF($C$15=3,VLOOKUP(A148,Articles!$A$6:$AF$3038,21),IF($C$15=4,VLOOKUP(A148,Articles!$A$6:$AF$3038,22),\"Erreur\")))))","v":""},null,0,{"$f":"IF(ISBLANK(A148),0,VLOOKUP(A148,Articles!$A$6:$Q$3002,8))","v":0},{"$f":"IF(ISBLANK(A148),0,IF(Variables!$A$13=\"TTC\",IF(H148=1,G148-(G148*100)/(100+Variables!$A$2),(IF(H148=2,G148-(G148*100)/(100+Variables!$A$3),0))),IF(H148=1,G148*Variables!$A$2/(100),(IF(H148=2,G148*Variables!$A$3/(100),0)))))","v":0},{"$f":"IF(ISBLANK(A148),\"\",VLOOKUP(A148,Articles!$A$5:$AF$3000,11))","v":""},{"$f":"IF(ISBLANK(A148),\"\",(VLOOKUP(A148,Articles!$A$5:$AH$3002,34))*C148)","v":""}]
[null,{"$f":"IF(ISBLANK(A149),\"\",VLOOKUP(A149,Articles!$A$6:$AF$3002,2))","v":""},null,{"$f":"IF(ISBLANK(A149),\"\",VLOOKUP(A149,Articles!$A$6:$AF$3002,6))","v":""},{"$f":"IF(ISBLANK(A149),\"\",IF($C$15=1,VLOOKUP(A149,Articles!$A$6:$AF$3038,3),IF($C$15=2,VLOOKUP(A149,Articles!$A$6:$AF$3038,20),IF($C$15=3,VLOOKUP(A149,Articles!$A$6:$AF$3038,21),IF($C$15=4,VLOOKUP(A149,Articles!$A$6:$AF$3038,22),\"Erreur\")))))","v":""},null,0,{"$f":"IF(ISBLANK(A149),0,VLOOKUP(A149,Articles!$A$6:$Q$3002,8))","v":0},{"$f":"IF(ISBLANK(A149),0,IF(Variables!$A$13=\"TTC\",IF(H149=1,G149-(G149*100)/(100+Variables!$A$2),(IF(H149=2,G149-(G149*100)/(100+Variables!$A$3),0))),IF(H149=1,G149*Variables!$A$2/(100),(IF(H149=2,G149*Variables!$A$3/(100),0)))))","v":0},{"$f":"IF(ISBLANK(A149),\"\",VLOOKUP(A149,Articles!$A$5:$AF$3000,11))","v":""},{"$f":"IF(ISBLANK(A149),\"\",(VLOOKUP(A149,Articles!$A$5:$AH$3002,34))*C149)","v":""}]
[null,{"$f":"IF(ISBLANK(A150),\"\",VLOOKUP(A150,Articles!$A$6:$AF$3002,2))","v":""},null,{"$f":"IF(ISBLANK(A150),\"\",VLOOKUP(A150,Articles!$A$6:$AF$3002,6))","v":""},{"$f":"IF(ISBLANK(A150),\"\",IF($C$15=1,VLOOKUP(A150,Articles!$A$6:$AF$3038,3),IF($C$15=2,VLOOKUP(A150,Articles!$A$6:$AF$3038,20),IF($C$15=3,VLOOKUP(A150,Articles!$A$6:$AF$3038,21),IF($C$15=4,VLOOKUP(A150,Articles!$A$6:$AF$3038,22),\"Erreur\")))))","v":""},null,0,{"$f":"IF(ISBLANK(A150),0,VLOOKUP(A150,Articles!$A$6:$Q$3002,8))","v":0},{"$f":"IF(ISBLANK(A150),0,IF(Variables!$A$13=\"TTC\",IF(H150=1,G150-(G150*100)/(100+Variables!$A$2),(IF(H150=2,G150-(G150*100)/(100+Variables!$A$3),0))),IF(H150=1,G150*Variables!$A$2/(100),(IF(H150=2,G150*Variables!$A$3/(100),0)))))","v":0},{"$f":"IF(ISBLANK(A150),\"\",VLOOKUP(A150,Articles!$A$5:$AF$3000,11))","v":""},{"$f":"IF(ISBLANK(A150),\"\",(VLOOKUP(A150,Articles!$A$5:$AH$3002,34))*C150)","v":""}]
[null,{"$f":"IF(ISBLANK(A151),\"\",VLOOKUP(A151,Articles!$A$6:$AF$3002,2))","v":""},null,{"$f":"IF(ISBLANK(A151),\"\",VLOOKUP(A151,Articles!$A$6:$AF$3002,6))","v":""},{"$f":"IF(ISBLANK(A151),\"\",IF($C$15=1,VLOOKUP(A151,Articles!$A$6:$AF$3038,3),IF($C$15=2,VLOOKUP(A151,Articles!$A$6:$AF$3038,20),IF($C$15=3,VLOOKUP(A151,Articles!$A$6:$AF$3038,21),IF($C$15=4,VLOOKUP(A151,Articles!$A$6:$AF$3038,22),\"Erreur\")))))","v":""},null,0,{"$f":"IF(ISBLANK(A151),0,VLOOKUP(A151,Articles!$A$6:$Q$3002,8))","v":0},{"$f":"IF(ISBLANK(A151),0,IF(Variables!$A$13=\"TTC\",IF(H151=1,G151-(G151*100)/(100+Variables!$A$2),(IF(H151=2,G151-(G151*100)/(100+Variables!$A$3),0))),IF(H151=1,G151*Variables!$A$2/(100),(IF(H151=2,G151*Variables!$A$3/(100),0)))))","v":0},{"$f":"IF(ISBLANK(A151),\"\",VLOOKUP(A151,Articles!$A$5:$AF$3000,11))","v":""},{"$f":"IF(ISBLANK(A151),\"\",(VLOOKUP(A151,Articles!$A$5:$AH$3002,34))*C151)","v":""}]
[null,{"$f":"IF(ISBLANK(A152),\"\",VLOOKUP(A152,Articles!$A$6:$AF$3002,2))","v":""},null,{"$f":"IF(ISBLANK(A152),\"\",VLOOKUP(A152,Articles!$A$6:$AF$3002,6))","v":""},{"$f":"IF(ISBLANK(A152),\"\",IF($C$15=1,VLOOKUP(A152,Articles!$A$6:$AF$3038,3),IF($C$15=2,VLOOKUP(A152,Articles!$A$6:$AF$3038,20),IF($C$15=3,VLOOKUP(A152,Articles!$A$6:$AF$3038,21),IF($C$15=4,VLOOKUP(A152,Articles!$A$6:$AF$3038,22),\"Erreur\")))))","v":""},null,0,{"$f":"IF(ISBLANK(A152),0,VLOOKUP(A152,Articles!$A$6:$Q$3002,8))","v":0},{"$f":"IF(ISBLANK(A152),0,IF(Variables!$A$13=\"TTC\",IF(H152=1,G152-(G152*100)/(100+Variables!$A$2),(IF(H152=2,G152-(G152*100)/(100+Variables!$A$3),0))),IF(H152=1,G152*Variables!$A$2/(100),(IF(H152=2,G152*Variables!$A$3/(100),0)))))","v":0},{"$f":"IF(ISBLANK(A152),\"\",VLOOKUP(A152,Articles!$A$5:$AF$3000,11))","v":""},{"$f":"IF(ISBLANK(A152),\"\",(VLOOKUP(A152,Articles!$A$5:$AH$3002,34))*C152)","v":""}]
[null,{"$f":"IF(ISBLANK(A153),\"\",VLOOKUP(A153,Articles!$A$6:$AF$3002,2))","v":""},null,{"$f":"IF(ISBLANK(A153),\"\",VLOOKUP(A153,Articles!$A$6:$AF$3002,6))","v":""},{"$f":"IF(ISBLANK(A153),\"\",IF($C$15=1,VLOOKUP(A153,Articles!$A$6:$AF$3038,3),IF($C$15=2,VLOOKUP(A153,Articles!$A$6:$AF$3038,20),IF($C$15=3,VLOOKUP(A153,Articles!$A$6:$AF$3038,21),IF($C$15=4,VLOOKUP(A153,Articles!$A$6:$AF$3038,22),\"Erreur\")))))","v":""},null,0,{"$f":"IF(ISBLANK(A153),0,VLOOKUP(A153,Articles!$A$6:$Q$3002,8))","v":0},{"$f":"IF(ISBLANK(A153),0,IF(Variables!$A$13=\"TTC\",IF(H153=1,G153-(G153*100)/(100+Variables!$A$2),(IF(H153=2,G153-(G153*100)/(100+Variables!$A$3),0))),IF(H153=1,G153*Variables!$A$2/(100),(IF(H153=2,G153*Variables!$A$3/(100),0)))))","v":0},{"$f":"IF(ISBLANK(A153),\"\",VLOOKUP(A153,Articles!$A$5:$AF$3000,11))","v":""},{"$f":"IF(ISBLANK(A153),\"\",(VLOOKUP(A153,Articles!$A$5:$AH$3002,34))*C153)","v":""}]
[null,{"$f":"IF(ISBLANK(A154),\"\",VLOOKUP(A154,Articles!$A$6:$AF$3002,2))","v":""},null,{"$f":"IF(ISBLANK(A154),\"\",VLOOKUP(A154,Articles!$A$6:$AF$3002,6))","v":""},{"$f":"IF(ISBLANK(A154),\"\",IF($C$15=1,VLOOKUP(A154,Articles!$A$6:$AF$3038,3),IF($C$15=2,VLOOKUP(A154,Articles!$A$6:$AF$3038,20),IF($C$15=3,VLOOKUP(A154,Articles!$A$6:$AF$3038,21),IF($C$15=4,VLOOKUP(A154,Articles!$A$6:$AF$3038,22),\"Erreur\")))))","v":""},null,0,{"$f":"IF(ISBLANK(A154),0,VLOOKUP(A154,Articles!$A$6:$Q$3002,8))","v":0},{"$f":"IF(ISBLANK(A154),0,IF(Variables!$A$13=\"TTC\",IF(H154=1,G154-(G154*100)/(100+Variables!$A$2),(IF(H154=2,G154-(G154*100)/(100+Variables!$A$3),0))),IF(H154=1,G154*Variables!$A$2/(100),(IF(H154=2,G154*Variables!$A$3/(100),0)))))","v":0},{"$f":"IF(ISBLANK(A154),\"\",VLOOKUP(A154,Articles!$A$5:$AF$3000,11))","v":""},{"$f":"IF(ISBLANK(A154),\"\",(VLOOKUP(A154,Articles!$A$5:$AH$3002,34))*C154)","v":""}]
[null,{"$f":"IF(ISBLANK(A155),\"\",VLOOKUP(A155,Articles!$A$6:$AF$3002,2))","v":""},null,{"$f":"IF(ISBLANK(A155),\"\",VLOOKUP(A155,Articles!$A$6:$AF$3002,6))","v":""},{"$f":"IF(ISBLANK(A155),\"\",IF($C$15=1,VLOOKUP(A155,Articles!$A$6:$AF$3038,3),IF($C$15=2,VLOOKUP(A155,Articles!$A$6:$AF$3038,20),IF($C$15=3,VLOOKUP(A155,Articles!$A$6:$AF$3038,21),IF($C$15=4,VLOOKUP(A155,Articles!$A$6:$AF$3038,22),\"Erreur\")))))","v":""},null,0,{"$f":"IF(ISBLANK(A155),0,VLOOKUP(A155,Articles!$A$6:$Q$3002,8))","v":0},{"$f":"IF(ISBLANK(A155),0,IF(Variables!$A$13=\"TTC\",IF(H155=1,G155-(G155*100)/(100+Variables!$A$2),(IF(H155=2,G155-(G155*100)/(100+Variables!$A$3),0))),IF(H155=1,G155*Variables!$A$2/(100),(IF(H155=2,G155*Variables!$A$3/(100),0)))))","v":0},{"$f":"IF(ISBLANK(A155),\"\",VLOOKUP(A155,Articles!$A$5:$AF$3000,11))","v":""},{"$f":"IF(ISBLANK(A155),\"\",(VLOOKUP(A155,Articles!$A$5:$AH$3002,34))*C155)","v":""}]
[null,{"$f":"IF(ISBLANK(A156),\"\",VLOOKUP(A156,Articles!$A$6:$AF$3002,2))","v":""},null,{"$f":"IF(ISBLANK(A156),\"\",VLOOKUP(A156,Articles!$A$6:$AF$3002,6))","v":""},{"$f":"IF(ISBLANK(A156),\"\",IF($C$15=1,VLOOKUP(A156,Articles!$A$6:$AF$3038,3),IF($C$15=2,VLOOKUP(A156,Articles!$A$6:$AF$3038,20),IF($C$15=3,VLOOKUP(A156,Articles!$A$6:$AF$3038,21),IF($C$15=4,VLOOKUP(A156,Articles!$A$6:$AF$3038,22),\"Erreur\")))))","v":""},null,0,{"$f":"IF(ISBLANK(A156),0,VLOOKUP(A156,Articles!$A$6:$Q$3002,8))","v":0},{"$f":"IF(ISBLANK(A156),0,IF(Variables!$A$13=\"TTC\",IF(H156=1,G156-(G156*100)/(100+Variables!$A$2),(IF(H156=2,G156-(G156*100)/(100+Variables!$A$3),0))),IF(H156=1,G156*Variables!$A$2/(100),(IF(H156=2,G156*Variables!$A$3/(100),0)))))","v":0},{"$f":"IF(ISBLANK(A156),\"\",VLOOKUP(A156,Articles!$A$5:$AF$3000,11))","v":""},{"$f":"IF(ISBLANK(A156),\"\",(VLOOKUP(A156,Articles!$A$5:$AH$3002,34))*C156)","v":""}]
[null,{"$f":"IF(ISBLANK(A157),\"\",VLOOKUP(A157,Articles!$A$6:$AF$3002,2))","v":""},null,{"$f":"IF(ISBLANK(A157),\"\",VLOOKUP(A157,Articles!$A$6:$AF$3002,6))","v":""},{"$f":"IF(ISBLANK(A157),\"\",IF($C$15=1,VLOOKUP(A157,Articles!$A$6:$AF$3038,3),IF($C$15=2,VLOOKUP(A157,Articles!$A$6:$AF$3038,20),IF($C$15=3,VLOOKUP(A157,Articles!$A$6:$AF$3038,21),IF($C$15=4,VLOOKUP(A157,Articles!$A$6:$AF$3038,22),\"Erreur\")))))","v":""},null,0,{"$f":"IF(ISBLANK(A157),0,VLOOKUP(A157,Articles!$A$6:$Q$3002,8))","v":0},{"$f":"IF(ISBLANK(A157),0,IF(Variables!$A$13=\"TTC\",IF(H157=1,G157-(G157*100)/(100+Variables!$A$2),(IF(H157=2,G157-(G157*100)/(100+Variables!$A$3),0))),IF(H157=1,G157*Variables!$A$2/(100),(IF(H157=2,G157*Variables!$A$3/(100),0)))))","v":0},{"$f":"IF(ISBLANK(A157),\"\",VLOOKUP(A157,Articles!$A$5:$AF$3000,11))","v":""},{"$f":"IF(ISBLANK(A157),\"\",(VLOOKUP(A157,Articles!$A$5:$AH$3002,34))*C157)","v":""}]
[null,{"$f":"IF(ISBLANK(A158),\"\",VLOOKUP(A158,Articles!$A$6:$AF$3002,2))","v":""},null,{"$f":"IF(ISBLANK(A158),\"\",VLOOKUP(A158,Articles!$A$6:$AF$3002,6))","v":""},{"$f":"IF(ISBLANK(A158),\"\",IF($C$15=1,VLOOKUP(A158,Articles!$A$6:$AF$3038,3),IF($C$15=2,VLOOKUP(A158,Articles!$A$6:$AF$3038,20),IF($C$15=3,VLOOKUP(A158,Articles!$A$6:$AF$3038,21),IF($C$15=4,VLOOKUP(A158,Articles!$A$6:$AF$3038,22),\"Erreur\")))))","v":""},null,0,{"$f":"IF(ISBLANK(A158),0,VLOOKUP(A158,Articles!$A$6:$Q$3002,8))","v":0},{"$f":"IF(ISBLANK(A158),0,IF(Variables!$A$13=\"TTC\",IF(H158=1,G158-(G158*100)/(100+Variables!$A$2),(IF(H158=2,G158-(G158*100)/(100+Variables!$A$3),0))),IF(H158=1,G158*Variables!$A$2/(100),(IF(H158=2,G158*Variables!$A$3/(100),0)))))","v":0},{"$f":"IF(ISBLANK(A158),\"\",VLOOKUP(A158,Articles!$A$5:$AF$3000,11))","v":""},{"$f":"IF(ISBLANK(A158),\"\",(VLOOKUP(A158,Articles!$A$5:$AH$3002,34))*C158)","v":""}]
[null,{"$f":"IF(ISBLANK(A159),\"\",VLOOKUP(A159,Articles!$A$6:$AF$3002,2))","v":""},null,{"$f":"IF(ISBLANK(A159),\"\",VLOOKUP(A159,Articles!$A$6:$AF$3002,6))","v":""},{"$f":"IF(ISBLANK(A159),\"\",IF($C$15=1,VLOOKUP(A159,Articles!$A$6:$AF$3038,3),IF($C$15=2,VLOOKUP(A159,Articles!$A$6:$AF$3038,20),IF($C$15=3,VLOOKUP(A159,Articles!$A$6:$AF$3038,21),IF($C$15=4,VLOOKUP(A159,Articles!$A$6:$AF$3038,22),\"Erreur\")))))","v":""},null,0,{"$f":"IF(ISBLANK(A159),0,VLOOKUP(A159,Articles!$A$6:$Q$3002,8))","v":0},{"$f":"IF(ISBLANK(A159),0,IF(Variables!$A$13=\"TTC\",IF(H159=1,G159-(G159*100)/(100+Variables!$A$2),(IF(H159=2,G159-(G159*100)/(100+Variables!$A$3),0))),IF(H159=1,G159*Variables!$A$2/(100),(IF(H159=2,G159*Variables!$A$3/(100),0)))))","v":0},{"$f":"IF(ISBLANK(A159),\"\",VLOOKUP(A159,Articles!$A$5:$AF$3000,11))","v":""},{"$f":"IF(ISBLANK(A159),\"\",(VLOOKUP(A159,Articles!$A$5:$AH$3002,34))*C159)","v":""}]
[null,{"$f":"IF(ISBLANK(A160),\"\",VLOOKUP(A160,Articles!$A$6:$AF$3002,2))","v":""},null,{"$f":"IF(ISBLANK(A160),\"\",VLOOKUP(A160,Articles!$A$6:$AF$3002,6))","v":""},{"$f":"IF(ISBLANK(A160),\"\",IF($C$15=1,VLOOKUP(A160,Articles!$A$6:$AF$3038,3),IF($C$15=2,VLOOKUP(A160,Articles!$A$6:$AF$3038,20),IF($C$15=3,VLOOKUP(A160,Articles!$A$6:$AF$3038,21),IF($C$15=4,VLOOKUP(A160,Articles!$A$6:$AF$3038,22),\"Erreur\")))))","v":""},null,0,{"$f":"IF(ISBLANK(A160),0,VLOOKUP(A160,Articles!$A$6:$Q$3002,8))","v":0},{"$f":"IF(ISBLANK(A160),0,IF(Variables!$A$13=\"TTC\",IF(H160=1,G160-(G160*100)/(100+Variables!$A$2),(IF(H160=2,G160-(G160*100)/(100+Variables!$A$3),0))),IF(H160=1,G160*Variables!$A$2/(100),(IF(H160=2,G160*Variables!$A$3/(100),0)))))","v":0},{"$f":"IF(ISBLANK(A160),\"\",VLOOKUP(A160,Articles!$A$5:$AF$3000,11))","v":""},{"$f":"IF(ISBLANK(A160),\"\",(VLOOKUP(A160,Articles!$A$5:$AH$3002,34))*C160)","v":""}]
[null,{"$f":"IF(ISBLANK(A161),\"\",VLOOKUP(A161,Articles!$A$6:$AF$3002,2))","v":""},null,{"$f":"IF(ISBLANK(A161),\"\",VLOOKUP(A161,Articles!$A$6:$AF$3002,6))","v":""},{"$f":"IF(ISBLANK(A161),\"\",IF($C$15=1,VLOOKUP(A161,Articles!$A$6:$AF$3038,3),IF($C$15=2,VLOOKUP(A161,Articles!$A$6:$AF$3038,20),IF($C$15=3,VLOOKUP(A161,Articles!$A$6:$AF$3038,21),IF($C$15=4,VLOOKUP(A161,Articles!$A$6:$AF$3038,22),\"Erreur\")))))","v":""},null,0,{"$f":"IF(ISBLANK(A161),0,VLOOKUP(A161,Articles!$A$6:$Q$3002,8))","v":0},{"$f":"IF(ISBLANK(A161),0,IF(Variables!$A$13=\"TTC\",IF(H161=1,G161-(G161*100)/(100+Variables!$A$2),(IF(H161=2,G161-(G161*100)/(100+Variables!$A$3),0))),IF(H161=1,G161*Variables!$A$2/(100),(IF(H161=2,G161*Variables!$A$3/(100),0)))))","v":0},{"$f":"IF(ISBLANK(A161),\"\",VLOOKUP(A161,Articles!$A$5:$AF$3000,11))","v":""},{"$f":"IF(ISBLANK(A161),\"\",(VLOOKUP(A161,Articles!$A$5:$AH$3002,34))*C161)","v":""}]
[null,{"$f":"IF(ISBLANK(A162),\"\",VLOOKUP(A162,Articles!$A$6:$AF$3002,2))","v":""},null,{"$f":"IF(ISBLANK(A162),\"\",VLOOKUP(A162,Articles!$A$6:$AF$3002,6))","v":""},{"$f":"IF(ISBLANK(A162),\"\",IF($C$15=1,VLOOKUP(A162,Articles!$A$6:$AF$3038,3),IF($C$15=2,VLOOKUP(A162,Articles!$A$6:$AF$3038,20),IF($C$15=3,VLOOKUP(A162,Articles!$A$6:$AF$3038,21),IF($C$15=4,VLOOKUP(A162,Articles!$A$6:$AF$3038,22),\"Erreur\")))))","v":""},null,0,{"$f":"IF(ISBLANK(A162),0,VLOOKUP(A162,Articles!$A$6:$Q$3002,8))","v":0},{"$f":"IF(ISBLANK(A162),0,IF(Variables!$A$13=\"TTC\",IF(H162=1,G162-(G162*100)/(100+Variables!$A$2),(IF(H162=2,G162-(G162*100)/(100+Variables!$A$3),0))),IF(H162=1,G162*Variables!$A$2/(100),(IF(H162=2,G162*Variables!$A$3/(100),0)))))","v":0},{"$f":"IF(ISBLANK(A162),\"\",VLOOKUP(A162,Articles!$A$5:$AF$3000,11))","v":""},{"$f":"IF(ISBLANK(A162),\"\",(VLOOKUP(A162,Articles!$A$5:$AH$3002,34))*C162)","v":""}]
[null,{"$f":"IF(ISBLANK(A163),\"\",VLOOKUP(A163,Articles!$A$6:$AF$3002,2))","v":""},null,{"$f":"IF(ISBLANK(A163),\"\",VLOOKUP(A163,Articles!$A$6:$AF$3002,6))","v":""},{"$f":"IF(ISBLANK(A163),\"\",IF($C$15=1,VLOOKUP(A163,Articles!$A$6:$AF$3038,3),IF($C$15=2,VLOOKUP(A163,Articles!$A$6:$AF$3038,20),IF($C$15=3,VLOOKUP(A163,Articles!$A$6:$AF$3038,21),IF($C$15=4,VLOOKUP(A163,Articles!$A$6:$AF$3038,22),\"Erreur\")))))","v":""},null,0,{"$f":"IF(ISBLANK(A163),0,VLOOKUP(A163,Articles!$A$6:$Q$3002,8))","v":0},{"$f":"IF(ISBLANK(A163),0,IF(Variables!$A$13=\"TTC\",IF(H163=1,G163-(G163*100)/(100+Variables!$A$2),(IF(H163=2,G163-(G163*100)/(100+Variables!$A$3),0))),IF(H163=1,G163*Variables!$A$2/(100),(IF(H163=2,G163*Variables!$A$3/(100),0)))))","v":0},{"$f":"IF(ISBLANK(A163),\"\",VLOOKUP(A163,Articles!$A$5:$AF$3000,11))","v":""},{"$f":"IF(ISBLANK(A163),\"\",(VLOOKUP(A163,Articles!$A$5:$AH$3002,34))*C163)","v":""}]
[null,{"$f":"IF(ISBLANK(A164),\"\",VLOOKUP(A164,Articles!$A$6:$AF$3002,2))","v":""},null,{"$f":"IF(ISBLANK(A164),\"\",VLOOKUP(A164,Articles!$A$6:$AF$3002,6))","v":""},{"$f":"IF(ISBLANK(A164),\"\",IF($C$15=1,VLOOKUP(A164,Articles!$A$6:$AF$3038,3),IF($C$15=2,VLOOKUP(A164,Articles!$A$6:$AF$3038,20),IF($C$15=3,VLOOKUP(A164,Articles!$A$6:$AF$3038,21),IF($C$15=4,VLOOKUP(A164,Articles!$A$6:$AF$3038,22),\"Erreur\")))))","v":""},null,0,{"$f":"IF(ISBLANK(A164),0,VLOOKUP(A164,Articles!$A$6:$Q$3002,8))","v":0},{"$f":"IF(ISBLANK(A164),0,IF(Variables!$A$13=\"TTC\",IF(H164=1,G164-(G164*100)/(100+Variables!$A$2),(IF(H164=2,G164-(G164*100)/(100+Variables!$A$3),0))),IF(H164=1,G164*Variables!$A$2/(100),(IF(H164=2,G164*Variables!$A$3/(100),0)))))","v":0},{"$f":"IF(ISBLANK(A164),\"\",VLOOKUP(A164,Articles!$A$5:$AF$3000,11))","v":""},{"$f":"IF(ISBLANK(A164),\"\",(VLOOKUP(A164,Articles!$A$5:$AH$3002,34))*C164)","v":""}]
[null,{"$f":"IF(ISBLANK(A165),\"\",VLOOKUP(A165,Articles!$A$6:$AF$3002,2))","v":""},null,{"$f":"IF(ISBLANK(A165),\"\",VLOOKUP(A165,Articles!$A$6:$AF$3002,6))","v":""},{"$f":"IF(ISBLANK(A165),\"\",IF($C$15=1,VLOOKUP(A165,Articles!$A$6:$AF$3038,3),IF($C$15=2,VLOOKUP(A165,Articles!$A$6:$AF$3038,20),IF($C$15=3,VLOOKUP(A165,Articles!$A$6:$AF$3038,21),IF($C$15=4,VLOOKUP(A165,Articles!$A$6:$AF$3038,22),\"Erreur\")))))","v":""},null,0,{"$f":"IF(ISBLANK(A165),0,VLOOKUP(A165,Articles!$A$6:$Q$3002,8))","v":0},{"$f":"IF(ISBLANK(A165),0,IF(Variables!$A$13=\"TTC\",IF(H165=1,G165-(G165*100)/(100+Variables!$A$2),(IF(H165=2,G165-(G165*100)/(100+Variables!$A$3),0))),IF(H165=1,G165*Variables!$A$2/(100),(IF(H165=2,G165*Variables!$A$3/(100),0)))))","v":0},{"$f":"IF(ISBLANK(A165),\"\",VLOOKUP(A165,Articles!$A$5:$AF$3000,11))","v":""},{"$f":"IF(ISBLANK(A165),\"\",(VLOOKUP(A165,Articles!$A$5:$AH$3002,34))*C165)","v":""}]
[null,{"$f":"IF(ISBLANK(A166),\"\",VLOOKUP(A166,Articles!$A$6:$AF$3002,2))","v":""},null,{"$f":"IF(ISBLANK(A166),\"\",VLOOKUP(A166,Articles!$A$6:$AF$3002,6))","v":""},{"$f":"IF(ISBLANK(A166),\"\",IF($C$15=1,VLOOKUP(A166,Articles!$A$6:$AF$3038,3),IF($C$15=2,VLOOKUP(A166,Articles!$A$6:$AF$3038,20),IF($C$15=3,VLOOKUP(A166,Articles!$A$6:$AF$3038,21),IF($C$15=4,VLOOKUP(A166,Articles!$A$6:$AF$3038,22),\"Erreur\")))))","v":""},null,0,{"$f":"IF(ISBLANK(A166),0,VLOOKUP(A166,Articles!$A$6:$Q$3002,8))","v":0},{"$f":"IF(ISBLANK(A166),0,IF(Variables!$A$13=\"TTC\",IF(H166=1,G166-(G166*100)/(100+Variables!$A$2),(IF(H166=2,G166-(G166*100)/(100+Variables!$A$3),0))),IF(H166=1,G166*Variables!$A$2/(100),(IF(H166=2,G166*Variables!$A$3/(100),0)))))","v":0},{"$f":"IF(ISBLANK(A166),\"\",VLOOKUP(A166,Articles!$A$5:$AF$3000,11))","v":""},{"$f":"IF(ISBLANK(A166),\"\",(VLOOKUP(A166,Articles!$A$5:$AH$3002,34))*C166)","v":""}]
[null,{"$f":"IF(ISBLANK(A167),\"\",VLOOKUP(A167,Articles!$A$6:$AF$3002,2))","v":""},null,{"$f":"IF(ISBLANK(A167),\"\",VLOOKUP(A167,Articles!$A$6:$AF$3002,6))","v":""},{"$f":"IF(ISBLANK(A167),\"\",IF($C$15=1,VLOOKUP(A167,Articles!$A$6:$AF$3038,3),IF($C$15=2,VLOOKUP(A167,Articles!$A$6:$AF$3038,20),IF($C$15=3,VLOOKUP(A167,Articles!$A$6:$AF$3038,21),IF($C$15=4,VLOOKUP(A167,Articles!$A$6:$AF$3038,22),\"Erreur\")))))","v":""},null,0,{"$f":"IF(ISBLANK(A167),0,VLOOKUP(A167,Articles!$A$6:$Q$3002,8))","v":0},{"$f":"IF(ISBLANK(A167),0,IF(Variables!$A$13=\"TTC\",IF(H167=1,G167-(G167*100)/(100+Variables!$A$2),(IF(H167=2,G167-(G167*100)/(100+Variables!$A$3),0))),IF(H167=1,G167*Variables!$A$2/(100),(IF(H167=2,G167*Variables!$A$3/(100),0)))))","v":0},{"$f":"IF(ISBLANK(A167),\"\",VLOOKUP(A167,Articles!$A$5:$AF$3000,11))","v":""},{"$f":"IF(ISBLANK(A167),\"\",(VLOOKUP(A167,Articles!$A$5:$AH$3002,34))*C167)","v":""}]
[null,{"$f":"IF(ISBLANK(A168),\"\",VLOOKUP(A168,Articles!$A$6:$AF$3002,2))","v":""},null,{"$f":"IF(ISBLANK(A168),\"\",VLOOKUP(A168,Articles!$A$6:$AF$3002,6))","v":""},{"$f":"IF(ISBLANK(A168),\"\",IF($C$15=1,VLOOKUP(A168,Articles!$A$6:$AF$3038,3),IF($C$15=2,VLOOKUP(A168,Articles!$A$6:$AF$3038,20),IF($C$15=3,VLOOKUP(A168,Articles!$A$6:$AF$3038,21),IF($C$15=4,VLOOKUP(A168,Articles!$A$6:$AF$3038,22),\"Erreur\")))))","v":""},null,0,{"$f":"IF(ISBLANK(A168),0,VLOOKUP(A168,Articles!$A$6:$Q$3002,8))","v":0},{"$f":"IF(ISBLANK(A168),0,IF(Variables!$A$13=\"TTC\",IF(H168=1,G168-(G168*100)/(100+Variables!$A$2),(IF(H168=2,G168-(G168*100)/(100+Variables!$A$3),0))),IF(H168=1,G168*Variables!$A$2/(100),(IF(H168=2,G168*Variables!$A$3/(100),0)))))","v":0},{"$f":"IF(ISBLANK(A168),\"\",VLOOKUP(A168,Articles!$A$5:$AF$3000,11))","v":""},{"$f":"IF(ISBLANK(A168),\"\",(VLOOKUP(A168,Articles!$A$5:$AH$3002,34))*C168)","v":""}]
[null,{"$f":"IF(ISBLANK(A169),\"\",VLOOKUP(A169,Articles!$A$6:$AF$3002,2))","v":""},null,{"$f":"IF(ISBLANK(A169),\"\",VLOOKUP(A169,Articles!$A$6:$AF$3002,6))","v":""},{"$f":"IF(ISBLANK(A169),\"\",IF($C$15=1,VLOOKUP(A169,Articles!$A$6:$AF$3038,3),IF($C$15=2,VLOOKUP(A169,Articles!$A$6:$AF$3038,20),IF($C$15=3,VLOOKUP(A169,Articles!$A$6:$AF$3038,21),IF($C$15=4,VLOOKUP(A169,Articles!$A$6:$AF$3038,22),\"Erreur\")))))","v":""},null,0,{"$f":"IF(ISBLANK(A169),0,VLOOKUP(A169,Articles!$A$6:$Q$3002,8))","v":0},{"$f":"IF(ISBLANK(A169),0,IF(Variables!$A$13=\"TTC\",IF(H169=1,G169-(G169*100)/(100+Variables!$A$2),(IF(H169=2,G169-(G169*100)/(100+Variables!$A$3),0))),IF(H169=1,G169*Variables!$A$2/(100),(IF(H169=2,G169*Variables!$A$3/(100),0)))))","v":0},{"$f":"IF(ISBLANK(A169),\"\",VLOOKUP(A169,Articles!$A$5:$AF$3000,11))","v":""},{"$f":"IF(ISBLANK(A169),\"\",(VLOOKUP(A169,Articles!$A$5:$AH$3002,34))*C169)","v":""}]
[null,{"$f":"IF(ISBLANK(A170),\"\",VLOOKUP(A170,Articles!$A$6:$AF$3002,2))","v":""},null,{"$f":"IF(ISBLANK(A170),\"\",VLOOKUP(A170,Articles!$A$6:$AF$3002,6))","v":""},{"$f":"IF(ISBLANK(A170),\"\",IF($C$15=1,VLOOKUP(A170,Articles!$A$6:$AF$3038,3),IF($C$15=2,VLOOKUP(A170,Articles!$A$6:$AF$3038,20),IF($C$15=3,VLOOKUP(A170,Articles!$A$6:$AF$3038,21),IF($C$15=4,VLOOKUP(A170,Articles!$A$6:$AF$3038,22),\"Erreur\")))))","v":""},null,0,{"$f":"IF(ISBLANK(A170),0,VLOOKUP(A170,Articles!$A$6:$Q$3002,8))","v":0},{"$f":"IF(ISBLANK(A170),0,IF(Variables!$A$13=\"TTC\",IF(H170=1,G170-(G170*100)/(100+Variables!$A$2),(IF(H170=2,G170-(G170*100)/(100+Variables!$A$3),0))),IF(H170=1,G170*Variables!$A$2/(100),(IF(H170=2,G170*Variables!$A$3/(100),0)))))","v":0},{"$f":"IF(ISBLANK(A170),\"\",VLOOKUP(A170,Articles!$A$5:$AF$3000,11))","v":""},{"$f":"IF(ISBLANK(A170),\"\",(VLOOKUP(A170,Articles!$A$5:$AH$3002,34))*C170)","v":""}]
[null,{"$f":"IF(ISBLANK(A171),\"\",VLOOKUP(A171,Articles!$A$6:$AF$3002,2))","v":""},null,{"$f":"IF(ISBLANK(A171),\"\",VLOOKUP(A171,Articles!$A$6:$AF$3002,6))","v":""},{"$f":"IF(ISBLANK(A171),\"\",IF($C$15=1,VLOOKUP(A171,Articles!$A$6:$AF$3038,3),IF($C$15=2,VLOOKUP(A171,Articles!$A$6:$AF$3038,20),IF($C$15=3,VLOOKUP(A171,Articles!$A$6:$AF$3038,21),IF($C$15=4,VLOOKUP(A171,Articles!$A$6:$AF$3038,22),\"Erreur\")))))","v":""},null,0,{"$f":"IF(ISBLANK(A171),0,VLOOKUP(A171,Articles!$A$6:$Q$3002,8))","v":0},{"$f":"IF(ISBLANK(A171),0,IF(Variables!$A$13=\"TTC\",IF(H171=1,G171-(G171*100)/(100+Variables!$A$2),(IF(H171=2,G171-(G171*100)/(100+Variables!$A$3),0))),IF(H171=1,G171*Variables!$A$2/(100),(IF(H171=2,G171*Variables!$A$3/(100),0)))))","v":0},{"$f":"IF(ISBLANK(A171),\"\",VLOOKUP(A171,Articles!$A$5:$AF$3000,11))","v":""},{"$f":"IF(ISBLANK(A171),\"\",(VLOOKUP(A171,Articles!$A$5:$AH$3002,34))*C171)","v":""}]
[null,{"$f":"IF(ISBLANK(A172),\"\",VLOOKUP(A172,Articles!$A$6:$AF$3002,2))","v":""},null,{"$f":"IF(ISBLANK(A172),\"\",VLOOKUP(A172,Articles!$A$6:$AF$3002,6))","v":""},{"$f":"IF(ISBLANK(A172),\"\",IF($C$15=1,VLOOKUP(A172,Articles!$A$6:$AF$3038,3),IF($C$15=2,VLOOKUP(A172,Articles!$A$6:$AF$3038,20),IF($C$15=3,VLOOKUP(A172,Articles!$A$6:$AF$3038,21),IF($C$15=4,VLOOKUP(A172,Articles!$A$6:$AF$3038,22),\"Erreur\")))))","v":""},null,0,{"$f":"IF(ISBLANK(A172),0,VLOOKUP(A172,Articles!$A$6:$Q$3002,8))","v":0},{"$f":"IF(ISBLANK(A172),0,IF(Variables!$A$13=\"TTC\",IF(H172=1,G172-(G172*100)/(100+Variables!$A$2),(IF(H172=2,G172-(G172*100)/(100+Variables!$A$3),0))),IF(H172=1,G172*Variables!$A$2/(100),(IF(H172=2,G172*Variables!$A$3/(100),0)))))","v":0},{"$f":"IF(ISBLANK(A172),\"\",VLOOKUP(A172,Articles!$A$5:$AF$3000,11))","v":""},{"$f":"IF(ISBLANK(A172),\"\",(VLOOKUP(A172,Articles!$A$5:$AH$3002,34))*C172)","v":""}]
[null,{"$f":"IF(ISBLANK(A173),\"\",VLOOKUP(A173,Articles!$A$6:$AF$3002,2))","v":""},null,{"$f":"IF(ISBLANK(A173),\"\",VLOOKUP(A173,Articles!$A$6:$AF$3002,6))","v":""},{"$f":"IF(ISBLANK(A173),\"\",IF($C$15=1,VLOOKUP(A173,Articles!$A$6:$AF$3038,3),IF($C$15=2,VLOOKUP(A173,Articles!$A$6:$AF$3038,20),IF($C$15=3,VLOOKUP(A173,Articles!$A$6:$AF$3038,21),IF($C$15=4,VLOOKUP(A173,Articles!$A$6:$AF$3038,22),\"Erreur\")))))","v":""},null,0,{"$f":"IF(ISBLANK(A173),0,VLOOKUP(A173,Articles!$A$6:$Q$3002,8))","v":0},{"$f":"IF(ISBLANK(A173),0,IF(Variables!$A$13=\"TTC\",IF(H173=1,G173-(G173*100)/(100+Variables!$A$2),(IF(H173=2,G173-(G173*100)/(100+Variables!$A$3),0))),IF(H173=1,G173*Variables!$A$2/(100),(IF(H173=2,G173*Variables!$A$3/(100),0)))))","v":0},{"$f":"IF(ISBLANK(A173),\"\",VLOOKUP(A173,Articles!$A$5:$AF$3000,11))","v":""},{"$f":"IF(ISBLANK(A173),\"\",(VLOOKUP(A173,Articles!$A$5:$AH$3002,34))*C173)","v":""}]
[null,{"$f":"IF(ISBLANK(A174),\"\",VLOOKUP(A174,Articles!$A$6:$AF$3002,2))","v":""},null,{"$f":"IF(ISBLANK(A174),\"\",VLOOKUP(A174,Articles!$A$6:$AF$3002,6))","v":""},{"$f":"IF(ISBLANK(A174),\"\",IF($C$15=1,VLOOKUP(A174,Articles!$A$6:$AF$3038,3),IF($C$15=2,VLOOKUP(A174,Articles!$A$6:$AF$3038,20),IF($C$15=3,VLOOKUP(A174,Articles!$A$6:$AF$3038,21),IF($C$15=4,VLOOKUP(A174,Articles!$A$6:$AF$3038,22),\"Erreur\")))))","v":""},null,0,{"$f":"IF(ISBLANK(A174),0,VLOOKUP(A174,Articles!$A$6:$Q$3002,8))","v":0},{"$f":"IF(ISBLANK(A174),0,IF(Variables!$A$13=\"TTC\",IF(H174=1,G174-(G174*100)/(100+Variables!$A$2),(IF(H174=2,G174-(G174*100)/(100+Variables!$A$3),0))),IF(H174=1,G174*Variables!$A$2/(100),(IF(H174=2,G174*Variables!$A$3/(100),0)))))","v":0},{"$f":"IF(ISBLANK(A174),\"\",VLOOKUP(A174,Articles!$A$5:$AF$3000,11))","v":""},{"$f":"IF(ISBLANK(A174),\"\",(VLOOKUP(A174,Articles!$A$5:$AH$3002,34))*C174)","v":""}]
[null,{"$f":"IF(ISBLANK(A175),\"\",VLOOKUP(A175,Articles!$A$6:$AF$3002,2))","v":""},null,{"$f":"IF(ISBLANK(A175),\"\",VLOOKUP(A175,Articles!$A$6:$AF$3002,6))","v":""},{"$f":"IF(ISBLANK(A175),\"\",IF($C$15=1,VLOOKUP(A175,Articles!$A$6:$AF$3038,3),IF($C$15=2,VLOOKUP(A175,Articles!$A$6:$AF$3038,20),IF($C$15=3,VLOOKUP(A175,Articles!$A$6:$AF$3038,21),IF($C$15=4,VLOOKUP(A175,Articles!$A$6:$AF$3038,22),\"Erreur\")))))","v":""},null,0,{"$f":"IF(ISBLANK(A175),0,VLOOKUP(A175,Articles!$A$6:$Q$3002,8))","v":0},{"$f":"IF(ISBLANK(A175),0,IF(Variables!$A$13=\"TTC\",IF(H175=1,G175-(G175*100)/(100+Variables!$A$2),(IF(H175=2,G175-(G175*100)/(100+Variables!$A$3),0))),IF(H175=1,G175*Variables!$A$2/(100),(IF(H175=2,G175*Variables!$A$3/(100),0)))))","v":0},{"$f":"IF(ISBLANK(A175),\"\",VLOOKUP(A175,Articles!$A$5:$AF$3000,11))","v":""},{"$f":"IF(ISBLANK(A175),\"\",(VLOOKUP(A175,Articles!$A$5:$AH$3002,34))*C175)","v":""}]
[null,{"$f":"IF(ISBLANK(A176),\"\",VLOOKUP(A176,Articles!$A$6:$AF$3002,2))","v":""},null,{"$f":"IF(ISBLANK(A176),\"\",VLOOKUP(A176,Articles!$A$6:$AF$3002,6))","v":""},{"$f":"IF(ISBLANK(A176),\"\",IF($C$15=1,VLOOKUP(A176,Articles!$A$6:$AF$3038,3),IF($C$15=2,VLOOKUP(A176,Articles!$A$6:$AF$3038,20),IF($C$15=3,VLOOKUP(A176,Articles!$A$6:$AF$3038,21),IF($C$15=4,VLOOKUP(A176,Articles!$A$6:$AF$3038,22),\"Erreur\")))))","v":""},null,0,{"$f":"IF(ISBLANK(A176),0,VLOOKUP(A176,Articles!$A$6:$Q$3002,8))","v":0},{"$f":"IF(ISBLANK(A176),0,IF(Variables!$A$13=\"TTC\",IF(H176=1,G176-(G176*100)/(100+Variables!$A$2),(IF(H176=2,G176-(G176*100)/(100+Variables!$A$3),0))),IF(H176=1,G176*Variables!$A$2/(100),(IF(H176=2,G176*Variables!$A$3/(100),0)))))","v":0},{"$f":"IF(ISBLANK(A176),\"\",VLOOKUP(A176,Articles!$A$5:$AF$3000,11))","v":""},{"$f":"IF(ISBLANK(A176),\"\",(VLOOKUP(A176,Articles!$A$5:$AH$3002,34))*C176)","v":""}]
[null,{"$f":"IF(ISBLANK(A177),\"\",VLOOKUP(A177,Articles!$A$6:$AF$3002,2))","v":""},null,{"$f":"IF(ISBLANK(A177),\"\",VLOOKUP(A177,Articles!$A$6:$AF$3002,6))","v":""},{"$f":"IF(ISBLANK(A177),\"\",IF($C$15=1,VLOOKUP(A177,Articles!$A$6:$AF$3038,3),IF($C$15=2,VLOOKUP(A177,Articles!$A$6:$AF$3038,20),IF($C$15=3,VLOOKUP(A177,Articles!$A$6:$AF$3038,21),IF($C$15=4,VLOOKUP(A177,Articles!$A$6:$AF$3038,22),\"Erreur\")))))","v":""},null,0,{"$f":"IF(ISBLANK(A177),0,VLOOKUP(A177,Articles!$A$6:$Q$3002,8))","v":0},{"$f":"IF(ISBLANK(A177),0,IF(Variables!$A$13=\"TTC\",IF(H177=1,G177-(G177*100)/(100+Variables!$A$2),(IF(H177=2,G177-(G177*100)/(100+Variables!$A$3),0))),IF(H177=1,G177*Variables!$A$2/(100),(IF(H177=2,G177*Variables!$A$3/(100),0)))))","v":0},{"$f":"IF(ISBLANK(A177),\"\",VLOOKUP(A177,Articles!$A$5:$AF$3000,11))","v":""},{"$f":"IF(ISBLANK(A177),\"\",(VLOOKUP(A177,Articles!$A$5:$AH$3002,34))*C177)","v":""}]
[null,{"$f":"IF(ISBLANK(A178),\"\",VLOOKUP(A178,Articles!$A$6:$AF$3002,2))","v":""},null,{"$f":"IF(ISBLANK(A178),\"\",VLOOKUP(A178,Articles!$A$6:$AF$3002,6))","v":""},{"$f":"IF(ISBLANK(A178),\"\",IF($C$15=1,VLOOKUP(A178,Articles!$A$6:$AF$3038,3),IF($C$15=2,VLOOKUP(A178,Articles!$A$6:$AF$3038,20),IF($C$15=3,VLOOKUP(A178,Articles!$A$6:$AF$3038,21),IF($C$15=4,VLOOKUP(A178,Articles!$A$6:$AF$3038,22),\"Erreur\")))))","v":""},null,0,{"$f":"IF(ISBLANK(A178),0,VLOOKUP(A178,Articles!$A$6:$Q$3002,8))","v":0},{"$f":"IF(ISBLANK(A178),0,IF(Variables!$A$13=\"TTC\",IF(H178=1,G178-(G178*100)/(100+Variables!$A$2),(IF(H178=2,G178-(G178*100)/(100+Variables!$A$3),0))),IF(H178=1,G178*Variables!$A$2/(100),(IF(H178=2,G178*Variables!$A$3/(100),0)))))","v":0},{"$f":"IF(ISBLANK(A178),\"\",VLOOKUP(A178,Articles!$A$5:$AF$3000,11))","v":""},{"$f":"IF(ISBLANK(A178),\"\",(VLOOKUP(A178,Articles!$A$5:$AH$3002,34))*C178)","v":""}]
[null,{"$f":"IF(ISBLANK(A179),\"\",VLOOKUP(A179,Articles!$A$6:$AF$3002,2))","v":""},null,{"$f":"IF(ISBLANK(A179),\"\",VLOOKUP(A179,Articles!$A$6:$AF$3002,6))","v":""},{"$f":"IF(ISBLANK(A179),\"\",IF($C$15=1,VLOOKUP(A179,Articles!$A$6:$AF$3038,3),IF($C$15=2,VLOOKUP(A179,Articles!$A$6:$AF$3038,20),IF($C$15=3,VLOOKUP(A179,Articles!$A$6:$AF$3038,21),IF($C$15=4,VLOOKUP(A179,Articles!$A$6:$AF$3038,22),\"Erreur\")))))","v":""},null,0,{"$f":"IF(ISBLANK(A179),0,VLOOKUP(A179,Articles!$A$6:$Q$3002,8))","v":0},{"$f":"IF(ISBLANK(A179),0,IF(Variables!$A$13=\"TTC\",IF(H179=1,G179-(G179*100)/(100+Variables!$A$2),(IF(H179=2,G179-(G179*100)/(100+Variables!$A$3),0))),IF(H179=1,G179*Variables!$A$2/(100),(IF(H179=2,G179*Variables!$A$3/(100),0)))))","v":0},{"$f":"IF(ISBLANK(A179),\"\",VLOOKUP(A179,Articles!$A$5:$AF$3000,11))","v":""},{"$f":"IF(ISBLANK(A179),\"\",(VLOOKUP(A179,Articles!$A$5:$AH$3002,34))*C179)","v":""}]
[null,{"$f":"IF(ISBLANK(A180),\"\",VLOOKUP(A180,Articles!$A$6:$AF$3002,2))","v":""},null,{"$f":"IF(ISBLANK(A180),\"\",VLOOKUP(A180,Articles!$A$6:$AF$3002,6))","v":""},{"$f":"IF(ISBLANK(A180),\"\",IF($C$15=1,VLOOKUP(A180,Articles!$A$6:$AF$3038,3),IF($C$15=2,VLOOKUP(A180,Articles!$A$6:$AF$3038,20),IF($C$15=3,VLOOKUP(A180,Articles!$A$6:$AF$3038,21),IF($C$15=4,VLOOKUP(A180,Articles!$A$6:$AF$3038,22),\"Erreur\")))))","v":""},null,0,{"$f":"IF(ISBLANK(A180),0,VLOOKUP(A180,Articles!$A$6:$Q$3002,8))","v":0},{"$f":"IF(ISBLANK(A180),0,IF(Variables!$A$13=\"TTC\",IF(H180=1,G180-(G180*100)/(100+Variables!$A$2),(IF(H180=2,G180-(G180*100)/(100+Variables!$A$3),0))),IF(H180=1,G180*Variables!$A$2/(100),(IF(H180=2,G180*Variables!$A$3/(100),0)))))","v":0},{"$f":"IF(ISBLANK(A180),\"\",VLOOKUP(A180,Articles!$A$5:$AF$3000,11))","v":""},{"$f":"IF(ISBLANK(A180),\"\",(VLOOKUP(A180,Articles!$A$5:$AH$3002,34))*C180)","v":""}]
[null,{"$f":"IF(ISBLANK(A181),\"\",VLOOKUP(A181,Articles!$A$6:$AF$3002,2))","v":""},null,{"$f":"IF(ISBLANK(A181),\"\",VLOOKUP(A181,Articles!$A$6:$AF$3002,6))","v":""},{"$f":"IF(ISBLANK(A181),\"\",IF($C$15=1,VLOOKUP(A181,Articles!$A$6:$AF$3038,3),IF($C$15=2,VLOOKUP(A181,Articles!$A$6:$AF$3038,20),IF($C$15=3,VLOOKUP(A181,Articles!$A$6:$AF$3038,21),IF($C$15=4,VLOOKUP(A181,Articles!$A$6:$AF$3038,22),\"Erreur\")))))","v":""},null,0,{"$f":"IF(ISBLANK(A181),0,VLOOKUP(A181,Articles!$A$6:$Q$3002,8))","v":0},{"$f":"IF(ISBLANK(A181),0,IF(Variables!$A$13=\"TTC\",IF(H181=1,G181-(G181*100)/(100+Variables!$A$2),(IF(H181=2,G181-(G181*100)/(100+Variables!$A$3),0))),IF(H181=1,G181*Variables!$A$2/(100),(IF(H181=2,G181*Variables!$A$3/(100),0)))))","v":0},{"$f":"IF(ISBLANK(A181),\"\",VLOOKUP(A181,Articles!$A$5:$AF$3000,11))","v":""},{"$f":"IF(ISBLANK(A181),\"\",(VLOOKUP(A181,Articles!$A$5:$AH$3002,34))*C181)","v":""}]
[null,{"$f":"IF(ISBLANK(A182),\"\",VLOOKUP(A182,Articles!$A$6:$AF$3002,2))","v":""},null,{"$f":"IF(ISBLANK(A182),\"\",VLOOKUP(A182,Articles!$A$6:$AF$3002,6))","v":""},{"$f":"IF(ISBLANK(A182),\"\",IF($C$15=1,VLOOKUP(A182,Articles!$A$6:$AF$3038,3),IF($C$15=2,VLOOKUP(A182,Articles!$A$6:$AF$3038,20),IF($C$15=3,VLOOKUP(A182,Articles!$A$6:$AF$3038,21),IF($C$15=4,VLOOKUP(A182,Articles!$A$6:$AF$3038,22),\"Erreur\")))))","v":""},null,0,{"$f":"IF(ISBLANK(A182),0,VLOOKUP(A182,Articles!$A$6:$Q$3002,8))","v":0},{"$f":"IF(ISBLANK(A182),0,IF(Variables!$A$13=\"TTC\",IF(H182=1,G182-(G182*100)/(100+Variables!$A$2),(IF(H182=2,G182-(G182*100)/(100+Variables!$A$3),0))),IF(H182=1,G182*Variables!$A$2/(100),(IF(H182=2,G182*Variables!$A$3/(100),0)))))","v":0},{"$f":"IF(ISBLANK(A182),\"\",VLOOKUP(A182,Articles!$A$5:$AF$3000,11))","v":""},{"$f":"IF(ISBLANK(A182),\"\",(VLOOKUP(A182,Articles!$A$5:$AH$3002,34))*C182)","v":""}]
[null,{"$f":"IF(ISBLANK(A183),\"\",VLOOKUP(A183,Articles!$A$6:$AF$3002,2))","v":""},null,{"$f":"IF(ISBLANK(A183),\"\",VLOOKUP(A183,Articles!$A$6:$AF$3002,6))","v":""},{"$f":"IF(ISBLANK(A183),\"\",IF($C$15=1,VLOOKUP(A183,Articles!$A$6:$AF$3038,3),IF($C$15=2,VLOOKUP(A183,Articles!$A$6:$AF$3038,20),IF($C$15=3,VLOOKUP(A183,Articles!$A$6:$AF$3038,21),IF($C$15=4,VLOOKUP(A183,Articles!$A$6:$AF$3038,22),\"Erreur\")))))","v":""},null,0,{"$f":"IF(ISBLANK(A183),0,VLOOKUP(A183,Articles!$A$6:$Q$3002,8))","v":0},{"$f":"IF(ISBLANK(A183),0,IF(Variables!$A$13=\"TTC\",IF(H183=1,G183-(G183*100)/(100+Variables!$A$2),(IF(H183=2,G183-(G183*100)/(100+Variables!$A$3),0))),IF(H183=1,G183*Variables!$A$2/(100),(IF(H183=2,G183*Variables!$A$3/(100),0)))))","v":0},{"$f":"IF(ISBLANK(A183),\"\",VLOOKUP(A183,Articles!$A$5:$AF$3000,11))","v":""},{"$f":"IF(ISBLANK(A183),\"\",(VLOOKUP(A183,Articles!$A$5:$AH$3002,34))*C183)","v":""}]
[null,{"$f":"IF(ISBLANK(A184),\"\",VLOOKUP(A184,Articles!$A$6:$AF$3002,2))","v":""},null,{"$f":"IF(ISBLANK(A184),\"\",VLOOKUP(A184,Articles!$A$6:$AF$3002,6))","v":""},{"$f":"IF(ISBLANK(A184),\"\",IF($C$15=1,VLOOKUP(A184,Articles!$A$6:$AF$3038,3),IF($C$15=2,VLOOKUP(A184,Articles!$A$6:$AF$3038,20),IF($C$15=3,VLOOKUP(A184,Articles!$A$6:$AF$3038,21),IF($C$15=4,VLOOKUP(A184,Articles!$A$6:$AF$3038,22),\"Erreur\")))))","v":""},null,0,{"$f":"IF(ISBLANK(A184),0,VLOOKUP(A184,Articles!$A$6:$Q$3002,8))","v":0},{"$f":"IF(ISBLANK(A184),0,IF(Variables!$A$13=\"TTC\",IF(H184=1,G184-(G184*100)/(100+Variables!$A$2),(IF(H184=2,G184-(G184*100)/(100+Variables!$A$3),0))),IF(H184=1,G184*Variables!$A$2/(100),(IF(H184=2,G184*Variables!$A$3/(100),0)))))","v":0},{"$f":"IF(ISBLANK(A184),\"\",VLOOKUP(A184,Articles!$A$5:$AF$3000,11))","v":""},{"$f":"IF(ISBLANK(A184),\"\",(VLOOKUP(A184,Articles!$A$5:$AH$3002,34))*C184)","v":""}]
[null,{"$f":"IF(ISBLANK(A185),\"\",VLOOKUP(A185,Articles!$A$6:$AF$3002,2))","v":""},null,{"$f":"IF(ISBLANK(A185),\"\",VLOOKUP(A185,Articles!$A$6:$AF$3002,6))","v":""},{"$f":"IF(ISBLANK(A185),\"\",IF($C$15=1,VLOOKUP(A185,Articles!$A$6:$AF$3038,3),IF($C$15=2,VLOOKUP(A185,Articles!$A$6:$AF$3038,20),IF($C$15=3,VLOOKUP(A185,Articles!$A$6:$AF$3038,21),IF($C$15=4,VLOOKUP(A185,Articles!$A$6:$AF$3038,22),\"Erreur\")))))","v":""},null,0,{"$f":"IF(ISBLANK(A185),0,VLOOKUP(A185,Articles!$A$6:$Q$3002,8))","v":0},{"$f":"IF(ISBLANK(A185),0,IF(Variables!$A$13=\"TTC\",IF(H185=1,G185-(G185*100)/(100+Variables!$A$2),(IF(H185=2,G185-(G185*100)/(100+Variables!$A$3),0))),IF(H185=1,G185*Variables!$A$2/(100),(IF(H185=2,G185*Variables!$A$3/(100),0)))))","v":0},{"$f":"IF(ISBLANK(A185),\"\",VLOOKUP(A185,Articles!$A$5:$AF$3000,11))","v":""},{"$f":"IF(ISBLANK(A185),\"\",(VLOOKUP(A185,Articles!$A$5:$AH$3002,34))*C185)","v":""}]
[null,{"$f":"IF(ISBLANK(A186),\"\",VLOOKUP(A186,Articles!$A$6:$AF$3002,2))","v":""},null,{"$f":"IF(ISBLANK(A186),\"\",VLOOKUP(A186,Articles!$A$6:$AF$3002,6))","v":""},{"$f":"IF(ISBLANK(A186),\"\",IF($C$15=1,VLOOKUP(A186,Articles!$A$6:$AF$3038,3),IF($C$15=2,VLOOKUP(A186,Articles!$A$6:$AF$3038,20),IF($C$15=3,VLOOKUP(A186,Articles!$A$6:$AF$3038,21),IF($C$15=4,VLOOKUP(A186,Articles!$A$6:$AF$3038,22),\"Erreur\")))))","v":""},null,0,{"$f":"IF(ISBLANK(A186),0,VLOOKUP(A186,Articles!$A$6:$Q$3002,8))","v":0},{"$f":"IF(ISBLANK(A186),0,IF(Variables!$A$13=\"TTC\",IF(H186=1,G186-(G186*100)/(100+Variables!$A$2),(IF(H186=2,G186-(G186*100)/(100+Variables!$A$3),0))),IF(H186=1,G186*Variables!$A$2/(100),(IF(H186=2,G186*Variables!$A$3/(100),0)))))","v":0},{"$f":"IF(ISBLANK(A186),\"\",VLOOKUP(A186,Articles!$A$5:$AF$3000,11))","v":""},{"$f":"IF(ISBLANK(A186),\"\",(VLOOKUP(A186,Articles!$A$5:$AH$3002,34))*C186)","v":""}]
[null,{"$f":"IF(ISBLANK(A187),\"\",VLOOKUP(A187,Articles!$A$6:$AF$3002,2))","v":""},null,{"$f":"IF(ISBLANK(A187),\"\",VLOOKUP(A187,Articles!$A$6:$AF$3002,6))","v":""},{"$f":"IF(ISBLANK(A187),\"\",IF($C$15=1,VLOOKUP(A187,Articles!$A$6:$AF$3038,3),IF($C$15=2,VLOOKUP(A187,Articles!$A$6:$AF$3038,20),IF($C$15=3,VLOOKUP(A187,Articles!$A$6:$AF$3038,21),IF($C$15=4,VLOOKUP(A187,Articles!$A$6:$AF$3038,22),\"Erreur\")))))","v":""},null,0,{"$f":"IF(ISBLANK(A187),0,VLOOKUP(A187,Articles!$A$6:$Q$3002,8))","v":0},{"$f":"IF(ISBLANK(A187),0,IF(Variables!$A$13=\"TTC\",IF(H187=1,G187-(G187*100)/(100+Variables!$A$2),(IF(H187=2,G187-(G187*100)/(100+Variables!$A$3),0))),IF(H187=1,G187*Variables!$A$2/(100),(IF(H187=2,G187*Variables!$A$3/(100),0)))))","v":0},{"$f":"IF(ISBLANK(A187),\"\",VLOOKUP(A187,Articles!$A$5:$AF$3000,11))","v":""},{"$f":"IF(ISBLANK(A187),\"\",(VLOOKUP(A187,Articles!$A$5:$AH$3002,34))*C187)","v":""}]
[null,{"$f":"IF(ISBLANK(A188),\"\",VLOOKUP(A188,Articles!$A$6:$AF$3002,2))","v":""},null,{"$f":"IF(ISBLANK(A188),\"\",VLOOKUP(A188,Articles!$A$6:$AF$3002,6))","v":""},{"$f":"IF(ISBLANK(A188),\"\",IF($C$15=1,VLOOKUP(A188,Articles!$A$6:$AF$3038,3),IF($C$15=2,VLOOKUP(A188,Articles!$A$6:$AF$3038,20),IF($C$15=3,VLOOKUP(A188,Articles!$A$6:$AF$3038,21),IF($C$15=4,VLOOKUP(A188,Articles!$A$6:$AF$3038,22),\"Erreur\")))))","v":""},null,0,{"$f":"IF(ISBLANK(A188),0,VLOOKUP(A188,Articles!$A$6:$Q$3002,8))","v":0},{"$f":"IF(ISBLANK(A188),0,IF(Variables!$A$13=\"TTC\",IF(H188=1,G188-(G188*100)/(100+Variables!$A$2),(IF(H188=2,G188-(G188*100)/(100+Variables!$A$3),0))),IF(H188=1,G188*Variables!$A$2/(100),(IF(H188=2,G188*Variables!$A$3/(100),0)))))","v":0},{"$f":"IF(ISBLANK(A188),\"\",VLOOKUP(A188,Articles!$A$5:$AF$3000,11))","v":""},{"$f":"IF(ISBLANK(A188),\"\",(VLOOKUP(A188,Articles!$A$5:$AH$3002,34))*C188)","v":""}]
[null,{"$f":"IF(ISBLANK(A189),\"\",VLOOKUP(A189,Articles!$A$6:$AF$3002,2))","v":""},null,{"$f":"IF(ISBLANK(A189),\"\",VLOOKUP(A189,Articles!$A$6:$AF$3002,6))","v":""},{"$f":"IF(ISBLANK(A189),\"\",IF($C$15=1,VLOOKUP(A189,Articles!$A$6:$AF$3038,3),IF($C$15=2,VLOOKUP(A189,Articles!$A$6:$AF$3038,20),IF($C$15=3,VLOOKUP(A189,Articles!$A$6:$AF$3038,21),IF($C$15=4,VLOOKUP(A189,Articles!$A$6:$AF$3038,22),\"Erreur\")))))","v":""},null,0,{"$f":"IF(ISBLANK(A189),0,VLOOKUP(A189,Articles!$A$6:$Q$3002,8))","v":0},{"$f":"IF(ISBLANK(A189),0,IF(Variables!$A$13=\"TTC\",IF(H189=1,G189-(G189*100)/(100+Variables!$A$2),(IF(H189=2,G189-(G189*100)/(100+Variables!$A$3),0))),IF(H189=1,G189*Variables!$A$2/(100),(IF(H189=2,G189*Variables!$A$3/(100),0)))))","v":0},{"$f":"IF(ISBLANK(A189),\"\",VLOOKUP(A189,Articles!$A$5:$AF$3000,11))","v":""},{"$f":"IF(ISBLANK(A189),\"\",(VLOOKUP(A189,Articles!$A$5:$AH$3002,34))*C189)","v":""}]
[null,{"$f":"IF(ISBLANK(A190),\"\",VLOOKUP(A190,Articles!$A$6:$AF$3002,2))","v":""},null,{"$f":"IF(ISBLANK(A190),\"\",VLOOKUP(A190,Articles!$A$6:$AF$3002,6))","v":""},{"$f":"IF(ISBLANK(A190),\"\",IF($C$15=1,VLOOKUP(A190,Articles!$A$6:$AF$3038,3),IF($C$15=2,VLOOKUP(A190,Articles!$A$6:$AF$3038,20),IF($C$15=3,VLOOKUP(A190,Articles!$A$6:$AF$3038,21),IF($C$15=4,VLOOKUP(A190,Articles!$A$6:$AF$3038,22),\"Erreur\")))))","v":""},null,0,{"$f":"IF(ISBLANK(A190),0,VLOOKUP(A190,Articles!$A$6:$Q$3002,8))","v":0},{"$f":"IF(ISBLANK(A190),0,IF(Variables!$A$13=\"TTC\",IF(H190=1,G190-(G190*100)/(100+Variables!$A$2),(IF(H190=2,G190-(G190*100)/(100+Variables!$A$3),0))),IF(H190=1,G190*Variables!$A$2/(100),(IF(H190=2,G190*Variables!$A$3/(100),0)))))","v":0},{"$f":"IF(ISBLANK(A190),\"\",VLOOKUP(A190,Articles!$A$5:$AF$3000,11))","v":""},{"$f":"IF(ISBLANK(A190),\"\",(VLOOKUP(A190,Articles!$A$5:$AH$3002,34))*C190)","v":""}]
[null,{"$f":"IF(ISBLANK(A191),\"\",VLOOKUP(A191,Articles!$A$6:$AF$3002,2))","v":""},null,{"$f":"IF(ISBLANK(A191),\"\",VLOOKUP(A191,Articles!$A$6:$AF$3002,6))","v":""},{"$f":"IF(ISBLANK(A191),\"\",IF($C$15=1,VLOOKUP(A191,Articles!$A$6:$AF$3038,3),IF($C$15=2,VLOOKUP(A191,Articles!$A$6:$AF$3038,20),IF($C$15=3,VLOOKUP(A191,Articles!$A$6:$AF$3038,21),IF($C$15=4,VLOOKUP(A191,Articles!$A$6:$AF$3038,22),\"Erreur\")))))","v":""},null,0,{"$f":"IF(ISBLANK(A191),0,VLOOKUP(A191,Articles!$A$6:$Q$3002,8))","v":0},{"$f":"IF(ISBLANK(A191),0,IF(Variables!$A$13=\"TTC\",IF(H191=1,G191-(G191*100)/(100+Variables!$A$2),(IF(H191=2,G191-(G191*100)/(100+Variables!$A$3),0))),IF(H191=1,G191*Variables!$A$2/(100),(IF(H191=2,G191*Variables!$A$3/(100),0)))))","v":0},{"$f":"IF(ISBLANK(A191),\"\",VLOOKUP(A191,Articles!$A$5:$AF$3000,11))","v":""},{"$f":"IF(ISBLANK(A191),\"\",(VLOOKUP(A191,Articles!$A$5:$AH$3002,34))*C191)","v":""}]
[null,{"$f":"IF(ISBLANK(A192),\"\",VLOOKUP(A192,Articles!$A$6:$AF$3002,2))","v":""},null,{"$f":"IF(ISBLANK(A192),\"\",VLOOKUP(A192,Articles!$A$6:$AF$3002,6))","v":""},{"$f":"IF(ISBLANK(A192),\"\",IF($C$15=1,VLOOKUP(A192,Articles!$A$6:$AF$3038,3),IF($C$15=2,VLOOKUP(A192,Articles!$A$6:$AF$3038,20),IF($C$15=3,VLOOKUP(A192,Articles!$A$6:$AF$3038,21),IF($C$15=4,VLOOKUP(A192,Articles!$A$6:$AF$3038,22),\"Erreur\")))))","v":""},null,0,{"$f":"IF(ISBLANK(A192),0,VLOOKUP(A192,Articles!$A$6:$Q$3002,8))","v":0},{"$f":"IF(ISBLANK(A192),0,IF(Variables!$A$13=\"TTC\",IF(H192=1,G192-(G192*100)/(100+Variables!$A$2),(IF(H192=2,G192-(G192*100)/(100+Variables!$A$3),0))),IF(H192=1,G192*Variables!$A$2/(100),(IF(H192=2,G192*Variables!$A$3/(100),0)))))","v":0},{"$f":"IF(ISBLANK(A192),\"\",VLOOKUP(A192,Articles!$A$5:$AF$3000,11))","v":""},{"$f":"IF(ISBLANK(A192),\"\",(VLOOKUP(A192,Articles!$A$5:$AH$3002,34))*C192)","v":""}]
[null,{"$f":"IF(ISBLANK(A193),\"\",VLOOKUP(A193,Articles!$A$6:$AF$3002,2))","v":""},null,{"$f":"IF(ISBLANK(A193),\"\",VLOOKUP(A193,Articles!$A$6:$AF$3002,6))","v":""},{"$f":"IF(ISBLANK(A193),\"\",IF($C$15=1,VLOOKUP(A193,Articles!$A$6:$AF$3038,3),IF($C$15=2,VLOOKUP(A193,Articles!$A$6:$AF$3038,20),IF($C$15=3,VLOOKUP(A193,Articles!$A$6:$AF$3038,21),IF($C$15=4,VLOOKUP(A193,Articles!$A$6:$AF$3038,22),\"Erreur\")))))","v":""},null,0,{"$f":"IF(ISBLANK(A193),0,VLOOKUP(A193,Articles!$A$6:$Q$3002,8))","v":0},{"$f":"IF(ISBLANK(A193),0,IF(Variables!$A$13=\"TTC\",IF(H193=1,G193-(G193*100)/(100+Variables!$A$2),(IF(H193=2,G193-(G193*100)/(100+Variables!$A$3),0))),IF(H193=1,G193*Variables!$A$2/(100),(IF(H193=2,G193*Variables!$A$3/(100),0)))))","v":0},{"$f":"IF(ISBLANK(A193),\"\",VLOOKUP(A193,Articles!$A$5:$AF$3000,11))","v":""},{"$f":"IF(ISBLANK(A193),\"\",(VLOOKUP(A193,Articles!$A$5:$AH$3002,34))*C193)","v":""}]
[null,{"$f":"IF(ISBLANK(A194),\"\",VLOOKUP(A194,Articles!$A$6:$AF$3002,2))","v":""},null,{"$f":"IF(ISBLANK(A194),\"\",VLOOKUP(A194,Articles!$A$6:$AF$3002,6))","v":""},{"$f":"IF(ISBLANK(A194),\"\",IF($C$15=1,VLOOKUP(A194,Articles!$A$6:$AF$3038,3),IF($C$15=2,VLOOKUP(A194,Articles!$A$6:$AF$3038,20),IF($C$15=3,VLOOKUP(A194,Articles!$A$6:$AF$3038,21),IF($C$15=4,VLOOKUP(A194,Articles!$A$6:$AF$3038,22),\"Erreur\")))))","v":""},null,0,{"$f":"IF(ISBLANK(A194),0,VLOOKUP(A194,Articles!$A$6:$Q$3002,8))","v":0},{"$f":"IF(ISBLANK(A194),0,IF(Variables!$A$13=\"TTC\",IF(H194=1,G194-(G194*100)/(100+Variables!$A$2),(IF(H194=2,G194-(G194*100)/(100+Variables!$A$3),0))),IF(H194=1,G194*Variables!$A$2/(100),(IF(H194=2,G194*Variables!$A$3/(100),0)))))","v":0},{"$f":"IF(ISBLANK(A194),\"\",VLOOKUP(A194,Articles!$A$5:$AF$3000,11))","v":""},{"$f":"IF(ISBLANK(A194),\"\",(VLOOKUP(A194,Articles!$A$5:$AH$3002,34))*C194)","v":""}]
[null,{"$f":"IF(ISBLANK(A195),\"\",VLOOKUP(A195,Articles!$A$6:$AF$3002,2))","v":""},null,{"$f":"IF(ISBLANK(A195),\"\",VLOOKUP(A195,Articles!$A$6:$AF$3002,6))","v":""},{"$f":"IF(ISBLANK(A195),\"\",IF($C$15=1,VLOOKUP(A195,Articles!$A$6:$AF$3038,3),IF($C$15=2,VLOOKUP(A195,Articles!$A$6:$AF$3038,20),IF($C$15=3,VLOOKUP(A195,Articles!$A$6:$AF$3038,21),IF($C$15=4,VLOOKUP(A195,Articles!$A$6:$AF$3038,22),\"Erreur\")))))","v":""},null,0,{"$f":"IF(ISBLANK(A195),0,VLOOKUP(A195,Articles!$A$6:$Q$3002,8))","v":0},{"$f":"IF(ISBLANK(A195),0,IF(Variables!$A$13=\"TTC\",IF(H195=1,G195-(G195*100)/(100+Variables!$A$2),(IF(H195=2,G195-(G195*100)/(100+Variables!$A$3),0))),IF(H195=1,G195*Variables!$A$2/(100),(IF(H195=2,G195*Variables!$A$3/(100),0)))))","v":0},{"$f":"IF(ISBLANK(A195),\"\",VLOOKUP(A195,Articles!$A$5:$AF$3000,11))","v":""},{"$f":"IF(ISBLANK(A195),\"\",(VLOOKUP(A195,Articles!$A$5:$AH$3002,34))*C195)","v":""}]
[null,{"$f":"IF(ISBLANK(A196),\"\",VLOOKUP(A196,Articles!$A$6:$AF$3002,2))","v":""},null,{"$f":"IF(ISBLANK(A196),\"\",VLOOKUP(A196,Articles!$A$6:$AF$3002,6))","v":""},{"$f":"IF(ISBLANK(A196),\"\",IF($C$15=1,VLOOKUP(A196,Articles!$A$6:$AF$3038,3),IF($C$15=2,VLOOKUP(A196,Articles!$A$6:$AF$3038,20),IF($C$15=3,VLOOKUP(A196,Articles!$A$6:$AF$3038,21),IF($C$15=4,VLOOKUP(A196,Articles!$A$6:$AF$3038,22),\"Erreur\")))))","v":""},null,0,{"$f":"IF(ISBLANK(A196),0,VLOOKUP(A196,Articles!$A$6:$Q$3002,8))","v":0},{"$f":"IF(ISBLANK(A196),0,IF(Variables!$A$13=\"TTC\",IF(H196=1,G196-(G196*100)/(100+Variables!$A$2),(IF(H196=2,G196-(G196*100)/(100+Variables!$A$3),0))),IF(H196=1,G196*Variables!$A$2/(100),(IF(H196=2,G196*Variables!$A$3/(100),0)))))","v":0},{"$f":"IF(ISBLANK(A196),\"\",VLOOKUP(A196,Articles!$A$5:$AF$3000,11))","v":""},{"$f":"IF(ISBLANK(A196),\"\",(VLOOKUP(A196,Articles!$A$5:$AH$3002,34))*C196)","v":""}]
[null,{"$f":"IF(ISBLANK(A197),\"\",VLOOKUP(A197,Articles!$A$6:$AF$3002,2))","v":""},null,{"$f":"IF(ISBLANK(A197),\"\",VLOOKUP(A197,Articles!$A$6:$AF$3002,6))","v":""},{"$f":"IF(ISBLANK(A197),\"\",IF($C$15=1,VLOOKUP(A197,Articles!$A$6:$AF$3038,3),IF($C$15=2,VLOOKUP(A197,Articles!$A$6:$AF$3038,20),IF($C$15=3,VLOOKUP(A197,Articles!$A$6:$AF$3038,21),IF($C$15=4,VLOOKUP(A197,Articles!$A$6:$AF$3038,22),\"Erreur\")))))","v":""},null,0,{"$f":"IF(ISBLANK(A197),0,VLOOKUP(A197,Articles!$A$6:$Q$3002,8))","v":0},{"$f":"IF(ISBLANK(A197),0,IF(Variables!$A$13=\"TTC\",IF(H197=1,G197-(G197*100)/(100+Variables!$A$2),(IF(H197=2,G197-(G197*100)/(100+Variables!$A$3),0))),IF(H197=1,G197*Variables!$A$2/(100),(IF(H197=2,G197*Variables!$A$3/(100),0)))))","v":0},{"$f":"IF(ISBLANK(A197),\"\",VLOOKUP(A197,Articles!$A$5:$AF$3000,11))","v":""},{"$f":"IF(ISBLANK(A197),\"\",(VLOOKUP(A197,Articles!$A$5:$AH$3002,34))*C197)","v":""}]
[null,{"$f":"IF(ISBLANK(A198),\"\",VLOOKUP(A198,Articles!$A$6:$AF$3002,2))","v":""},null,{"$f":"IF(ISBLANK(A198),\"\",VLOOKUP(A198,Articles!$A$6:$AF$3002,6))","v":""},{"$f":"IF(ISBLANK(A198),\"\",IF($C$15=1,VLOOKUP(A198,Articles!$A$6:$AF$3038,3),IF($C$15=2,VLOOKUP(A198,Articles!$A$6:$AF$3038,20),IF($C$15=3,VLOOKUP(A198,Articles!$A$6:$AF$3038,21),IF($C$15=4,VLOOKUP(A198,Articles!$A$6:$AF$3038,22),\"Erreur\")))))","v":""},null,0,{"$f":"IF(ISBLANK(A198),0,VLOOKUP(A198,Articles!$A$6:$Q$3002,8))","v":0},{"$f":"IF(ISBLANK(A198),0,IF(Variables!$A$13=\"TTC\",IF(H198=1,G198-(G198*100)/(100+Variables!$A$2),(IF(H198=2,G198-(G198*100)/(100+Variables!$A$3),0))),IF(H198=1,G198*Variables!$A$2/(100),(IF(H198=2,G198*Variables!$A$3/(100),0)))))","v":0},{"$f":"IF(ISBLANK(A198),\"\",VLOOKUP(A198,Articles!$A$5:$AF$3000,11))","v":""},{"$f":"IF(ISBLANK(A198),\"\",(VLOOKUP(A198,Articles!$A$5:$AH$3002,34))*C198)","v":""}]
[null,{"$f":"IF(ISBLANK(A199),\"\",VLOOKUP(A199,Articles!$A$6:$AF$3002,2))","v":""},null,{"$f":"IF(ISBLANK(A199),\"\",VLOOKUP(A199,Articles!$A$6:$AF$3002,6))","v":""},{"$f":"IF(ISBLANK(A199),\"\",IF($C$15=1,VLOOKUP(A199,Articles!$A$6:$AF$3038,3),IF($C$15=2,VLOOKUP(A199,Articles!$A$6:$AF$3038,20),IF($C$15=3,VLOOKUP(A199,Articles!$A$6:$AF$3038,21),IF($C$15=4,VLOOKUP(A199,Articles!$A$6:$AF$3038,22),\"Erreur\")))))","v":""},null,0,{"$f":"IF(ISBLANK(A199),0,VLOOKUP(A199,Articles!$A$6:$Q$3002,8))","v":0},{"$f":"IF(ISBLANK(A199),0,IF(Variables!$A$13=\"TTC\",IF(H199=1,G199-(G199*100)/(100+Variables!$A$2),(IF(H199=2,G199-(G199*100)/(100+Variables!$A$3),0))),IF(H199=1,G199*Variables!$A$2/(100),(IF(H199=2,G199*Variables!$A$3/(100),0)))))","v":0},{"$f":"IF(ISBLANK(A199),\"\",VLOOKUP(A199,Articles!$A$5:$AF$3000,11))","v":""},{"$f":"IF(ISBLANK(A199),\"\",(VLOOKUP(A199,Articles!$A$5:$AH$3002,34))*C199)","v":""}]
[null,{"$f":"IF(ISBLANK(A200),\"\",VLOOKUP(A200,Articles!$A$6:$AF$3002,2))","v":""},null,{"$f":"IF(ISBLANK(A200),\"\",VLOOKUP(A200,Articles!$A$6:$AF$3002,6))","v":""},{"$f":"IF(ISBLANK(A200),\"\",IF($C$15=1,VLOOKUP(A200,Articles!$A$6:$AF$3038,3),IF($C$15=2,VLOOKUP(A200,Articles!$A$6:$AF$3038,20),IF($C$15=3,VLOOKUP(A200,Articles!$A$6:$AF$3038,21),IF($C$15=4,VLOOKUP(A200,Articles!$A$6:$AF$3038,22),\"Erreur\")))))","v":""},null,0,{"$f":"IF(ISBLANK(A200),0,VLOOKUP(A200,Articles!$A$6:$Q$3002,8))","v":0},{"$f":"IF(ISBLANK(A200),0,IF(Variables!$A$13=\"TTC\",IF(H200=1,G200-(G200*100)/(100+Variables!$A$2),(IF(H200=2,G200-(G200*100)/(100+Variables!$A$3),0))),IF(H200=1,G200*Variables!$A$2/(100),(IF(H200=2,G200*Variables!$A$3/(100),0)))))","v":0},{"$f":"IF(ISBLANK(A200),\"\",VLOOKUP(A200,Articles!$A$5:$AF$3000,11))","v":""},{"$f":"IF(ISBLANK(A200),\"\",(VLOOKUP(A200,Articles!$A$5:$AH$3002,34))*C200)","v":""}]
[null,{"$f":"IF(ISBLANK(A201),\"\",VLOOKUP(A201,Articles!$A$6:$AF$3002,2))","v":""},null,{"$f":"IF(ISBLANK(A201),\"\",VLOOKUP(A201,Articles!$A$6:$AF$3002,6))","v":""},{"$f":"IF(ISBLANK(A201),\"\",IF($C$15=1,VLOOKUP(A201,Articles!$A$6:$AF$3038,3),IF($C$15=2,VLOOKUP(A201,Articles!$A$6:$AF$3038,20),IF($C$15=3,VLOOKUP(A201,Articles!$A$6:$AF$3038,21),IF($C$15=4,VLOOKUP(A201,Articles!$A$6:$AF$3038,22),\"Erreur\")))))","v":""},null,0,{"$f":"IF(ISBLANK(A201),0,VLOOKUP(A201,Articles!$A$6:$Q$3002,8))","v":0},{"$f":"IF(ISBLANK(A201),0,IF(Variables!$A$13=\"TTC\",IF(H201=1,G201-(G201*100)/(100+Variables!$A$2),(IF(H201=2,G201-(G201*100)/(100+Variables!$A$3),0))),IF(H201=1,G201*Variables!$A$2/(100),(IF(H201=2,G201*Variables!$A$3/(100),0)))))","v":0},{"$f":"IF(ISBLANK(A201),\"\",VLOOKUP(A201,Articles!$A$5:$AF$3000,11))","v":""},{"$f":"IF(ISBLANK(A201),\"\",(VLOOKUP(A201,Articles!$A$5:$AH$3002,34))*C201)","v":""}]
[null,{"$f":"IF(ISBLANK(A202),\"\",VLOOKUP(A202,Articles!$A$6:$AF$3002,2))","v":""},null,{"$f":"IF(ISBLANK(A202),\"\",VLOOKUP(A202,Articles!$A$6:$AF$3002,6))","v":""},{"$f":"IF(ISBLANK(A202),\"\",IF($C$15=1,VLOOKUP(A202,Articles!$A$6:$AF$3038,3),IF($C$15=2,VLOOKUP(A202,Articles!$A$6:$AF$3038,20),IF($C$15=3,VLOOKUP(A202,Articles!$A$6:$AF$3038,21),IF($C$15=4,VLOOKUP(A202,Articles!$A$6:$AF$3038,22),\"Erreur\")))))","v":""},null,0,{"$f":"IF(ISBLANK(A202),0,VLOOKUP(A202,Articles!$A$6:$Q$3002,8))","v":0},{"$f":"IF(ISBLANK(A202),0,IF(Variables!$A$13=\"TTC\",IF(H202=1,G202-(G202*100)/(100+Variables!$A$2),(IF(H202=2,G202-(G202*100)/(100+Variables!$A$3),0))),IF(H202=1,G202*Variables!$A$2/(100),(IF(H202=2,G202*Variables!$A$3/(100),0)))))","v":0},{"$f":"IF(ISBLANK(A202),\"\",VLOOKUP(A202,Articles!$A$5:$AF$3000,11))","v":""},{"$f":"IF(ISBLANK(A202),\"\",(VLOOKUP(A202,Articles!$A$5:$AH$3002,34))*C202)","v":""}]
[null,{"$f":"IF(ISBLANK(A203),\"\",VLOOKUP(A203,Articles!$A$6:$AF$3002,2))","v":""},null,{"$f":"IF(ISBLANK(A203),\"\",VLOOKUP(A203,Articles!$A$6:$AF$3002,6))","v":""},{"$f":"IF(ISBLANK(A203),\"\",IF($C$15=1,VLOOKUP(A203,Articles!$A$6:$AF$3038,3),IF($C$15=2,VLOOKUP(A203,Articles!$A$6:$AF$3038,20),IF($C$15=3,VLOOKUP(A203,Articles!$A$6:$AF$3038,21),IF($C$15=4,VLOOKUP(A203,Articles!$A$6:$AF$3038,22),\"Erreur\")))))","v":""},null,0,{"$f":"IF(ISBLANK(A203),0,VLOOKUP(A203,Articles!$A$6:$Q$3002,8))","v":0},{"$f":"IF(ISBLANK(A203),0,IF(Variables!$A$13=\"TTC\",IF(H203=1,G203-(G203*100)/(100+Variables!$A$2),(IF(H203=2,G203-(G203*100)/(100+Variables!$A$3),0))),IF(H203=1,G203*Variables!$A$2/(100),(IF(H203=2,G203*Variables!$A$3/(100),0)))))","v":0},{"$f":"IF(ISBLANK(A203),\"\",VLOOKUP(A203,Articles!$A$5:$AF$3000,11))","v":""},{"$f":"IF(ISBLANK(A203),\"\",(VLOOKUP(A203,Articles!$A$5:$AH$3002,34))*C203)","v":""}]
[null,{"$f":"IF(ISBLANK(A204),\"\",VLOOKUP(A204,Articles!$A$6:$AF$3002,2))","v":""},null,{"$f":"IF(ISBLANK(A204),\"\",VLOOKUP(A204,Articles!$A$6:$AF$3002,6))","v":""},{"$f":"IF(ISBLANK(A204),\"\",IF($C$15=1,VLOOKUP(A204,Articles!$A$6:$AF$3038,3),IF($C$15=2,VLOOKUP(A204,Articles!$A$6:$AF$3038,20),IF($C$15=3,VLOOKUP(A204,Articles!$A$6:$AF$3038,21),IF($C$15=4,VLOOKUP(A204,Articles!$A$6:$AF$3038,22),\"Erreur\")))))","v":""},null,0,{"$f":"IF(ISBLANK(A204),0,VLOOKUP(A204,Articles!$A$6:$Q$3002,8))","v":0},{"$f":"IF(ISBLANK(A204),0,IF(Variables!$A$13=\"TTC\",IF(H204=1,G204-(G204*100)/(100+Variables!$A$2),(IF(H204=2,G204-(G204*100)/(100+Variables!$A$3),0))),IF(H204=1,G204*Variables!$A$2/(100),(IF(H204=2,G204*Variables!$A$3/(100),0)))))","v":0},{"$f":"IF(ISBLANK(A204),\"\",VLOOKUP(A204,Articles!$A$5:$AF$3000,11))","v":""},{"$f":"IF(ISBLANK(A204),\"\",(VLOOKUP(A204,Articles!$A$5:$AH$3002,34))*C204)","v":""}]
[null,{"$f":"IF(ISBLANK(A205),\"\",VLOOKUP(A205,Articles!$A$6:$AF$3002,2))","v":""},null,{"$f":"IF(ISBLANK(A205),\"\",VLOOKUP(A205,Articles!$A$6:$AF$3002,6))","v":""},{"$f":"IF(ISBLANK(A205),\"\",IF($C$15=1,VLOOKUP(A205,Articles!$A$6:$AF$3038,3),IF($C$15=2,VLOOKUP(A205,Articles!$A$6:$AF$3038,20),IF($C$15=3,VLOOKUP(A205,Articles!$A$6:$AF$3038,21),IF($C$15=4,VLOOKUP(A205,Articles!$A$6:$AF$3038,22),\"Erreur\")))))","v":""},null,0,{"$f":"IF(ISBLANK(A205),0,VLOOKUP(A205,Articles!$A$6:$Q$3002,8))","v":0},{"$f":"IF(ISBLANK(A205),0,IF(Variables!$A$13=\"TTC\",IF(H205=1,G205-(G205*100)/(100+Variables!$A$2),(IF(H205=2,G205-(G205*100)/(100+Variables!$A$3),0))),IF(H205=1,G205*Variables!$A$2/(100),(IF(H205=2,G205*Variables!$A$3/(100),0)))))","v":0},{"$f":"IF(ISBLANK(A205),\"\",VLOOKUP(A205,Articles!$A$5:$AF$3000,11))","v":""},{"$f":"IF(ISBLANK(A205),\"\",(VLOOKUP(A205,Articles!$A$5:$AH$3002,34))*C205)","v":""}]
[null,{"$f":"IF(ISBLANK(A206),\"\",VLOOKUP(A206,Articles!$A$6:$AF$3002,2))","v":""},null,{"$f":"IF(ISBLANK(A206),\"\",VLOOKUP(A206,Articles!$A$6:$AF$3002,6))","v":""},{"$f":"IF(ISBLANK(A206),\"\",IF($C$15=1,VLOOKUP(A206,Articles!$A$6:$AF$3038,3),IF($C$15=2,VLOOKUP(A206,Articles!$A$6:$AF$3038,20),IF($C$15=3,VLOOKUP(A206,Articles!$A$6:$AF$3038,21),IF($C$15=4,VLOOKUP(A206,Articles!$A$6:$AF$3038,22),\"Erreur\")))))","v":""},null,0,{"$f":"IF(ISBLANK(A206),0,VLOOKUP(A206,Articles!$A$6:$Q$3002,8))","v":0},{"$f":"IF(ISBLANK(A206),0,IF(Variables!$A$13=\"TTC\",IF(H206=1,G206-(G206*100)/(100+Variables!$A$2),(IF(H206=2,G206-(G206*100)/(100+Variables!$A$3),0))),IF(H206=1,G206*Variables!$A$2/(100),(IF(H206=2,G206*Variables!$A$3/(100),0)))))","v":0},{"$f":"IF(ISBLANK(A206),\"\",VLOOKUP(A206,Articles!$A$5:$AF$3000,11))","v":""},{"$f":"IF(ISBLANK(A206),\"\",(VLOOKUP(A206,Articles!$A$5:$AH$3002,34))*C206)","v":""}]
[null,{"$f":"IF(ISBLANK(A207),\"\",VLOOKUP(A207,Articles!$A$6:$AF$3002,2))","v":""},null,{"$f":"IF(ISBLANK(A207),\"\",VLOOKUP(A207,Articles!$A$6:$AF$3002,6))","v":""},{"$f":"IF(ISBLANK(A207),\"\",IF($C$15=1,VLOOKUP(A207,Articles!$A$6:$AF$3038,3),IF($C$15=2,VLOOKUP(A207,Articles!$A$6:$AF$3038,20),IF($C$15=3,VLOOKUP(A207,Articles!$A$6:$AF$3038,21),IF($C$15=4,VLOOKUP(A207,Articles!$A$6:$AF$3038,22),\"Erreur\")))))","v":""},null,0,{"$f":"IF(ISBLANK(A207),0,VLOOKUP(A207,Articles!$A$6:$Q$3002,8))","v":0},{"$f":"IF(ISBLANK(A207),0,IF(Variables!$A$13=\"TTC\",IF(H207=1,G207-(G207*100)/(100+Variables!$A$2),(IF(H207=2,G207-(G207*100)/(100+Variables!$A$3),0))),IF(H207=1,G207*Variables!$A$2/(100),(IF(H207=2,G207*Variables!$A$3/(100),0)))))","v":0},{"$f":"IF(ISBLANK(A207),\"\",VLOOKUP(A207,Articles!$A$5:$AF$3000,11))","v":""},{"$f":"IF(ISBLANK(A207),\"\",(VLOOKUP(A207,Articles!$A$5:$AH$3002,34))*C207)","v":""}]
[null,{"$f":"IF(ISBLANK(A208),\"\",VLOOKUP(A208,Articles!$A$6:$AF$3002,2))","v":""},null,{"$f":"IF(ISBLANK(A208),\"\",VLOOKUP(A208,Articles!$A$6:$AF$3002,6))","v":""},{"$f":"IF(ISBLANK(A208),\"\",IF($C$15=1,VLOOKUP(A208,Articles!$A$6:$AF$3038,3),IF($C$15=2,VLOOKUP(A208,Articles!$A$6:$AF$3038,20),IF($C$15=3,VLOOKUP(A208,Articles!$A$6:$AF$3038,21),IF($C$15=4,VLOOKUP(A208,Articles!$A$6:$AF$3038,22),\"Erreur\")))))","v":""},null,0,{"$f":"IF(ISBLANK(A208),0,VLOOKUP(A208,Articles!$A$6:$Q$3002,8))","v":0},{"$f":"IF(ISBLANK(A208),0,IF(Variables!$A$13=\"TTC\",IF(H208=1,G208-(G208*100)/(100+Variables!$A$2),(IF(H208=2,G208-(G208*100)/(100+Variables!$A$3),0))),IF(H208=1,G208*Variables!$A$2/(100),(IF(H208=2,G208*Variables!$A$3/(100),0)))))","v":0},{"$f":"IF(ISBLANK(A208),\"\",VLOOKUP(A208,Articles!$A$5:$AF$3000,11))","v":""},{"$f":"IF(ISBLANK(A208),\"\",(VLOOKUP(A208,Articles!$A$5:$AH$3002,34))*C208)","v":""}]
[null,{"$f":"IF(ISBLANK(A209),\"\",VLOOKUP(A209,Articles!$A$6:$AF$3002,2))","v":""},null,{"$f":"IF(ISBLANK(A209),\"\",VLOOKUP(A209,Articles!$A$6:$AF$3002,6))","v":""},{"$f":"IF(ISBLANK(A209),\"\",IF($C$15=1,VLOOKUP(A209,Articles!$A$6:$AF$3038,3),IF($C$15=2,VLOOKUP(A209,Articles!$A$6:$AF$3038,20),IF($C$15=3,VLOOKUP(A209,Articles!$A$6:$AF$3038,21),IF($C$15=4,VLOOKUP(A209,Articles!$A$6:$AF$3038,22),\"Erreur\")))))","v":""},null,0,{"$f":"IF(ISBLANK(A209),0,VLOOKUP(A209,Articles!$A$6:$Q$3002,8))","v":0},{"$f":"IF(ISBLANK(A209),0,IF(Variables!$A$13=\"TTC\",IF(H209=1,G209-(G209*100)/(100+Variables!$A$2),(IF(H209=2,G209-(G209*100)/(100+Variables!$A$3),0))),IF(H209=1,G209*Variables!$A$2/(100),(IF(H209=2,G209*Variables!$A$3/(100),0)))))","v":0},{"$f":"IF(ISBLANK(A209),\"\",VLOOKUP(A209,Articles!$A$5:$AF$3000,11))","v":""},{"$f":"IF(ISBLANK(A209),\"\",(VLOOKUP(A209,Articles!$A$5:$AH$3002,34))*C209)","v":""}]
[null,{"$f":"IF(ISBLANK(A210),\"\",VLOOKUP(A210,Articles!$A$6:$AF$3002,2))","v":""},null,{"$f":"IF(ISBLANK(A210),\"\",VLOOKUP(A210,Articles!$A$6:$AF$3002,6))","v":""},{"$f":"IF(ISBLANK(A210),\"\",IF($C$15=1,VLOOKUP(A210,Articles!$A$6:$AF$3038,3),IF($C$15=2,VLOOKUP(A210,Articles!$A$6:$AF$3038,20),IF($C$15=3,VLOOKUP(A210,Articles!$A$6:$AF$3038,21),IF($C$15=4,VLOOKUP(A210,Articles!$A$6:$AF$3038,22),\"Erreur\")))))","v":""},null,{"$f":"IF(ISBLANK(A210),0,SUM(C210*E210)*(100-F210)/100)","v":0},{"$f":"IF(ISBLANK(A210),0,VLOOKUP(A210,Articles!$A$6:$Q$3002,8))","v":0},{"$f":"IF(ISBLANK(A210),0,IF(Variables!$A$13=\"TTC\",IF(H210=1,G210-(G210*100)/(100+Variables!$A$2),(IF(H210=2,G210-(G210*100)/(100+Variables!$A$3),0))),IF(H210=1,G210*Variables!$A$2/(100),(IF(H210=2,G210*Variables!$A$3/(100),0)))))","v":0},{"$f":"IF(ISBLANK(A210),\"\",VLOOKUP(A210,Articles!$A$5:$AF$3000,11))","v":""},{"$f":"IF(ISBLANK(A210),\"\",(VLOOKUP(A210,Articles!$A$5:$AH$3002,34))*C210)","v":""}]
[null,{"$f":"IF(ISBLANK(A211),\"\",VLOOKUP(A211,Articles!$A$6:$AF$3002,2))","v":""},null,{"$f":"IF(ISBLANK(A211),\"\",VLOOKUP(A211,Articles!$A$6:$AF$3002,6))","v":""},{"$f":"IF(ISBLANK(A211),\"\",IF($C$15=1,VLOOKUP(A211,Articles!$A$6:$AF$3038,3),IF($C$15=2,VLOOKUP(A211,Articles!$A$6:$AF$3038,20),IF($C$15=3,VLOOKUP(A211,Articles!$A$6:$AF$3038,21),IF($C$15=4,VLOOKUP(A211,Articles!$A$6:$AF$3038,22),\"Erreur\")))))","v":""},null,0,{"$f":"IF(ISBLANK(A211),0,VLOOKUP(A211,Articles!$A$6:$Q$3002,8))","v":0},{"$f":"IF(ISBLANK(A211),0,IF(Variables!$A$13=\"TTC\",IF(H211=1,G211-(G211*100)/(100+Variables!$A$2),(IF(H211=2,G211-(G211*100)/(100+Variables!$A$3),0))),IF(H211=1,G211*Variables!$A$2/(100),(IF(H211=2,G211*Variables!$A$3/(100),0)))))","v":0},{"$f":"IF(ISBLANK(A211),\"\",VLOOKUP(A211,Articles!$A$5:$AF$3000,11))","v":""},{"$f":"IF(ISBLANK(A211),\"\",(VLOOKUP(A211,Articles!$A$5:$AH$3002,34))*C211)","v":""}]
[null,{"$f":"IF(ISBLANK(A212),\"\",VLOOKUP(A212,Articles!$A$6:$AF$3002,2))","v":""},null,{"$f":"IF(ISBLANK(A212),\"\",VLOOKUP(A212,Articles!$A$6:$AF$3002,6))","v":""},{"$f":"IF(ISBLANK(A212),\"\",IF($C$15=1,VLOOKUP(A212,Articles!$A$6:$AF$3038,3),IF($C$15=2,VLOOKUP(A212,Articles!$A$6:$AF$3038,20),IF($C$15=3,VLOOKUP(A212,Articles!$A$6:$AF$3038,21),IF($C$15=4,VLOOKUP(A212,Articles!$A$6:$AF$3038,22),\"Erreur\")))))","v":""},null,0,{"$f":"IF(ISBLANK(A212),0,VLOOKUP(A212,Articles!$A$6:$Q$3002,8))","v":0},{"$f":"IF(ISBLANK(A212),0,IF(Variables!$A$13=\"TTC\",IF(H212=1,G212-(G212*100)/(100+Variables!$A$2),(IF(H212=2,G212-(G212*100)/(100+Variables!$A$3),0))),IF(H212=1,G212*Variables!$A$2/(100),(IF(H212=2,G212*Variables!$A$3/(100),0)))))","v":0},{"$f":"IF(ISBLANK(A212),\"\",VLOOKUP(A212,Articles!$A$5:$AF$3000,11))","v":""},{"$f":"IF(ISBLANK(A212),\"\",(VLOOKUP(A212,Articles!$A$5:$AH$3002,34))*C212)","v":""}]
[null,{"$f":"IF(ISBLANK(A213),\"\",VLOOKUP(A213,Articles!$A$6:$AF$3002,2))","v":""},null,{"$f":"IF(ISBLANK(A213),\"\",VLOOKUP(A213,Articles!$A$6:$AF$3002,6))","v":""},{"$f":"IF(ISBLANK(A213),\"\",IF($C$15=1,VLOOKUP(A213,Articles!$A$6:$AF$3038,3),IF($C$15=2,VLOOKUP(A213,Articles!$A$6:$AF$3038,20),IF($C$15=3,VLOOKUP(A213,Articles!$A$6:$AF$3038,21),IF($C$15=4,VLOOKUP(A213,Articles!$A$6:$AF$3038,22),\"Erreur\")))))","v":""},null,0,{"$f":"IF(ISBLANK(A213),0,VLOOKUP(A213,Articles!$A$6:$Q$3002,8))","v":0},{"$f":"IF(ISBLANK(A213),0,IF(Variables!$A$13=\"TTC\",IF(H213=1,G213-(G213*100)/(100+Variables!$A$2),(IF(H213=2,G213-(G213*100)/(100+Variables!$A$3),0))),IF(H213=1,G213*Variables!$A$2/(100),(IF(H213=2,G213*Variables!$A$3/(100),0)))))","v":0},{"$f":"IF(ISBLANK(A213),\"\",VLOOKUP(A213,Articles!$A$5:$AF$3000,11))","v":""},{"$f":"IF(ISBLANK(A213),\"\",(VLOOKUP(A213,Articles!$A$5:$AH$3002,34))*C213)","v":""}]
[null,{"$f":"IF(ISBLANK(A214),\"\",VLOOKUP(A214,Articles!$A$6:$AF$3002,2))","v":""},null,{"$f":"IF(ISBLANK(A214),\"\",VLOOKUP(A214,Articles!$A$6:$AF$3002,6))","v":""},{"$f":"IF(ISBLANK(A214),\"\",IF($C$15=1,VLOOKUP(A214,Articles!$A$6:$AF$3038,3),IF($C$15=2,VLOOKUP(A214,Articles!$A$6:$AF$3038,20),IF($C$15=3,VLOOKUP(A214,Articles!$A$6:$AF$3038,21),IF($C$15=4,VLOOKUP(A214,Articles!$A$6:$AF$3038,22),\"Erreur\")))))","v":""},null,0,{"$f":"IF(ISBLANK(A214),0,VLOOKUP(A214,Articles!$A$6:$Q$3002,8))","v":0},{"$f":"IF(ISBLANK(A214),0,IF(Variables!$A$13=\"TTC\",IF(H214=1,G214-(G214*100)/(100+Variables!$A$2),(IF(H214=2,G214-(G214*100)/(100+Variables!$A$3),0))),IF(H214=1,G214*Variables!$A$2/(100),(IF(H214=2,G214*Variables!$A$3/(100),0)))))","v":0},{"$f":"IF(ISBLANK(A214),\"\",VLOOKUP(A214,Articles!$A$5:$AF$3000,11))","v":""},{"$f":"IF(ISBLANK(A214),\"\",(VLOOKUP(A214,Articles!$A$5:$AH$3002,34))*C214)","v":""}]
[null,{"$f":"IF(ISBLANK(A215),\"\",VLOOKUP(A215,Articles!$A$6:$AF$3002,2))","v":""},null,{"$f":"IF(ISBLANK(A215),\"\",VLOOKUP(A215,Articles!$A$6:$AF$3002,6))","v":""},{"$f":"IF(ISBLANK(A215),\"\",IF($C$15=1,VLOOKUP(A215,Articles!$A$6:$AF$3038,3),IF($C$15=2,VLOOKUP(A215,Articles!$A$6:$AF$3038,20),IF($C$15=3,VLOOKUP(A215,Articles!$A$6:$AF$3038,21),IF($C$15=4,VLOOKUP(A215,Articles!$A$6:$AF$3038,22),\"Erreur\")))))","v":""},null,0,{"$f":"IF(ISBLANK(A215),0,VLOOKUP(A215,Articles!$A$6:$Q$3002,8))","v":0},{"$f":"IF(ISBLANK(A215),0,IF(Variables!$A$13=\"TTC\",IF(H215=1,G215-(G215*100)/(100+Variables!$A$2),(IF(H215=2,G215-(G215*100)/(100+Variables!$A$3),0))),IF(H215=1,G215*Variables!$A$2/(100),(IF(H215=2,G215*Variables!$A$3/(100),0)))))","v":0},{"$f":"IF(ISBLANK(A215),\"\",VLOOKUP(A215,Articles!$A$5:$AF$3000,11))","v":""},{"$f":"IF(ISBLANK(A215),\"\",(VLOOKUP(A215,Articles!$A$5:$AH$3002,34))*C215)","v":""}]
[null,{"$f":"IF(ISBLANK(A216),\"\",VLOOKUP(A216,Articles!$A$6:$AF$3002,2))","v":""},null,{"$f":"IF(ISBLANK(A216),\"\",VLOOKUP(A216,Articles!$A$6:$AF$3002,6))","v":""},{"$f":"IF(ISBLANK(A216),\"\",IF($C$15=1,VLOOKUP(A216,Articles!$A$6:$AF$3038,3),IF($C$15=2,VLOOKUP(A216,Articles!$A$6:$AF$3038,20),IF($C$15=3,VLOOKUP(A216,Articles!$A$6:$AF$3038,21),IF($C$15=4,VLOOKUP(A216,Articles!$A$6:$AF$3038,22),\"Erreur\")))))","v":""},null,0,{"$f":"IF(ISBLANK(A216),0,VLOOKUP(A216,Articles!$A$6:$Q$3002,8))","v":0},{"$f":"IF(ISBLANK(A216),0,IF(Variables!$A$13=\"TTC\",IF(H216=1,G216-(G216*100)/(100+Variables!$A$2),(IF(H216=2,G216-(G216*100)/(100+Variables!$A$3),0))),IF(H216=1,G216*Variables!$A$2/(100),(IF(H216=2,G216*Variables!$A$3/(100),0)))))","v":0},{"$f":"IF(ISBLANK(A216),\"\",VLOOKUP(A216,Articles!$A$5:$AF$3000,11))","v":""},{"$f":"IF(ISBLANK(A216),\"\",(VLOOKUP(A216,Articles!$A$5:$AH$3002,34))*C216)","v":""}]
["GoTopFact1",{"$f":"Variables!E14","v":"Total hors TVA"},null,null,null,null,{"$f":"IF(Variables!$A$13=\"TTC\",SUBTOTAL(9,G17:G216)-SUM(I17:I216),SUBTOTAL(9,G17:G216))","v":364.62676359354123}]
[0.1,{"$f":"Variables!E15","v":"+ TVA"},null,null,null,null,{"$f":"SUM(I17:I216)","v":27.173236406458756}]
[0.1,{"$f":"IF(C220=0,\"\",Variables!E21)","v":""},{"$f":"Variables!E25&SUM(C17:C216)","v":"Qté totale : 3"},null,null,null,{"$f":"IF(C220=0,\"\",ROUND((SUM(G217:G218))*2,1)/2)","v":""}]
[0.1,{"$f":"IF(C220=0,0,Variables!E23)","v":0},null,null,null,null,{"$f":"-C220","v":0}]
[0.1,{"$f":"IF(C220=0,Variables!E16,Variables!E24)","v":"Total (TVA incluse)"},{"$f":"SUMPRODUCT((H17:H216=1)*(G17:G216))","v":374},{"$f":"SUMPRODUCT((H17:H216=2)*(G17:G216))","v":17.8},{"$f":"Variables!E17","v":"CHF"},{"$f":"IF(C220=0,ROUND((SUM(G217:G218))*2,1)/2,G219+G220)","v":391.8}]
[1,{"$f":"Variables!E18 & \" (T1=\"&Variables!A2&\"% / T2=\"&Variables!A3&\"% / T3=\"&Variables!A4&\"%)\"","v":"dont TVA (T1=7.7% / T2=2.5% / T3=0%)"},{"$f":"SUMPRODUCT((H17:H216=1)*(I17:I216))","v":26.739090064995342},{"$f":"SUMPRODUCT((H17:H216=2)*(I17:I216))","v":0.43414634146341413},null,null,{"$f":"IF(F222=\"\",0,F221*Variables!A7)","v":0}]
[2,{"$f":"Variables!E19 & \" (\"&Variables!A2&\"% / \"&Variables!A3&\"% / \"&Variables!A4&\"%)\"","v":"Total par TVA (7.7% / 2.5% / 0%)"},{"$f":"IF(Variables!A13=\"TTC\",C221,C221+C222)","v":374},{"$f":"IF(Variables!A13=\"TTC\",D221,D221+D222)","v":17.8},{"$f":"IF(H17=3,G17,0)+IF(H18=3,G18,0)+IF(H19=3,G19,0)+IF(H20=3,G20,0)+IF(H21=3,G21,0)+IF(H22=3,G22,0)+IF(H23=3,G23,0)+IF(H24=3,G24,0)+IF(H25=3,G25,0)+IF(H26=3,G26,0)+IF(H27=3,G27,0)+IF(H28=3,G28,0)+IF(H29=3,G29,0)+IF(H30=3,G30,0)+IF(H31=3,G31,0)+IF(H32=3,G32,0)+IF(H33=3,G33,0)+IF(H34=3,G34,0)+IF(H35=3,G35,0)+IF(H36=3,G36,0)+IF(H37=3,G37,0)+IF(H38=3,G38,0)+IF(H39=3,G39,0)+IF(H40=3,G40,0)+IF(H41=3,G41,0)+IF(H42=3,G42,0)+IF(H43=3,G43,0)+IF(H44=3,G44,0)+IF(H45=3,G45,0)+IF(H46=3,G46,0)+IF(H47=3,G47,0)+IF(H48=3,G48,0)+IF(H49=3,G49,0)+IF(H50=3,G50,0)","v":0},null,{"$f":"SUMPRODUCT((H17:H216=0)*(G17:G216))","v":0}]
[{"$f":"IF(ISBLANK(A223),\"\",VLOOKUP(A223,Variables!$C$1:$D$17,2))","v":"Payable net à l'échéance : Postfinance, 3030 Berne\nIBAN : CH03 0900 0000 1012 3456 7\nBIC/SWIFT : POFICHBEXXX\nAvec nos remerciements anticipés"}]
[]
[{"$f":"IF(OR(A222=0.1,A222=0),0,VLOOKUP(A222,Variables!$M$1:$N$17,2))","v":0}]

{"sheet":"Articles","index":10,"n_rows":1004,"n_cols":36,"rows_kept":1004,"cut":false,"hidden":false,"merged":[]}
[]
[null,null,"PVB Moy",null,null,null,"PAN Moy",null,null,null,"T. Stock","T. Val. St.","T. Cum E.","T. Cum S.","T. Ent.","T. Sort.",null,null,null,null,null,null,null,null,null,null,"T. d. PV","T. St. In",null,"T. PropCd","T. Cde",null,null,null,"T. vt PA","T.v.sPV"]
[null,null,{"$f":"SUM(C5:C3005)/COUNTA(C5:C3005)","v":1478.71998997996},null,null,null,{"$f":"SUM(G5:G3005)/COUNTA(G5:G3005)","v":890.31858693467348},null,null,null,{"$f":"SUM(K5:K3005)","v":1099.3},676466.84799999988,1779,1220.7,0,0,null,null,null,null,null,null,null,null,null,null,{"$f":"SUM(AA5:AA3005)","v":91892.020000000019},{"$f":"SUM(AB5:AB3005)","v":541},null,{"$f":"SUMIF(AD5:AD3005,\">0\")","v":301.95},{"$f":"SUM(AE5:AE3005)","v":133},null,null,null,{"$f":"SUM(AI5:AI3005)","v":57574.626599999974},{"$f":"SUM(AJ5:AJ3005)","v":1127714.2999999998}]
[{"$f":"Variables!I2","v":"Réf."},{"$f":"Variables!I3","v":"Désignation"},{"$f":"Variables!I4","v":"Prix vente 1"},{"$f":"Variables!I5","v":"Commande"},{"$f":"Variables!I6","v":"Empl. dans Stock"},{"$f":"Variables!I7","v":"Unité"},{"$f":"Variables!I8","v":"Prix achat"},{"$f":"Variables!I9","v":"Code TVA"},{"$f":"Variables!I10","v":"N° article Fourn"},{"$f":"Variables!I11","v":"N° fournisseur"},{"$f":"Variables!I12","v":"Stock"},{"$f":"Variables!I13","v":"Valeur stock"},{"$f":"Variables!I14","v":"Cumul Entrées"},{"$f":"Variables!I15","v":"Cumul Sorties"},{"$f":"Variables!I16","v":"Entrée"},{"$f":"Variables!I17","v":"Sortie"},{"$f":"Variables!I18","v":"Catégorie"},{"$f":"Variables!I19","v":"PrixNetFourn"},{"$f":"Variables!I20","v":"Kurs"},{"$f":"Variables!I21","v":"Prix vente 2"},{"$f":"Variables!I22","v":"Prix vente 3"},{"$f":"Variables!I23","v":"Prix vente 4"},"Cde Fourn 1","Cde Fourn 2","Cde Fourn 3","Cde Fourn 4",{"$f":"Variables!I28","v":"PVT"},{"$f":"Variables!I29","v":"St Init."},{"$f":"Variables!I30","v":"St. Mini"},{"$f":"Variables!I31","v":"PropCde"},{"$f":"Variables!I32","v":"Cde"},{"$f":"Variables!I33","v":"Date de Cde"},{"$f":"Variables!I34","v":"Champ libre pas effacer"},{"$f":"Variables!I35","v":"Poids (Kg)"},{"$f":"Variables!I36","v":"PAT (ventes au prix d'achat total)"},{"$f":"Variables!I37","v":"Val St au PV"}]
[0,"Article 0 Ne pas effacer ni modifier cette position",null,null,null,null,null,null,null,null,{"$f":"AB5+M5-N5","v":0},{"$f":"G5*K5","v":0},null,null,null,null,null,null,null,null,null,null,null,null,null,null,null,null,null,{"$f":"AC5-K5","v":0},null,null,null,null,null,{"$f":"C5*K5","v":0}]
[1000,"IMPORTANT: Quand vous facturez un article, il se place en feuille \"Factures1\" sur une (1) ligne. Si l'article fait plus qu'une ligne, pressez \"Preview & impression\", puis \"Fermer\" pour afficher toutes les lignes",985,null,null,null,378,1,null,null,{"$f":"AB6+M6-N6","v":4},{"$f":"G6*K6","v":1512},6,2,null,null,null,null,null,null,null,null,null,null,null,null,2000,null,null,{"$f":"AC6-K6","v":-4},null,null,null,0.185,1000,{"$f":"C6*K6","v":3940}]
[1001,"Astérix le Gaulois",14.8,null,null,"BD",9.92,2,9782203001120,3,{"$f":"AB7+M7-N7","v":11},{"$f":"G7*K7","v":109.12},20,11,null,null,null,8.6999999999999993,null,null,null,null,null,null,null,null,98.42,2,10,{"$f":"AC7-K7","v":-1},null,null,null,0.185,69.44,{"$f":"C7*K7","v":162.80000000000001}]
[1002,"Astérix La Serpe d'Or",14.8,null,null,"BD",9.92,2,9782203001134,3,{"$f":"AB8+M8-N8","v":7},{"$f":"G8*K8","v":69.44},10,5,null,null,null,8.6999999999999993,null,null,null,null,null,null,null,null,62.9,2,4,{"$f":"AC8-K8","v":-3},null,null,null,0.185,49.6,{"$f":"C8*K8","v":103.60000000000001}]
[1003,"Astérix et les Goths",14.8,null,null,"BD",9.92,2,9782203001146,3,{"$f":"AB9+M9-N9","v":4},{"$f":"G9*K9","v":39.68},10,8,null,null,null,8.6999999999999993,null,null,null,null,35,null,null,null,null,2,35,{"$f":"AC9-K9","v":31},35,"2019-07-20",null,0.185,null,{"$f":"C9*K9","v":59.2}]
[1004,"Astérix Gladiateur",14.8,null,null,"BD",9.92,2,9782203001151,3,{"$f":"AB10+M10-N10","v":9},{"$f":"G10*K10","v":89.28},10,3,null,null,null,8.6999999999999993,null,null,null,null,null,null,null,null,26.64,2,10,{"$f":"AC10-K10","v":1},null,null,null,0.185,19.84,{"$f":"C10*K10","v":133.20000000000002}]
[1005,"Astérix Le Tour de Gaulle",14.8,null,null,"BD",9.92,2,9782203001169,3,12,119.03999999999999,10,0,null,null,null,8.6999999999999993,null,null,null,null,null,null,null,null,null,2,10,-2,null,null,null,0.185,null,177.60000000000002]
[1006,"Astérix et Cléopatre",14.8,null,null,"BD",9.92,2,9782203001173,3,7,69.44,10,5,null,null,null,8.6999999999999993,null,null,null,null,null,null,null,null,56.24,2,10,3,null,null,null,0.185,39.68,103.60000000000001]
[1007,"Astérix Le Combat des Chefs",14.8,null,null,"BD",9.92,2,9782203001187,3,2,19.84,10,10,null,null,null,8.6999999999999993,null,null,null,null,25,null,null,null,null,2,10,8,25,"2019-07-20",null,0.185,null,29.6]
[1008,"Astérix chez les Bretons",14.8,null,null,"BD",9.92,2,9782203001198,3,5,49.6,10,7,null,null,null,8.6999999999999993,null,null,null,null,null,null,null,null,95.46,2,5,0,null,null,null,0.185,69.44,74]
[1009,"Astérix et les Normands",14.8,null,null,"BD",9.92,2,9782203001202,3,10,99.2,10,2,null,null,null,8.6999999999999993,null,null,null,null,null,null,null,null,14.8,2,10,0,null,null,null,0.185,9.92,148]
[1010,"Astérix Légionnaire",14.8,null,null,"BD",9.92,2,9782203001215,3,7,69.44,10,5,null,null,null,8.6999999999999993,null,null,null,null,null,null,null,null,68.08,2,10,3,null,null,null,0.185,49.6,103.60000000000001]
[1011,"Astérix Le Bouclier Arverne",14.8,null,null,"BD",9.92,2,9782203001229,3,7,69.44,10,5,null,null,null,8.6999999999999993,null,null,null,null,null,null,null,null,68.08,2,10,3,null,null,null,0.185,49.6,103.60000000000001]
[1012,"Astérix aux Jeux Olympiques",14.8,null,null,"BD",9.92,2,9782203001230,3,5,49.6,10,7,null,null,null,8.6999999999999993,null,null,null,null,null,null,null,null,80.66,2,5,0,null,null,null,0.185,59.52,74]
[1013,"Tintin au Congo",17.8,null,null,"BD",11.926,2,9782203001244,3,7,83.481999999999999,10,5,null,null,null,10.27,null,null,null,null,null,null,null,null,81.88,2,2,-5,null,null,null,0.219,59.63,124.60000000000001]
[1014,"Tintin en Amérique",17.8,null,null,"BD",11.926,2,9782203001257,3,7,83.481999999999999,10,5,null,null,null,10.27,null,null,null,null,null,null,null,null,85.44,2,1,-6,null,null,null,0.219,59.63,124.60000000000001]
[1015,"Tintin Les Cigares du Pharaon",17.8,null,null,"BD",11.926,2,9782203001269,3,8,95.408000000000001,10,4,null,null,null,10.27,null,null,null,null,null,null,null,null,51.62,2,10,2,null,null,null,0.219,35.777999999999999,142.4]
[1016,"Tintin Le Lotus Bleu",17.8,null,null,"BD",11.926,2,9782203001275,3,7,83.481999999999999,20,15,null,null,null,10.27,null,null,null,null,null,null,null,null,119.438,2,10,3,null,null,null,0.219,95.408000000000001,124.60000000000001]
[1017,"Tintin L'Oreille Cassée",17.8,null,null,"BD",11.926,2,9782203001282,3,0,0,10,12,null,null,null,10.27,null,null,null,null,25,null,null,null,53.4,2,10,10,25,"2019-07-20",null,0.219,35.777999999999999,0]
[1018,"Tintin On a marché sur la Lune",17.8,null,null,"BD",11.926,2,9782203001291,3,2,23.852,10,10,null,null,null,10.27,null,null,null,null,5,null,null,null,148.63,2,10,8,5,"2019-07-20",null,0.219,107.334,35.6]
[1019,"Tintin et les Picaros",17.8,null,null,"BD",11.926,2,9782203001308,3,2,23.852,10,10,null,null,null,10.27,null,null,null,null,8,null,null,null,162.87,2,10,8,8,"2019-07-20",null,0.219,119.26,35.6]
[1020,"Peinture intérieur dispersion\nChambre Ouest Surface murale: 128m2\nLe prix comprend:\n- fourniture à pied d’oeuvre des matériaux et matériels nécessaires;\n- protection des parties d’ouvrage non concernées;\n- grattage des peintures existantes;\n- brossage à la brosse métallique, lavage, jusqu’à l’obtention d’un support propre;\n- 1 couche d’impression;\n- nettoyage après travaux",1034,null,null,"Forfait",null,1,null,null,-2,0,4,7,null,null,null,null,null,null,null,null,null,null,null,null,2103.5,1,5,7,null,null,null,null,70.135000000000005,-2068]
[1021,"Apple MacBook Pro 13\" with Touch Bar, Intel Core i5 (2x 2.9GHz), 8.0GB, 256GB, Space Gray, Swiss keyboard layout",1789,null,null,"Informat.",1501,1,null,null,-2,-3002,1,4,null,null,null,null,null,null,null,null,null,null,null,null,1836.04,1,2,4,null,null,null,0.6,1542.8320000000001,-3578]
[1050,"Article n° 1050",1050,null,null,"Unité",630,1,null,null,4,2520,3,1,null,null,null,null,null,null,null,null,null,null,null,null,892.5,2,7,3,null,null,null,0.45,630,4200]
[1051,"Article n° 1051",1051,null,null,"Unité",630.6,1,null,null,4,2522.4,4,1,null,null,null,null,null,null,null,null,null,null,null,null,31,1,2,-2,null,null,null,0.95,25.73,4204]
[1052,"Article n° 1052",1052,null,null,"Unité",631.20000000000005,1,null,null,4,2524.8000000000002,1,2,null,null,null,null,null,null,null,null,null,null,null,null,298.72000000000003,5,8,4,null,null,null,0.9,247.9376,4208]
[1053,"Article n° 1053",1053,null,null,"Unité",631.79999999999995,1,null,null,0,0,1,2,null,null,null,null,null,null,null,null,null,null,null,null,98.28,1,2,2,null,null,null,2.1,81.572400000000002,0]
[1054,"Article n° 1054",1054,null,null,"Unité",632.4,1,null,null,2,1264.8,1,0,null,null,null,null,null,null,null,null,null,null,null,null,null,1,2,0,null,null,null,0.3,null,2108]
[1055,"Article n° 1055",1055,null,null,"Unité",633,1,null,null,2,1266,2,1,null,null,null,null,null,null,null,null,null,null,null,null,22.94,1,2,0,null,null,null,0.98,19.040199999999999,2110]
[1056,"Article n° 1056",1056,null,null,"Unité",633.6,1,null,null,2,1267.2,1,2,null,null,null,null,null,null,null,null,null,null,null,null,350.29750000000001,3,4,2,null,null,null,10.9,314.32100000000003,2112]
[1057,"Article n° 1057",1057,null,null,"Unité",634.20000000000005,1,null,null,2,1268.4000000000001,1,0,null,null,null,null,null,null,null,null,null,null,null,null,null,1,2,0,null,null,null,5.9,null,2114]
[1058,"Article n° 1058",1058,null,null,"Unité",634.79999999999995,1,null,null,22,13965.599999999999,21,2,null,null,null,null,null,null,null,null,null,null,null,null,2010.2,3,2,-20,null,null,null,0.15,1269.5999999999999,23276]
[1059,"Article n° 1059",1059,null,null,"Unité",635.4,1,null,null,20,12708,22,3,null,null,null,null,null,null,null,null,null,null,null,null,3.9,1,1,-19,null,null,null,0.19,3.2370000000000001,21180]
[1060,"Article n° 1060",1060,null,null,"Unité",636,1,null,null,21,13356,21,3,null,null,null,null,null,null,null,null,null,null,null,null,3.9,3,2,-19,null,null,null,0.21,3.2370000000000001,22260]
[1061,"Article n° 1061",1061,null,null,"Unité",636.6,1,null,null,48,30556.800000000003,300,253,null,null,null,null,null,null,null,null,null,null,null,null,3444.5250000000001,1,2,-46,null,null,null,1.7,2268.7750000000001,50928]
[1062,"Article n° 1062",1062,null,null,"Unité",637.20000000000005,1,null,null,42,26762.400000000001,180,141,null,null,null,null,null,null,null,null,null,null,null,null,3757.482,3,2,-40,null,null,null,0.9,2674.4364000000005,44604]
[1063,"Article n° 1063",1063,null,null,"Unité",637.79999999999995,1,null,null,3,1913.3999999999999,2,0,null,null,null,null,null,null,null,null,null,null,null,null,null,1,1,-2,null,null,null,0.25,null,3189]
[1064,"Article n° 1064",1064,null,null,"Unité",638.4,1,null,null,4,2553.6,1,0,null,null,null,null,null,null,null,null,null,null,null,null,null,3,2,-2,null,null,null,0.7,null,4256]
[1065,"Article n° 1065",1065,null,null,"Unité",639,1,null,null,2,1278,1,0,null,null,null,null,null,null,null,null,null,null,null,null,null,1,20,18,null,null,null,0.9,null,2130]
[1066,"Article n° 1066",1066,null,null,"Unité",639.6,1,null,null,7,4477.2,0,0,null,null,null,null,null,null,null,null,null,null,null,null,null,7,2,-5,null,null,null,0.75,null,7462]
[1067,"Article n° 1067",1067,null,null,"Unité",640.20000000000005,1,null,null,2,1280.4000000000001,1,3,null,null,null,null,null,null,null,null,null,null,null,null,1313.3139999999999,4,2,0,null,null,null,20.9,916.55680000000007,2134]
[1068,"Article n° 1068",1068,null,null,"Unité",640.79999999999995,1,null,null,5,3204,2,0,null,null,null,null,null,null,null,null,null,null,null,null,null,3,2,-3,null,null,null,10.9,null,5340]
[1069,"Article n° 1069",1069,null,null,"Unité",641.4,1,null,null,2,1282.8,1,0,null,null,null,null,null,null,null,null,null,null,null,null,null,1,2,0,null,null,null,1.1000000000000001,null,2138]
[1070,"Article n° 1070",1070,null,null,"Unité",642,1,null,null,1,642,1,0,null,null,null,null,null,null,null,null,null,null,null,null,null,0,2,1,null,null,null,1.1000000000000001,null,1070]
[1071,"Article n° 1071",1071,null,null,"Unité",642.6,1,null,null,1,642.6,1,0,null,null,null,null,null,null,null,null,null,null,null,null,null,0,2,1,null,null,null,1.1000000000000001,null,1071]
[1072,"Article n° 1072",1072,null,null,"Unité",643.20000000000005,1,null,null,2,1286.4000000000001,2,4,null,null,null,null,null,null,null,null,null,null,null,null,67.12,4,2,0,null,null,null,1.1000000000000001,57.052,2144]
[1073,"Article n° 1073",1073,null,null,"Unité",643.79999999999995,1,null,null,4,2575.1999999999998,1,0,null,null,null,null,null,null,null,null,null,null,null,null,null,3,2,-2,null,null,null,1,null,4292]
[1074,"Article n° 1074",1074,null,null,"Unité",644.4,1,null,null,2,1288.8,1,0,null,null,null,null,null,null,null,null,null,null,null,null,null,1,2,0,null,null,null,1.4,null,2148]
[1075,"Article n° 1075",1075,null,null,"Unité",645,1,null,null,8,5160,1,0,null,null,null,null,null,null,null,null,null,null,null,null,null,7,2,-6,null,null,null,2.12,null,8600]
[1076,"Article n° 1076",1076,null,null,"Unité",645.6,1,null,null,3,1936.8000000000002,1,2,null,null,null,null,null,null,null,null,null,null,null,null,24.8,4,2,-1,null,null,null,1.39,20.584,3228]
[1077,"Article n° 1077",1077,null,null,"Unité",646.20000000000005,1,null,null,2,1292.4000000000001,1,2,null,null,null,null,null,null,null,null,null,null,null,null,206.64,3,2,0,null,null,null,2.78,171.5112,2154]
[1078,"Article n° 1078",1078,null,null,"Unité",646.79999999999995,1,null,null,2,1293.5999999999999,1,0,null,null,null,null,null,null,null,null,null,null,null,null,null,1,2,0,null,null,null,null,null,2156]
[1079,"Article n° 1079",1079,null,null,"Unité",647.4,1,null,null,4,2589.6,2,1,null,null,null,null,null,null,null,null,null,null,null,null,68,3,2,-2,null,null,null,1.3,54.2,4316]
[1080,"Article n° 1080",1080,null,null,"Unité",648,1,null,null,8,5184,1,0,null,null,null,null,null,null,null,null,null,null,null,null,null,7,2,-6,null,null,null,0.1,null,8640]
[1081,"Article n° 1081",1081,null,null,"Unité",648.6,1,null,null,5,3243,1,0,null,null,null,null,null,null,null,null,null,null,null,null,null,4,2,-3,null,null,null,0.1,null,5405]
[1082,"Article n° 1082",1082,null,null,"Unité",649.20000000000005,1,null,null,3,1947.6000000000001,0,0,null,null,null,null,null,null,null,null,null,null,null,null,null,3,2,-1,null,null,null,0.08,null,3246]
[1083,"Article n° 1083",1083,null,null,"Unité",649.79999999999995,1,null,null,2,1299.5999999999999,1,0,null,null,null,null,null,null,null,null,null,null,null,null,null,1,2,0,null,null,null,0.09,null,2166]
[1084,"Article n° 1084",1084,null,null,"Unité",650.4,1,null,null,5,3252,2,0,null,null,null,null,null,null,null,null,null,null,null,null,null,3,2,-3,null,null,null,0.12,null,5420]
[1085,"Article n° 1085",1085,null,null,"Unité",651,1,null,null,-5.25,-3417.75,1,13.25,null,null,null,null,null,null,null,null,null,null,null,null,13476.5,7,2,7.25,null,null,null,0.03,8136.6,-5696.25]
[1086,"Article n° 1086",1086,null,null,"Unité",651.6,1,null,null,2,1303.2,1,3,null,null,null,null,null,null,null,null,null,null,null,null,135.15,4,2,0,null,null,null,0.03,112.17449999999999,2172]
[1087,"Article n° 1087",1087,null,null,"Unité",652.20000000000005,1,null,null,4,2608.8000000000002,1,0,null,null,null,null,null,null,null,null,null,null,null,null,null,3,2,-2,null,null,null,1,null,4348]
[1088,"Article n° 1088",1088,null,null,"Unité",652.79999999999995,1,null,null,2,1305.5999999999999,2,1,null,null,null,null,null,null,null,null,null,null,null,null,18,1,2,0,null,null,null,0.78,13.12,2176]
[1089,"Article n° 1089",1089,null,null,"Unité",653.4,1,null,null,3,1960.1999999999998,1,1,null,null,null,null,null,null,null,null,null,null,null,null,450,3,2,-1,null,null,null,null,450,3267]
[1090,"Article n° 1090",1090,null,null,"Unité",654,1,null,null,3,1962,1,1,null,null,null,null,null,null,null,null,null,null,null,null,225,3,2,-1,null,null,null,null,225,3270]
[1091,"Article n° 1091",1091,null,null,"Unité",654.6,1,null,null,3,1963.8000000000002,2,3,null,null,null,null,null,null,null,null,null,null,null,null,240,4,2,-1,null,null,null,null,135,3273]
[1092,"Article n° 1092",1092,null,null,"Unité",655.20000000000005,1,"XV54T",3,18,11793.6,150,135,null,null,null,null,null,null,null,null,null,null,null,null,174.8,3,2,-16,null,null,null,0.1,74,19656]
[1093,"Article n° 1093",1093,null,null,"Unité",655.8,1,null,null,-7,-4590.5999999999995,1,15,null,null,null,null,null,null,null,null,null,null,null,null,198.9,7,2,9,null,null,null,null,152.36000000000001,-7651]
[1094,"Article n° 1094",1094,null,null,"Unité",656.4,1,null,null,4,2625.6,0,0,null,null,null,null,null,null,null,null,null,null,null,null,null,4,2,-2,null,null,null,null,null,4376]
[1095,"Article n° 1095",1095,null,null,"Unité",657,1,null,null,1.5,985.5,0,1.5,null,null,null,null,null,null,null,null,null,null,null,null,147,3,2,0.5,null,null,null,null,122.01,1642.5]
[1096,"Article n° 1096",1096,null,null,"Unité",657.6,1,null,null,{"$f":"AB74+M74-N74","v":-11},{"$f":"G74*K74","v":-7233.6},1,13,null,null,null,null,null,null,null,null,null,null,null,null,6251.2,1,2,{"$f":"AC74-K74","v":13},null,null,null,null,2880,{"$f":"C74*K74","v":-12056}]
[1097,"Article n° 1097",1097,null,null,"Unité",658.2,1,null,null,4,2632.8,1,4,null,null,null,null,null,null,null,null,null,null,null,null,21.3,7,2,-2,null,null,null,null,24,4388]
[1098,"Article n° 1098",1098,null,null,"Unité",658.8,1,null,null,6,3952.7999999999997,2,0,null,null,null,null,null,null,null,null,null,null,null,null,null,4,2,-4,null,null,null,null,null,6588]
[1099,"Article n° 1099",1099,null,null,"Unité",659.4,1,null,null,4,2637.6,6,5,null,null,null,null,null,null,null,null,null,null,null,null,274.5,3,2,-2,null,null,null,0.9,192.5,4396]
[1100,"Article n° 1100",1100,null,null,"Unité",660,1,null,null,0,0,1,2,null,null,null,null,null,null,null,null,null,null,null,null,45,1,2,2,null,null,null,1,25,0]
[1101,"Article n° 1101",1101,null,null,"Unité",660.6,1,null,null,7,4624.2,0,0,null,null,null,null,null,null,null,null,null,null,null,null,null,7,2,-5,null,null,null,1,null,7707]
[1102,"Article n° 1102",1102,null,null,"Unité",661.2,1,null,null,5,3306,1,0,null,null,null,null,null,null,null,null,null,null,null,null,null,4,2,-3,null,null,null,0.35,null,5510]
[1103,"Article n° 1103",1103,null,null,"Unité",661.8,1,null,null,5,3309,2,0,null,null,null,null,null,null,null,null,null,null,null,null,null,3,2,-3,null,null,null,0.35,null,5515]
[1104,"Article n° 1104",1104,null,null,"Unité",662.4,1,null,null,1,662.4,1,1,null,null,null,null,null,null,null,null,null,null,null,null,938.4,1,2,1,null,null,null,0.35,662.4,1104]
[1105,"Article n° 1105",1105,null,null,"Unité",663,1,null,null,98,64974,151,60,null,null,null,null,null,null,null,null,null,null,null,null,9970,7,2,-96,null,null,null,0.2,6648.5,108290]
[1106,"Article n° 1106",1106,null,null,"Unité",663.6,1,null,null,50.5,33511.800000000003,50,3.5,null,null,null,null,null,null,null,null,null,null,null,null,9.625,4,2,-48.5,null,null,null,1,6.8250000000000002,55853]
[1107,"Article n° 1107",1107,null,null,"Unité",664.2,1,null,null,1,664.2,0,2,null,null,null,null,null,null,null,null,null,null,null,null,119,3,2,1,null,null,null,null,116.2,1107]
[1108,"Article n° 1108",1108,null,null,"Unité",664.8,1,null,null,2,1329.6,1,0,null,null,null,null,null,null,null,null,null,null,null,null,null,1,2,0,null,null,null,null,null,2216]
[1109,"Article n° 1109",1109,null,null,"Unité",665.4,1,null,null,5,3327,2,0,null,null,null,null,null,null,null,null,null,null,null,null,null,3,2,-3,null,null,null,1,null,5545]
[1110,"Article n° 1110",1110,null,null,"Unité",666,1,null,null,0,0,0,0,null,null,null,null,null,null,null,null,null,null,null,null,null,null,2,2,null,null,null,null,null,0]
[1111,"Article n° 1111",1111,null,null,"Unité",666.6,1,null,null,-17.5,-11665.5,0,17.5,null,null,null,null,null,null,null,null,null,null,null,null,2467.5,null,2,19.5,null,null,null,null,1820,-19442.5]
[1112,"Article n° 1112",1112,null,null,"Unité",667.2,1,null,null,-8,-5337.6,0,8,null,null,null,null,null,null,null,null,null,null,null,null,1016,null,2,10,null,null,null,null,1016,-8896]
[1113,"Article n° 1113",1113,null,null,"Unité",667.8,1,null,null,7,4674.5999999999995,1,1,null,null,null,null,null,null,null,null,null,null,null,null,1735.33,7,2,-5,null,null,null,2.1,1501,7791]
[1114,"Article n° 1114",1114,null,null,"Unité",668.4,1,null,null,4,2673.6,1,1,null,null,null,null,null,null,null,null,null,null,null,null,458,4,2,-2,null,null,null,0.6,397,4456]
[1115,"Article n° 1115",1115,null,null,"Unité",669,1,null,null,4,2676,1,0,null,null,null,null,null,null,null,null,null,null,null,null,null,3,2,-2,null,null,null,1.1000000000000001,null,4460]
[1116,"Article n° 1116",1116,null,null,"Unité",669.6,1,null,null,2,1339.2,1,0,null,null,null,null,null,null,null,null,null,null,null,null,null,1,2,0,null,null,null,0.9,null,2232]
[1117,"Article n° 1117",1117,null,null,"Unité",670.2,1,null,null,4,2680.8,1,0,null,null,null,null,null,null,null,null,null,null,null,null,null,3,2,-2,null,null,null,1,null,4468]
[1118,"Article n° 1118",1118,null,null,"Unité",670.8,1,null,null,5,3354,0,2,null,null,null,null,null,null,null,null,null,null,null,null,4.05,7,2,-3,null,null,null,1,2.52,5590]
[1119,"Article n° 1119",1119,null,null,"Unité",671.4,1,null,null,5,3357,1,0,null,null,null,null,null,null,null,null,null,null,null,null,null,4,2,-3,null,null,null,0.09,null,5595]
[1120,"Article n° 1120",1120,null,null,"Unité",672,1,null,null,5,3360,2,0,null,null,null,null,null,null,null,null,null,null,null,null,null,3,2,-3,null,null,null,1,null,5600]
[1121,"Article n° 1121",1121,null,null,"Unité",672.6,1,null,null,3,2017.8000000000002,1,1,null,null,null,null,null,null,null,null,null,null,null,null,9.3000000000000007,3,2,-1,null,null,null,0.3,4.46,3363]
[1122,"Article n° 1122",1122,null,null,"Unité",673.2,1,null,null,6,4039.2000000000003,1,1,null,null,null,null,null,null,null,null,null,null,null,null,1122,6,2,-4,null,null,null,1,673.2,6732]
[1123,"Article n° 1123",1123,null,null,"Unité",673.8,1,null,null,5.25,3537.45,2,3.75,null,null,null,null,null,null,null,null,null,null,null,null,1045.075,7,2,-3.25,null,null,null,3,696.625,5895.75]
[1124,"Article n° 1124",1124,null,null,"Unité",674.4,1,null,null,-47.2,-31831.68,0,47.2,null,null,null,null,null,null,null,null,null,null,null,null,698.62,null,null,47.2,null,null,null,null,403.2,-53052.800000000003]
[1125,"Article n° 1125",1125,null,null,"Unité",675,1,null,null,3,2025,1,1,null,null,null,null,null,null,null,null,null,null,null,null,956.25,3,2,-1,null,null,null,1,675,3375]
[1126,"Article n° 1126",1126,null,null,"Unité",675.6,1,null,null,1,675.6,0,0,null,null,null,null,null,null,null,null,null,null,null,null,null,1,2,1,null,null,null,0.99,null,1126]
[1127,"Article n° 1127",1127,null,null,"Unité",676.2,1,null,null,7,4733.4000000000005,2,2,null,null,null,null,null,null,null,null,null,null,null,null,440,7,2,-5,null,null,null,3.5,365.2,7889]
[1128,"Article n° 1128",1128,null,null,"Unité",676.8,1,null,null,5,3384,1,0,null,null,null,null,null,null,null,null,null,null,null,null,null,4,2,-3,null,null,null,null,null,5640]
[1129,"Article n° 1129",1129,null,null,"Unité",677.4,1,null,null,1.5,1016.0999999999999,1,2.5,null,null,null,null,null,null,null,null,null,null,null,null,150,3,2,0.5,null,null,null,null,90,1693.5]
[1130,"Article n° 1130",1130,null,null,"Unité",678,1,null,null,3,2034,10,8,null,null,null,null,null,null,null,null,null,null,null,null,2085.3544999999999,1,2,-1,null,null,null,null,1364.1,3390]
[1131,"Article n° 1131",1131,null,null,"Unité",678.6,1,null,null,3,2035.8000000000002,1,1,null,null,null,null,null,null,null,null,null,null,null,null,27,3,2,-1,null,null,null,null,18,3393]
[1132,"Article n° 1132",1132,null,null,"Unité",679.2,1,null,null,3,2037.6000000000001,2,6,null,null,null,null,null,null,null,null,null,null,null,null,1557.0150000000001,7,2,-1,null,null,null,4,1060.6500000000001,3396]
[1133,"Article n° 1133",1133,null,null,"Unité",679.8,1,null,null,3,2039.3999999999999,1,2,null,null,null,null,null,null,null,null,null,null,null,null,2152.6999999999998,4,2,-1,null,null,null,4,1359.6,3399]
[1134,"Article n° 1134",1134,null,null,"Unité",680.4,1,null,null,7,4762.8,6,2,null,null,null,null,null,null,null,null,null,null,null,null,2268,3,2,-5,null,null,null,4,1360.8,7938]
[1135,"Article n° 1135",1135,null,null,"Unité",681,1,null,null,5,3405,7,3,null,null,null,null,null,null,null,null,null,null,null,null,3405,1,2,-3,null,null,null,null,2043,5675]
[1136,"Article n° 1136",1136,null,null,"Unité",681.6,1,null,null,4,2726.4,1,0,null,null,null,null,null,null,null,null,null,null,null,null,null,3,2,-2,null,null,null,1,null,4544]
[1137,"Article n° 1137",1137,null,null,"Unité",682.2,1,null,null,2,1364.4,2,3,null,null,null,null,null,null,null,null,null,null,null,null,237,3,2,0,null,null,null,null,142.19999999999999,2274]
[1138,"Article n° 1138",1138,null,null,"Unité",682.8,1,null,null,2,1365.6,1,2,null,null,null,null,null,null,null,null,null,null,null,null,1208,3,2,0,null,null,null,null,724.8,2276]
[1139,"Article n° 1139",1139,null,null,"Unité",683.4,1,null,null,3,2050.1999999999998,2,2,null,null,null,null,null,null,null,null,null,null,null,null,128.20500000000001,3,2,-1,null,null,null,2.5,115.038,3417]
[1140,"Article n° 1140",1140,null,null,"Unité",684,1,null,null,2,1368,1,0,null,null,null,null,null,null,null,null,null,null,null,null,null,1,2,0,null,null,null,0.15,null,2280]
[1141,"Article n° 1141",1141,null,null,"Unité",684.6,1,null,null,6,4107.6000000000004,1,2,null,null,null,null,null,null,null,null,null,null,null,null,190,7,2,-4,null,null,null,1.1000000000000001,157.69999999999999,6846]
[1142,"Article n° 1142",1142,null,null,"Unité",685.2,1,null,null,8,5481.6,1,0,null,null,null,null,null,null,null,null,null,null,null,null,null,7,2,-6,null,null,null,null,null,9136]
[1143,"Article n° 1143",1143,null,null,"Unité",685.8,1,null,null,6,4114.7999999999993,2,0,null,null,null,null,null,null,null,null,null,null,null,null,null,4,2,-4,null,null,null,null,null,6858]
[1144,"Article n° 1144",1144,null,null,"Unité",686.4,1,null,null,4,2745.6,1,0,null,null,null,null,null,null,null,null,null,null,null,null,null,3,2,-2,null,null,null,null,null,4576]
[1145,"Article n° 1145",1145,null,null,"Unité",687,1,null,null,1,687,1,1,null,null,null,null,null,null,null,null,null,null,null,null,10,1,2,1,null,null,null,null,8,1145]
[1146,"Article n° 1146",1146,null,null,"Unité",687.6,1,null,null,3,2062.8000000000002,0,0,null,null,null,null,null,null,null,null,null,null,null,null,null,3,2,-1,null,null,null,null,null,3438]
[1147,"Article n° 1147",1147,null,null,"Unité",688.2,1,null,null,3,2064.6000000000004,1,1,null,null,null,null,null,null,null,null,null,null,null,null,1147,3,2,-1,null,null,null,null,688.2,3441]
[1148,"Article n° 1148",1148,null,null,"Unité",688.8,1,null,null,5,3444,2,0,null,null,null,null,null,null,null,null,null,null,null,null,null,3,2,-3,null,null,null,null,null,5740]
[1149,"Article n° 1149",1149,null,null,"Unité",689.4,1,null,null,7,4825.8,1,1,null,null,null,null,null,null,null,null,null,null,null,null,1034.0999999999999,7,2,-5,null,null,null,null,689.4,8043]
[1150,"Article n° 1150",1150,null,null,"Unité",690,1,null,null,5,3450,1,0,null,null,null,null,null,null,null,null,null,null,null,null,null,4,2,-3,null,null,null,null,null,5750]
[1151,"Article n° 1151",1151,null,null,"Unité",690.6,1,null,null,1,690.6,0,2,null,null,null,null,null,null,null,null,null,null,null,null,42,3,2,1,null,null,null,null,33.6,1151]
[1152,"Article n° 1152",1152,null,null,"Unité",691.2,1,null,null,2,1382.4,1,0,null,null,null,null,null,null,null,null,null,null,null,null,null,1,2,0,null,null,null,null,null,2304]
[1153,"Article n° 1153",1153,null,null,"Unité",691.8,1,null,null,5,3459,2,0,null,null,null,null,null,null,null,null,null,null,null,null,null,3,2,-3,null,null,null,null,null,5765]
[1154,"Article n° 1154",1154,null,null,"Unité",692.4,1,null,null,4,2769.6,1,0,null,null,null,null,null,null,null,null,null,null,null,null,null,3,2,-2,null,null,null,null,null,4616]
[1155,"Article n° 1155",1155,null,null,"Unité",693,1,null,null,4,2772,1,0,null,null,null,null,null,null,null,null,null,null,null,null,null,3,2,-2,null,null,null,4.5,null,4620]
[1156,"Article n° 1156",1156,null,null,"Unité",693.6,1,null,null,26,18033.600000000002,24,1,null,null,null,null,null,null,null,null,null,null,null,null,1156,3,2,-24,null,null,null,7,693.6,30056]
[1157,"Article n° 1157",1157,null,null,"Unité",694.2,1,null,null,3,2082.6000000000004,0,0,null,null,null,null,null,null,null,null,null,null,null,null,null,3,2,-1,null,null,null,12,null,3471]
[1158,"Article n° 1158",1158,null,null,"Unité",694.8,1,null,null,4,2779.2,1,0,null,null,null,null,null,null,null,null,null,null,null,null,null,3,2,-2,null,null,null,4.5,null,4632]
[1159,"Article n° 1159",1159,null,null,"Unité",695.4,1,null,null,9,6258.5999999999995,2,0,null,null,null,null,null,null,null,null,null,null,null,null,null,7,2,-7,null,null,null,1.9,null,10431]
[1160,"Article n° 1160",1160,null,null,"Unité",696,1,null,null,{"$f":"AB138+M138-N138","v":3},{"$f":"G138*K138","v":2088},1,2,null,null,null,null,null,null,null,null,null,null,null,null,36,4,2,{"$f":"AC138-K138","v":-1},null,null,null,0.9,29.88,{"$f":"C138*K138","v":3480}]
[1161,"Article n° 1161",1161,null,null,"Unité",696.6,1,null,null,4,2786.4,1,0,null,null,null,null,null,null,null,null,null,null,null,null,null,3,2,-2,null,null,null,0.3,null,4644]
[1162,"Article n° 1162",1162,null,null,"Unité",697.2,1,null,null,24,16732.800000000003,24,1,null,null,null,null,null,null,null,null,null,null,null,null,1162,1,2,-22,null,null,null,0.3,697.2,27888]
[1163,"Article n° 1163",1163,null,null,"Unité",697.8,1,null,null,3,2093.3999999999996,0,0,null,null,null,null,null,null,null,null,null,null,null,null,null,3,7,4,null,null,null,2.5,null,3489]
[1164,"Article n° 1164",1164,null,null,"Unité",698.4,1,null,null,8,5587.2,1,0,null,null,null,null,null,null,null,null,null,null,null,null,null,7,4,-4,null,null,null,1,null,9312]
[1165,"Article n° 1165",1165,null,null,"Unité",699,1,null,null,6,4194,2,0,null,null,null,null,null,null,null,null,null,null,null,null,null,4,3,-3,null,null,null,1,null,6990]
[1166,"Article n° 1166",1166,null,null,"Unité",699.6,1,null,null,4,2798.4,1,0,null,null,null,null,null,null,null,null,null,null,null,null,null,3,1,-3,null,null,null,1,null,4664]
[1167,"Article n° 1167",1167,null,null,"Unité",700.2,1,null,null,2,1400.4,1,0,null,null,null,null,null,null,null,null,null,null,null,null,null,1,2,0,null,null,null,1,null,2334]
[1168,"Article n° 1168",1168,null,null,"Unité",700.8,1,null,null,27,18921.599999999999,24,0,null,null,null,null,null,null,null,null,null,null,null,null,null,3,2,-25,null,null,null,1,null,31536]
[1169,"Article n° 1169",1169,null,null,"Unité",701.4,1,null,null,7,4909.8,0,0,null,null,null,null,null,null,null,null,null,null,null,null,null,7,2,-5,null,null,null,1,null,8183]
[1170,"Article n° 1170",1170,null,null,"Unité",702,1,null,null,5,3510,1,0,null,null,null,null,null,null,null,null,null,null,null,null,null,4,2,-3,null,null,null,1,null,5850]
[1171,"Article n° 1171",1171,null,null,"Unité",702.6,1,null,null,4,2810.4,2,1,null,null,null,null,null,null,null,null,null,null,null,null,1171,3,2,-2,null,null,null,1,702.6,4684]
[1172,"Article n° 1172",1172,null,null,"Unité",703.2,1,null,null,2,1406.4,1,0,null,null,null,null,null,null,null,null,null,null,null,null,null,1,2,0,null,null,null,1,null,2344]
[1173,"Article n° 1173",1173,null,null,"Unité",703.8,1,null,null,4,2815.2,1,0,null,null,null,null,null,null,null,null,null,null,null,null,null,3,2,-2,null,null,null,1,null,4692]
[1174,"Article n° 1174",1174,null,null,"Unité",704.4,1,null,null,0,0,0,0,null,null,null,null,null,null,null,null,null,null,null,null,null,null,null,0,null,null,null,null,null,0]
[1175,"Article n° 1175",1175,null,null,"Unité",705,1,null,null,-5,-3525,0,5,null,null,null,null,null,null,null,null,null,null,null,null,780,null,null,5,null,null,null,null,260,-5875]
[1176,"Article n° 1176",1176,null,null,"Unité",705.6,1,null,null,8,5644.8,1,0,null,null,null,null,null,null,null,null,null,null,null,null,null,7,4,-4,null,null,null,0.36,null,9408]
[1177,"Article n° 1177",1177,null,null,"Unité",706.2,1,null,null,6,4237.2000000000007,2,0,null,null,null,null,null,null,null,null,null,null,null,null,null,4,3,-3,null,null,null,0.57999999999999996,null,7062]
[1178,"Article n° 1178",1178,null,null,"Unité",706.8,1,null,null,4,2827.2,1,0,null,null,null,null,null,null,null,null,null,null,null,null,null,3,1,-3,null,null,null,1.6,null,4712]
[1179,"Article n° 1179",1179,null,null,"Unité",707.4,1,null,null,2,1414.8,1,0,null,null,null,null,null,null,null,null,null,null,null,null,null,1,2,0,null,null,null,3.8,null,2358]
[1180,"Article n° 1180",1180,null,null,"Unité",708,1,null,null,27,19116,24,0,null,null,null,null,null,null,null,null,null,null,null,null,null,3,2,-25,null,null,null,4.8,null,31860]
[1181,"Article n° 1181",1181,null,null,"Unité",708.6,1,null,null,6,4251.6000000000004,0,1,null,null,null,null,null,null,null,null,null,null,null,null,8.0500000000000007,7,2,-4,null,null,null,1.6,6.6814999999999998,7086]
[1182,"Article n° 1182",1182,null,null,"Unité",709.2,1,null,null,5,3546,1,0,null,null,null,null,null,null,null,null,null,null,null,null,null,4,2,-3,null,null,null,1.6,null,5910]
[1183,"Article n° 1183",1183,null,null,"Unité",709.8,1,null,null,5,3549,2,0,null,null,null,null,null,null,null,null,null,null,null,null,null,3,2,-3,null,null,null,3.2,null,5915]
[1184,"Article n° 1184",1184,null,null,"Unité",710.4,1,null,null,2,1420.8,1,0,null,null,null,null,null,null,null,null,null,null,null,null,null,1,7,5,null,null,null,3.2,null,2368]
[1185,"Article n° 1185",1185,null,null,"Unité",711,1,null,null,14,9954,31,20,null,null,null,null,null,null,null,null,null,null,null,null,238.4,3,4,-10,null,null,null,0.5,197.87199999999999,16590]
[1186,"Article n° 1186",1186,null,null,"Unité",711.6,1,null,null,27,19213.2,24,0,null,null,null,null,null,null,null,null,null,null,null,null,null,3,3,-24,null,null,null,4.5,null,32022]
[1187,"Article n° 1187",1187,null,null,"Unité",712.2,1,null,null,3,2136.6000000000004,0,0,null,null,null,null,null,null,null,null,null,null,null,null,null,3,1,-2,null,null,null,1,null,3561]
[1188,"Article n° 1188",1188,null,null,"Unité",712.8,1,null,null,5.5,3920.3999999999996,5,2.5,null,null,null,null,null,null,null,null,null,null,null,null,22.375,3,2,-3.5,null,null,null,1.1000000000000001,15.574999999999999,6534]
[1189,"Article n° 1189",1189,null,null,"Unité",713.4,1,null,null,8,5707.2,1,0,null,null,null,null,null,null,null,null,null,null,null,null,null,7,2,-6,null,null,null,0.6,null,9512]
[1190,"Article n° 1190",1190,null,null,"Unité",714,1,null,null,7,4998,0,0,null,null,null,null,null,null,null,null,null,null,null,null,null,7,2,-5,null,null,null,1.1000000000000001,null,8330]
[1191,"Article n° 1191",1191,null,null,"Unité",714.6,1,null,null,4,2858.4,1,0,null,null,null,null,null,null,null,null,null,null,null,null,null,3,2,-2,null,null,null,2.7,null,4764]
[1192,"Article n° 1192",1192,null,null,"Unité",715.2,1,null,null,4,2860.8,1,0,null,null,null,null,null,null,null,null,null,null,null,null,null,3,2,-2,null,null,null,0.95,null,4768]
[1193,"Article n° 1193",1193,null,null,"Unité",715.8,1,null,null,5,3579,1,0,null,null,null,null,null,null,null,null,null,null,null,null,null,4,2,-3,null,null,null,1,null,5965]
[1194,"Article n° 1194",1194,null,null,"Unité",716.4,1,null,null,1,716.4,1,1,null,null,null,null,null,null,null,null,null,null,null,null,14.5,1,2,1,null,null,null,0.4,9.91,1194]
[1195,"Article n° 1195",1195,null,null,"Unité",717,1,null,null,21,15057,25,7,null,null,null,null,null,null,null,null,null,null,null,null,32.200000000000003,3,2,-19,null,null,null,0.09,19.95,25095]
[1196,"Article n° 1196",1196,null,null,"Unité",717.6,1,null,null,85,60996,102,24,null,null,null,null,null,null,null,null,null,null,null,null,455,7,2,-83,null,null,null,0.36499999999999999,0,101660]
[1197,"Article n° 1197",1197,null,null,"Unité",718.2,1,null,null,3,2154.6000000000004,36,37,null,null,null,null,null,null,null,null,null,null,null,null,353.8,4,2,-1,null,null,null,0.34,391,3591]
[1198,"Article n° 1198",1198,null,null,"Unité",718.8,1,null,null,4,2875.2,1,0,null,null,null,null,null,null,null,null,null,null,null,null,null,3,2,-2,null,null,null,0.1,null,4792]
[1199,"Article n° 1199",1199,null,null,"Unité",719.4,1,null,null,3,2158.1999999999998,0,0,null,null,null,null,null,null,null,null,null,null,null,null,null,3,2,-1,null,null,null,0.3,null,3597]
[1200,"Article n° 1200",1200,null,null,"Unité",720,1,null,null,31,22320,50,22,null,null,null,null,null,null,null,null,null,null,null,null,2411.9,3,2,-29,null,null,null,0.1,1453.6,37200]
[1201,"Article n° 1201",1201,null,null,"Unité",720.6,1,null,null,-1,-720.6,1,5,null,null,null,null,null,null,null,null,10,null,null,null,4.25,3,2,3,10,null,null,0.1,3.4,-1201]
[1202,"Article n° 1202",1202,null,null,"Unité",721.2,1,null,null,2,1442.4,2,1,null,null,null,null,null,null,null,null,null,null,null,null,2.6,1,2,0,null,null,null,0.2,2.08,2404]
[1203,"Article n° 1203",1203,null,null,"Unité",721.8,1,null,null,2,1443.6,1,2,null,null,null,null,null,null,null,null,null,null,null,null,22,3,2,0,null,null,null,1,17.600000000000001,2406]
[1204,"Article n° 1204",1204,null,null,"Unité",722.4,1,null,null,4,2889.6,0,0,null,null,null,null,null,null,null,null,null,null,null,null,null,4,2,-2,null,null,null,0.1,null,4816]
[1205,"Article n° 1205",1205,null,null,"Unité",723,1,null,null,0,0,null,0,null,null,null,null,null,null,null,null,null,null,null,null,null,null,null,0,null,null,null,null,null,0]
[1206,"Article n° 1206",1206,null,null,"Unité",723.6,1,null,null,0,0,null,null,null,null,null,null,null,null,null,null,null,null,null,null,null,null,null,0,null,null,null,null,null,0]
[1207,"Article n° 1207",1207,null,null,"Unité",724.2,1,null,null,0,0,null,null,null,null,null,null,null,null,null,null,null,null,null,null,null,null,null,0,null,null,null,null,null,0]
[1208,"Article n° 1208",1208,null,null,"Unité",724.8,1,null,null,0,0,null,null,null,null,null,null,null,null,null,null,null,null,null,null,null,null,null,0,null,null,null,null,null,0]
[1209,"Article n° 1209",1209,null,null,"Unité",725.4,1,null,null,0,0,null,null,null,null,null,null,null,null,null,null,null,null,null,null,null,null,null,0,null,null,null,null,null,0]
[1210,"Article n° 1210",1210,null,null,"Unité",726,1,null,null,0,0,null,null,null,null,null,null,null,null,null,null,null,null,null,null,null,null,null,0,null,null,null,null,null,0]
[1211,"Article n° 1211",1211,null,null,"Unité",726.6,1,null,null,0,0,null,null,null,null,null,null,null,null,null,null,null,null,null,null,null,null,null,0,null,null,null,null,null,0]
[1212,"Article n° 1212",1212,null,null,"Unité",727.2,1,null,null,0,0,null,null,null,null,null,null,null,null,null,null,null,null,null,null,null,null,null,0,null,null,null,null,null,0]
[1213,"Article n° 1213",1213,null,null,"Unité",727.8,1,null,null,0,0,null,null,null,null,null,null,null,null,null,null,null,null,null,null,null,null,null,0,null,null,null,null,null,0]
[1214,"Article n° 1214",1214,null,null,"Unité",728.4,1,null,null,0,0,null,null,null,null,null,null,null,null,null,null,null,null,null,null,null,null,null,0,null,null,null,null,null,0]
[1215,"Article n° 1215",1215,null,null,"Unité",729,1,null,null,0,0,null,null,null,null,null,null,null,null,null,null,null,null,null,null,null,null,null,0,null,null,null,null,null,0]
[1216,"Article n° 1216",1216,null,null,"Unité",729.6,1,null,null,0,0,null,null,null,null,null,null,null,null,null,null,null,null,null,null,null,null,null,0,null,null,null,null,null,0]
[1217,"Article n° 1217",1217,null,null,"Unité",730.2,1,null,null,0,0,null,null,null,null,null,null,null,null,null,null,null,null,null,null,null,null,null,0,null,null,null,null,null,0]
[1218,"Article n° 1218",1218,null,null,"Unité",730.8,1,null,null,0,0,null,null,null,null,null,null,null,null,null,null,null,null,null,null,null,null,null,0,null,null,null,null,null,0]
[1219,"Article n° 1219",1219,null,null,"Unité",731.4,1,null,null,0,0,null,null,null,null,null,null,null,null,null,null,null,null,null,null,null,null,null,0,null,null,null,null,null,0]
[1220,"Article n° 1220",1220,null,null,"Unité",732,1,null,null,0,0,null,null,null,null,null,null,null,null,null,null,null,null,null,null,null,null,null,0,null,null,null,null,null,0]
[1221,"Article n° 1221",1221,null,null,"Unité",732.6,1,null,null,0,0,null,null,null,null,null,null,null,null,null,null,null,null,null,null,null,null,null,0,null,null,null,null,null,0]
[1222,"Article n° 1222",1222,null,null,"Unité",733.2,1,null,null,0,0,null,null,null,null,null,null,null,null,null,null,null,null,null,null,null,null,null,0,null,null,null,null,null,0]
[1223,"Article n° 1223",1223,null,null,"Unité",733.8,1,null,null,0,0,null,null,null,null,null,null,null,null,null,null,null,null,null,null,null,null,null,0,null,null,null,null,null,0]
[1224,"Article n° 1224",1224,null,null,"Unité",734.4,1,null,null,{"$f":"AB202+M202-N202","v":0},{"$f":"G202*K202","v":0},null,null,null,null,null,null,null,null,null,null,null,null,null,null,null,null,null,{"$f":"AC202-K202","v":0},null,null,null,null,null,{"$f":"C202*K202","v":0}]
[1225,"Article n° 1225",1225,null,null,"Unité",735,1,null,null,-1,-735,null,1,null,null,null,null,null,null,null,null,null,null,null,null,1225,null,null,1,null,null,null,null,735,-1225]
[1226,"Article n° 1226",1226,null,null,"Unité",735.6,1,null,null,0,0,null,null,null,null,null,null,null,null,null,null,null,null,null,null,null,null,null,0,null,null,null,null,null,0]
[1227,"Article n° 1227",1227,null,null,"Unité",736.2,1,null,null,0,0,null,null,null,null,null,null,null,null,null,null,null,null,null,null,null,null,null,0,null,null,null,null,null,0]
[1228,"Article n° 1228",1228,null,null,"Unité",736.8,1,null,null,0,0,null,null,null,null,null,null,null,null,null,null,null,null,null,null,null,null,null,0,null,null,null,null,null,0]
[1229,"Article n° 1229",1229,null,null,"Unité",737.4,1,null,null,0,0,null,null,null,null,null,null,null,null,null,null,null,null,null,null,null,null,null,0,null,null,null,null,null,0]
[1230,"Article n° 1230",1230,null,null,"Unité",738,1,null,null,0,0,null,null,null,null,null,null,null,null,null,null,null,null,null,null,null,null,null,0,null,null,null,null,null,0]
[1231,"Article n° 1231",1231,null,null,"Unité",738.6,1,null,null,0,0,null,null,null,null,null,null,null,null,null,null,null,null,null,null,null,null,null,0,null,null,null,null,null,0]
[1232,"Article n° 1232",1232,null,null,"Unité",739.2,1,null,null,0,0,null,null,null,null,null,null,null,null,null,null,null,null,null,null,null,null,null,0,null,null,null,null,null,0]
[1233,"Article n° 1233",1233,null,null,"Unité",739.8,1,null,null,0,0,null,null,null,null,null,null,null,null,null,null,null,null,null,null,null,null,null,0,null,null,null,null,null,0]
[1234,"Article n° 1234",1234,null,null,"Unité",740.4,1,null,null,5,3702,6,1,null,null,null,null,null,null,null,null,null,null,null,null,1172.3,null,null,-5,null,null,null,null,740.4,6170]
[1235,"Article n° 1235",1235,null,null,"Unité",741,1,null,null,0,0,null,null,null,null,null,null,null,null,null,null,null,null,null,null,null,null,null,0,null,null,null,null,null,0]
[1236,"Article n° 1236",1236,null,null,"Unité",741.6,1,null,null,0,0,null,null,null,null,null,null,null,null,null,null,null,null,null,null,null,null,null,0,null,null,null,null,null,0]
[1237,"Article n° 1237",1237,null,null,"Unité",742.2,1,null,null,0,0,null,null,null,null,null,null,null,null,null,null,null,null,null,null,null,null,null,0,null,null,null,null,null,0]
[1238,"Article n° 1238",1238,null,null,"Unité",742.8,1,null,null,0,0,null,null,null,null,null,null,null,null,null,null,null,null,null,null,null,null,null,0,null,null,null,null,null,0]
[1239,"Article n° 1239",1239,null,null,"Unité",743.4,1,null,null,0,0,null,null,null,null,null,null,null,null,null,null,null,null,null,null,null,null,null,0,null,null,null,null,null,0]
[1240,"Article n° 1240",1240,null,null,"Unité",744,1,null,null,0,0,null,null,null,null,null,null,null,null,null,null,null,null,null,null,null,null,null,0,null,null,null,null,null,0]
[1241,"Article n° 1241",1241,null,null,"Unité",744.6,1,null,null,0,0,null,null,null,null,null,null,null,null,null,null,null,null,null,null,null,null,null,0,null,null,null,null,null,0]
[1242,"Article n° 1242",1242,null,null,"Unité",745.2,1,null,null,0,0,null,null,null,null,null,null,null,null,null,null,null,null,null,null,null,null,null,0,null,null,null,null,null,0]
[1243,"Article n° 1243",1243,null,null,"Unité",745.8,1,null,null,0,0,null,null,null,null,null,null,null,null,null,null,null,null,null,null,null,null,null,0,null,null,null,null,null,0]
[1244,"Article n° 1244",1244,null,null,"Unité",746.4,1,null,null,0,0,null,null,null,null,null,null,null,null,null,null,null,null,null,null,null,null,null,0,null,null,null,null,null,0]
[1245,"Article n° 1245",1245,null,null,"Unité",747,1,null,null,0,0,null,null,null,null,null,null,null,null,null,null,null,null,null,null,null,null,null,0,null,null,null,null,null,0]
[1246,"Article n° 1246",1246,null,null,"Unité",747.6,1,null,null,0,0,null,null,null,null,null,null,null,null,null,null,null,null,null,null,null,null,null,0,null,null,null,null,null,0]
[1247,"Article n° 1247",1247,null,null,"Unité",748.2,1,null,null,0,0,null,null,null,null,null,null,null,null,null,null,null,null,null,null,null,null,null,0,null,null,null,null,null,0]
[1248,"Article n° 1248",1248,null,null,"Unité",748.8,1,null,null,0,0,null,null,null,null,null,null,null,null,null,null,null,null,null,null,null,null,null,0,null,null,null,null,null,0]
[1249,"Article n° 1249",1249,null,null,"Unité",749.4,1,null,null,0,0,null,null,null,null,null,null,null,null,null,null,null,null,null,null,null,null,null,0,null,null,null,null,null,0]
[1250,"Article n° 1250",1250,null,null,"Unité",750,1,null,null,0,0,null,null,null,null,null,null,null,null,null,null,null,null,null,null,null,null,null,0,null,null,null,null,null,0]
[1251,"Article n° 1251",1251,null,null,"Unité",750.6,1,null,null,0,0,null,null,null,null,null,null,null,null,null,null,null,null,null,null,null,null,null,0,null,null,null,null,null,0]
[1252,"Article n° 1252",1252,null,null,"Unité",751.2,1,null,null,0,0,null,null,null,null,null,null,null,null,null,null,null,null,null,null,null,null,null,0,null,null,null,null,null,0]
[1253,"Article n° 1253",1253,null,null,"Unité",751.8,1,null,null,0,0,null,null,null,null,null,null,null,null,null,null,null,null,null,null,null,null,null,0,null,null,null,null,null,0]
[1254,"Article n° 1254",1254,null,null,"Unité",752.4,1,null,null,0,0,null,null,null,null,null,null,null,null,null,null,null,null,null,null,null,null,null,0,null,null,null,null,null,0]
[1255,"Article n° 1255",1255,null,null,"Unité",753,1,null,null,0,0,null,null,null,null,null,null,null,null,null,null,null,null,null,null,null,null,null,0,null,null,null,null,null,0]
[1256,"Article n° 1256",1256,null,null,"Unité",753.6,1,null,null,0,0,null,null,null,null,null,null,null,null,null,null,null,null,null,null,null,null,null,0,null,null,null,null,null,0]
[1257,"Article n° 1257",1257,null,null,"Unité",754.2,1,null,null,0,0,null,null,null,null,null,null,null,null,null,null,null,null,null,null,null,null,null,0,null,null,null,null,null,0]
[1258,"Article n° 1258",1258,null,null,"Unité",754.8,1,null,null,0,0,null,null,null,null,null,null,null,null,null,null,null,null,null,null,null,null,null,0,null,null,null,null,null,0]
[1259,"Article n° 1259",1259,null,null,"Unité",755.4,1,null,null,0,0,null,null,null,null,null,null,null,null,null,null,null,null,null,null,null,null,null,0,null,null,null,null,null,0]
[1260,"Article n° 1260",1260,null,null,"Unité",756,1,null,null,0,0,null,null,null,null,null,null,null,null,null,null,null,null,null,null,null,null,null,0,null,null,null,null,null,0]
[1261,"Article n° 1261",1261,null,null,"Unité",756.6,1,null,null,0,0,null,null,null,null,null,null,null,null,null,null,null,null,null,null,null,null,null,0,null,null,null,null,null,0]
[1262,"Article n° 1262",1262,null,null,"Unité",757.2,1,null,null,0,0,null,null,null,null,null,null,null,null,null,null,null,null,null,null,null,null,null,0,null,null,null,null,null,0]
[1263,"Article n° 1263",1263,null,null,"Unité",757.8,1,null,null,0,0,null,null,null,null,null,null,null,null,null,null,null,null,null,null,null,null,null,0,null,null,null,null,null,0]
[1264,"Article n° 1264",1264,null,null,"Unité",758.4,1,null,null,0,0,null,null,null,null,null,null,null,null,null,null,null,null,null,null,null,null,null,0,null,null,null,null,null,0]
[1265,"Article n° 1265",1265,null,null,"Unité",759,1,null,null,0,0,null,null,null,null,null,null,null,null,null,null,null,null,null,null,null,null,null,0,null,null,null,null,null,0]
[1266,"Article n° 1266",1266,null,null,"Unité",759.6,1,null,null,0,0,null,null,null,null,null,null,null,null,null,null,null,null,null,null,null,null,null,0,null,null,null,null,null,0]
[1267,"Article n° 1267",1267,null,null,"Unité",760.2,1,null,null,0,0,null,null,null,null,null,null,null,null,null,null,null,null,null,null,null,null,null,0,null,null,null,null,null,0]
[1268,"Article n° 1268",1268,null,null,"Unité",760.8,1,null,null,0,0,null,null,null,null,null,null,null,null,null,null,null,null,null,null,null,null,null,0,null,null,null,null,null,0]
[1269,"Article n° 1269",1269,null,null,"Unité",761.4,1,null,null,0,0,null,null,null,null,null,null,null,null,null,null,null,null,null,null,null,null,null,0,null,null,null,null,null,0]
[1270,"Article n° 1270",1270,null,null,"Unité",762,1,null,null,0,0,null,null,null,null,null,null,null,null,null,null,null,null,null,null,null,null,null,0,null,null,null,null,null,0]
[1271,"Article n° 1271",1271,null,null,"Unité",762.6,1,null,null,0,0,null,null,null,null,null,null,null,null,null,null,null,null,null,null,null,null,null,0,null,null,null,null,null,0]
[1272,"Article n° 1272",1272,null,null,"Unité",763.2,1,null,null,0,0,null,null,null,null,null,null,null,null,null,null,null,null,null,null,null,null,null,0,null,null,null,null,null,0]
[1273,"Article n° 1273",1273,null,null,"Unité",763.8,1,null,null,0,0,null,null,null,null,null,null,null,null,null,null,null,null,null,null,null,null,null,0,null,null,null,null,null,0]
[1274,"Article n° 1274",1274,null,null,"Unité",764.4,1,null,null,0,0,null,null,null,null,null,null,null,null,null,null,null,null,null,null,null,null,null,0,null,null,null,null,null,0]
[1275,"Article n° 1275",1275,null,null,"Unité",765,1,null,null,0,0,null,null,null,null,null,null,null,null,null,null,null,null,null,null,null,null,null,0,null,null,null,null,null,0]
[1276,"Article n° 1276",1276,null,null,"Unité",765.6,1,null,null,0,0,null,null,null,null,null,null,null,null,null,null,null,null,null,null,null,null,null,0,null,null,null,null,null,0]
[1277,"Article n° 1277",1277,null,null,"Unité",766.2,1,null,null,0,0,null,null,null,null,null,null,null,null,null,null,null,null,null,null,null,null,null,0,null,null,null,null,null,0]
[1278,"Article n° 1278",1278,null,null,"Unité",766.8,1,null,null,0,0,null,null,null,null,null,null,null,null,null,null,null,null,null,null,null,null,null,0,null,null,null,null,null,0]
[1279,"Article n° 1279",1279,null,null,"Unité",767.4,1,null,null,0,0,null,null,null,null,null,null,null,null,null,null,null,null,null,null,null,null,null,0,null,null,null,null,null,0]
[1280,"Article n° 1280",1280,null,null,"Unité",768,1,null,null,0,0,null,null,null,null,null,null,null,null,null,null,null,null,null,null,null,null,null,0,null,null,null,null,null,0]
[1281,"Article n° 1281",1281,null,null,"Unité",768.6,1,null,null,0,0,null,null,null,null,null,null,null,null,null,null,null,null,null,null,null,null,null,0,null,null,null,null,null,0]
[1282,"Article n° 1282",1282,null,null,"Unité",769.2,1,null,null,0,0,null,null,null,null,null,null,null,null,null,null,null,null,null,null,null,null,null,0,null,null,null,null,null,0]
[1283,"Article n° 1283",1283,null,null,"Unité",769.8,1,null,null,0,0,null,null,null,null,null,null,null,null,null,null,null,null,null,null,null,null,null,0,null,null,null,null,null,0]
[1284,"Article n° 1284",1284,null,null,"Unité",770.4,1,null,null,0,0,null,null,null,null,null,null,null,null,null,null,null,null,null,null,null,null,null,0,null,null,null,null,null,0]
[1285,"Article n° 1285",1285,null,null,"Unité",771,1,null,null,0,0,null,null,null,null,null,null,null,null,null,null,null,null,null,null,null,null,null,0,null,null,null,null,null,0]
[1286,"Article n° 1286",1286,null,null,"Unité",771.6,1,null,null,0,0,null,null,null,null,null,null,null,null,null,null,null,null,null,null,null,null,null,0,null,null,null,null,null,0]
[1287,"Article n° 1287",1287,null,null,"Unité",772.2,1,null,null,0,0,null,null,null,null,null,null,null,null,null,null,null,null,null,null,null,null,null,0,null,null,null,null,null,0]
[1288,"Article n° 1288",1288,null,null,"Unité",772.8,1,null,null,{"$f":"AB266+M266-N266","v":0},{"$f":"G266*K266","v":0},null,null,null,null,null,null,null,null,null,null,null,null,null,null,null,null,null,{"$f":"AC266-K266","v":0},null,null,null,null,null,{"$f":"C266*K266","v":0}]
[1289,"Article n° 1289",1289,null,null,"Unité",773.4,1,null,null,0,0,null,null,null,null,null,null,null,null,null,null,null,null,null,null,null,null,null,0,null,null,null,null,null,0]
[1290,"Article n° 1290",1290,null,null,"Unité",774,1,null,null,0,0,null,null,null,null,null,null,null,null,null,null,null,null,null,null,null,null,null,0,null,null,null,null,null,0]
[1291,"Article n° 1291",1291,null,null,"Unité",774.6,1,null,null,0,0,null,null,null,null,null,null,null,null,null,null,null,null,null,null,null,null,null,0,null,null,null,null,null,0]
[1292,"Article n° 1292",1292,null,null,"Unité",775.2,1,null,null,0,0,null,null,null,null,null,null,null,null,null,null,null,null,null,null,null,null,null,0,null,null,null,null,null,0]
[1293,"Article n° 1293",1293,null,null,"Unité",775.8,1,null,null,0,0,null,null,null,null,null,null,null,null,null,null,null,null,null,null,null,null,null,0,null,null,null,null,null,0]
[1294,"Article n° 1294",1294,null,null,"Unité",776.4,1,null,null,0,0,null,null,null,null,null,null,null,null,null,null,null,null,null,null,null,null,null,0,null,null,null,null,null,0]
[1295,"Article n° 1295",1295,null,null,"Unité",777,1,null,null,0,0,null,null,null,null,null,null,null,null,null,null,null,null,null,null,null,null,null,0,null,null,null,null,null,0]
[1296,"Article n° 1296",1296,null,null,"Unité",777.6,1,null,null,0,0,null,null,null,null,null,null,null,null,null,null,null,null,null,null,null,null,null,0,null,null,null,null,null,0]
[1297,"Article n° 1297",1297,null,null,"Unité",778.2,1,null,null,0,0,null,null,null,null,null,null,null,null,null,null,null,null,null,null,null,null,null,0,null,null,null,null,null,0]
[1298,"Article n° 1298",1298,null,null,"Unité",778.8,1,null,null,0,0,null,null,null,null,null,null,null,null,null,null,null,null,null,null,null,null,null,0,null,null,null,null,null,0]
[1299,"Article n° 1299",1299,null,null,"Unité",779.4,1,null,null,0,0,null,null,null,null,null,null,null,null,null,null,null,null,null,null,null,null,null,0,null,null,null,null,null,0]
[1300,"Article n° 1300",1300,null,null,"Unité",780,1,null,null,0,0,null,null,null,null,null,null,null,null,null,null,null,null,null,null,null,null,null,0,null,null,null,null,null,0]
[1301,"Article n° 1301",1301,null,null,"Unité",780.6,1,null,null,0,0,null,null,null,null,null,null,null,null,null,null,null,null,null,null,null,null,null,0,null,null,null,null,null,0]
[1302,"Article n° 1302",1302,null,null,"Unité",781.2,1,null,null,0,0,null,null,null,null,null,null,null,null,null,null,null,null,null,null,null,null,null,0,null,null,null,null,null,0]
[1303,"Article n° 1303",1303,null,null,"Unité",781.8,1,null,null,0,0,null,null,null,null,null,null,null,null,null,null,null,null,null,null,null,null,null,0,null,null,null,null,null,0]
[1304,"Article n° 1304",1304,null,null,"Unité",782.4,1,null,null,0,0,null,null,null,null,null,null,null,null,null,null,null,null,null,null,null,null,null,0,null,null,null,null,null,0]
[1305,"Article n° 1305",1305,null,null,"Unité",783,1,null,null,0,0,null,null,null,null,null,null,null,null,null,null,null,null,null,null,null,null,null,0,null,null,null,null,null,0]
[1306,"Article n° 1306",1306,null,null,"Unité",783.6,1,null,null,0,0,null,null,null,null,null,null,null,null,null,null,null,null,null,null,null,null,null,0,null,null,null,null,null,0]
[1307,"Article n° 1307",1307,null,null,"Unité",784.2,1,null,null,0,0,null,null,null,null,null,null,null,null,null,null,null,null,null,null,null,null,null,0,null,null,null,null,null,0]
[1308,"Article n° 1308",1308,null,null,"Unité",784.8,1,null,null,0,0,null,null,null,null,null,null,null,null,null,null,null,null,null,null,null,null,null,0,null,null,null,null,null,0]
[1309,"Article n° 1309",1309,null,null,"Unité",785.4,1,null,null,0,0,null,null,null,null,null,null,null,null,null,null,null,null,null,null,null,null,null,0,null,null,null,null,null,0]
[1310,"Article n° 1310",1310,null,null,"Unité",786,1,null,null,0,0,null,null,null,null,null,null,null,null,null,null,null,null,null,null,null,null,null,0,null,null,null,null,null,0]
[1311,"Article n° 1311",1311,null,null,"Unité",786.6,1,null,null,0,0,null,null,null,null,null,null,null,null,null,null,null,null,null,null,null,null,null,0,null,null,null,null,null,0]
[1312,"Article n° 1312",1312,null,null,"Unité",787.2,1,null,null,0,0,null,null,null,null,null,null,null,null,null,null,null,null,null,null,null,null,null,0,null,null,null,null,null,0]
[1313,"Article n° 1313",1313,null,null,"Unité",787.8,1,null,null,0,0,null,null,null,null,null,null,null,null,null,null,null,null,null,null,null,null,null,0,null,null,null,null,null,0]
[1314,"Article n° 1314",1314,null,null,"Unité",788.4,1,null,null,0,0,null,null,null,null,null,null,null,null,null,null,null,null,null,null,null,null,null,0,null,null,null,null,null,0]
[1315,"Article n° 1315",1315,null,null,"Unité",789,1,null,null,0,0,null,null,null,null,null,null,null,null,null,null,null,null,null,null,null,null,null,0,null,null,null,null,null,0]
[1316,"Article n° 1316",1316,null,null,"Unité",789.6,1,null,null,0,0,null,null,null,null,null,null,null,null,null,null,null,null,null,null,null,null,null,0,null,null,null,null,null,0]
[1317,"Article n° 1317",1317,null,null,"Unité",790.2,1,null,null,0,0,null,null,null,null,null,null,null,null,null,null,null,null,null,null,null,null,null,0,null,null,null,null,null,0]
[1318,"Article n° 1318",1318,null,null,"Unité",790.8,1,null,null,0,0,null,null,null,null,null,null,null,null,null,null,null,null,null,null,null,null,null,0,null,null,null,null,null,0]
[1319,"Article n° 1319",1319,null,null,"Unité",791.4,1,null,null,0,0,null,null,null,null,null,null,null,null,null,null,null,null,null,null,null,null,null,0,null,null,null,null,null,0]
[1320,"Article n° 1320",1320,null,null,"Unité",792,1,null,null,0,0,null,null,null,null,null,null,null,null,null,null,null,null,null,null,null,null,null,0,null,null,null,null,null,0]
[1321,"Article n° 1321",1321,null,null,"Unité",792.6,1,null,null,0,0,null,null,null,null,null,null,null,null,null,null,null,null,null,null,null,null,null,0,null,null,null,null,null,0]
[1322,"Article n° 1322",1322,null,null,"Unité",793.2,1,null,null,0,0,null,null,null,null,null,null,null,null,null,null,null,null,null,null,null,null,null,0,null,null,null,null,null,0]
[1323,"Article n° 1323",1323,null,null,"Unité",793.8,1,null,null,0,0,null,null,null,null,null,null,null,null,null,null,null,null,null,null,null,null,null,0,null,null,null,null,null,0]
[1324,"Article n° 1324",1324,null,null,"Unité",794.4,1,null,null,0,0,null,null,null,null,null,null,null,null,null,null,null,null,null,null,null,null,null,0,null,null,null,null,null,0]
[1325,"Article n° 1325",1325,null,null,"Unité",795,1,null,null,0,0,null,null,null,null,null,null,null,null,null,null,null,null,null,null,null,null,null,0,null,null,null,null,null,0]
[1326,"Article n° 1326",1326,null,null,"Unité",795.6,1,null,null,0,0,null,null,null,null,null,null,null,null,null,null,null,null,null,null,null,null,null,0,null,null,null,null,null,0]
[1327,"Article n° 1327",1327,null,null,"Unité",796.2,1,null,null,0,0,null,null,null,null,null,null,null,null,null,null,null,null,null,null,null,null,null,0,null,null,null,null,null,0]
[1328,"Article n° 1328",1328,null,null,"Unité",796.8,1,null,null,0,0,null,null,null,null,null,null,null,null,null,null,null,null,null,null,null,null,null,0,null,null,null,null,null,0]
[1329,"Article n° 1329",1329,null,null,"Unité",797.4,1,null,null,0,0,null,null,null,null,null,null,null,null,null,null,null,null,null,null,null,null,null,0,null,null,null,null,null,0]
[1330,"Article n° 1330",1330,null,null,"Unité",798,1,null,null,0,0,null,null,null,null,null,null,null,null,null,null,null,null,null,null,null,null,null,0,null,null,null,null,null,0]
[1331,"Article n° 1331",1331,null,null,"Unité",798.6,1,null,null,0,0,null,null,null,null,null,null,null,null,null,null,null,null,null,null,null,null,null,0,null,null,null,null,null,0]
[1332,"Article n° 1332",1332,null,null,"Unité",799.2,1,null,null,0,0,null,null,null,null,null,null,null,null,null,null,null,null,null,null,null,null,null,0,null,null,null,null,null,0]
[1333,"Article n° 1333",1333,null,null,"Unité",799.8,1,null,null,0,0,null,null,null,null,null,null,null,null,null,null,null,null,null,null,null,null,null,0,null,null,null,null,null,0]
[1334,"Article n° 1334",1334,null,null,"Unité",800.4,1,null,null,0,0,null,null,null,null,null,null,null,null,null,null,null,null,null,null,null,null,null,0,null,null,null,null,null,0]
[1335,"Article n° 1335",1335,null,null,"Unité",801,1,null,null,0,0,null,null,null,null,null,null,null,null,null,null,null,null,null,null,null,null,null,0,null,null,null,null,null,0]
[1336,"Article n° 1336",1336,null,null,"Unité",801.6,1,null,null,0,0,null,null,null,null,null,null,null,null,null,null,null,null,null,null,null,null,null,0,null,null,null,null,null,0]
[1337,"Article n° 1337",1337,null,null,"Unité",802.2,1,null,null,0,0,null,null,null,null,null,null,null,null,null,null,null,null,null,null,null,null,null,0,null,null,null,null,null,0]
[1338,"Article n° 1338",1338,null,null,"Unité",802.8,1,null,null,0,0,null,null,null,null,null,null,null,null,null,null,null,null,null,null,null,null,null,0,null,null,null,null,null,0]
[1339,"Article n° 1339",1339,null,null,"Unité",803.4,1,null,null,0,0,null,null,null,null,null,null,null,null,null,null,null,null,null,null,null,null,null,0,null,null,null,null,null,0]
[1340,"Article n° 1340",1340,null,null,"Unité",804,1,null,null,0,0,null,null,null,null,null,null,null,null,null,null,null,null,null,null,null,null,null,0,null,null,null,null,null,0]
[1341,"Article n° 1341",1341,null,null,"Unité",804.6,1,null,null,0,0,null,null,null,null,null,null,null,null,null,null,null,null,null,null,null,null,null,0,null,null,null,null,null,0]
[1342,"Article n° 1342",1342,null,null,"Unité",805.2,1,null,null,0,0,null,null,null,null,null,null,null,null,null,null,null,null,null,null,null,null,null,0,null,null,null,null,null,0]
[1343,"Article n° 1343",1343,null,null,"Unité",805.8,1,null,null,0,0,null,null,null,null,null,null,null,null,null,null,null,null,null,null,null,null,null,0,null,null,null,null,null,0]
[1344,"Article n° 1344",1344,null,null,"Unité",806.4,1,null,null,0,0,null,null,null,null,null,null,null,null,null,null,null,null,null,null,null,null,null,0,null,null,null,null,null,0]
[1345,"Article n° 1345",1345,null,null,"Unité",807,1,null,null,0,0,null,null,null,null,null,null,null,null,null,null,null,null,null,null,null,null,null,0,null,null,null,null,null,0]
[1346,"Article n° 1346",1346,null,null,"Unité",807.6,1,null,null,0,0,null,null,null,null,null,null,null,null,null,null,null,null,null,null,null,null,null,0,null,null,null,null,null,0]
[1347,"Article n° 1347",1347,null,null,"Unité",808.2,1,null,null,0,0,null,null,null,null,null,null,null,null,null,null,null,null,null,null,null,null,null,0,null,null,null,null,null,0]
[1348,"Article n° 1348",1348,null,null,"Unité",808.8,1,null,null,0,0,null,null,null,null,null,null,null,null,null,null,null,null,null,null,null,null,null,0,null,null,null,null,null,0]
[1349,"Article n° 1349",1349,null,null,"Unité",809.4,1,null,null,0,0,null,null,null,null,null,null,null,null,null,null,null,null,null,null,null,null,null,0,null,null,null,null,null,0]
[1350,"Article n° 1350",1350,null,null,"Unité",810,1,null,null,0,0,null,null,null,null,null,null,null,null,null,null,null,null,null,null,null,null,null,0,null,null,null,null,null,0]
[1351,"Article n° 1351",1351,null,null,"Unité",810.6,1,null,null,0,0,null,null,null,null,null,null,null,null,null,null,null,null,null,null,null,null,null,0,null,null,null,null,null,0]
[1352,"Article n° 1352",1352,null,null,"Unité",811.2,1,null,null,{"$f":"AB330+M330-N330","v":0},{"$f":"G330*K330","v":0},null,null,null,null,null,null,null,null,null,null,null,null,null,null,null,null,null,{"$f":"AC330-K330","v":0},null,null,null,null,null,{"$f":"C330*K330","v":0}]
[1353,"Article n° 1353",1353,null,null,"Unité",811.8,1,null,null,0,0,null,null,null,null,null,null,null,null,null,null,null,null,null,null,null,null,null,0,null,null,null,null,null,0]
[1354,"Article n° 1354",1354,null,null,"Unité",812.4,1,null,null,0,0,null,null,null,null,null,null,null,null,null,null,null,null,null,null,null,null,null,0,null,null,null,null,null,0]
[1355,"Article n° 1355",1355,null,null,"Unité",813,1,null,null,0,0,null,null,null,null,null,null,null,null,null,null,null,null,null,null,null,null,null,0,null,null,null,null,null,0]
[1356,"Article n° 1356",1356,null,null,"Unité",813.6,1,null,null,0,0,null,null,null,null,null,null,null,null,null,null,null,null,null,null,null,null,null,0,null,null,null,null,null,0]
[1357,"Article n° 1357",1357,null,null,"Unité",814.2,1,null,null,0,0,null,null,null,null,null,null,null,null,null,null,null,null,null,null,null,null,null,0,null,null,null,null,null,0]
[1358,"Article n° 1358",1358,null,null,"Unité",814.8,1,null,null,0,0,null,null,null,null,null,null,null,null,null,null,null,null,null,null,null,null,null,0,null,null,null,null,null,0]
[1359,"Article n° 1359",1359,null,null,"Unité",815.4,1,null,null,0,0,null,null,null,null,null,null,null,null,null,null,null,null,null,null,null,null,null,0,null,null,null,null,null,0]
[1360,"Article n° 1360",1360,null,null,"Unité",816,1,null,null,0,0,null,null,null,null,null,null,null,null,null,null,null,null,null,null,null,null,null,0,null,null,null,null,null,0]
[1361,"Article n° 1361",1361,null,null,"Unité",816.6,1,null,null,0,0,null,null,null,null,null,null,null,null,null,null,null,null,null,null,null,null,null,0,null,null,null,null,null,0]
[1362,"Article n° 1362",1362,null,null,"Unité",817.2,1,null,null,0,0,null,null,null,null,null,null,null,null,null,null,null,null,null,null,null,null,null,0,null,null,null,null,null,0]
[1363,"Article n° 1363",1363,null,null,"Unité",817.8,1,null,null,0,0,null,null,null,null,null,null,null,null,null,null,null,null,null,null,null,null,null,0,null,null,null,null,null,0]
[1364,"Article n° 1364",1364,null,null,"Unité",818.4,1,null,null,0,0,null,null,null,null,null,null,null,null,null,null,null,null,null,null,null,null,null,0,null,null,null,null,null,0]
[1365,"Article n° 1365",1365,null,null,"Unité",819,1,null,null,0,0,null,null,null,null,null,null,null,null,null,null,null,null,null,null,null,null,null,0,null,null,null,null,null,0]
[1366,"Article n° 1366",1366,null,null,"Unité",819.6,1,null,null,0,0,null,null,null,null,null,null,null,null,null,null,null,null,null,null,null,null,null,0,null,null,null,null,null,0]
[1367,"Article n° 1367",1367,null,null,"Unité",820.2,1,null,null,0,0,null,null,null,null,null,null,null,null,null,null,null,null,null,null,null,null,null,0,null,null,null,null,null,0]
[1368,"Article n° 1368",1368,null,null,"Unité",820.8,1,null,null,0,0,null,null,null,null,null,null,null,null,null,null,null,null,null,null,null,null,null,0,null,null,null,null,null,0]
[1369,"Article n° 1369",1369,null,null,"Unité",821.4,1,null,null,0,0,null,null,null,null,null,null,null,null,null,null,null,null,null,null,null,null,null,0,null,null,null,null,null,0]
[1370,"Article n° 1370",1370,null,null,"Unité",822,1,null,null,0,0,null,null,null,null,null,null,null,null,null,null,null,null,null,null,null,null,null,0,null,null,null,null,null,0]
[1371,"Article n° 1371",1371,null,null,"Unité",822.6,1,null,null,0,0,null,null,null,null,null,null,null,null,null,null,null,null,null,null,null,null,null,0,null,null,null,null,null,0]
[1372,"Article n° 1372",1372,null,null,"Unité",823.2,1,null,null,0,0,null,null,null,null,null,null,null,null,null,null,null,null,null,null,null,null,null,0,null,null,null,null,null,0]
[1373,"Article n° 1373",1373,null,null,"Unité",823.8,1,null,null,0,0,null,null,null,null,null,null,null,null,null,null,null,null,null,null,null,null,null,0,null,null,null,null,null,0]
[1374,"Article n° 1374",1374,null,null,"Unité",824.4,1,null,null,0,0,null,null,null,null,null,null,null,null,null,null,null,null,null,null,null,null,null,0,null,null,null,null,null,0]
[1375,"Article n° 1375",1375,null,null,"Unité",825,1,null,null,0,0,null,null,null,null,null,null,null,null,null,null,null,null,null,null,null,null,null,0,null,null,null,null,null,0]
[1376,"Article n° 1376",1376,null,null,"Unité",825.6,1,null,null,0,0,null,null,null,null,null,null,null,null,null,null,null,null,null,null,null,null,null,0,null,null,null,null,null,0]
[1377,"Article n° 1377",1377,null,null,"Unité",826.2,1,null,null,0,0,null,null,null,null,null,null,null,null,null,null,null,null,null,null,null,null,null,0,null,null,null,null,null,0]
[1378,"Article n° 1378",1378,null,null,"Unité",826.8,1,null,null,0,0,null,null,null,null,null,null,null,null,null,null,null,null,null,null,null,null,null,0,null,null,null,null,null,0]
[1379,"Article n° 1379",1379,null,null,"Unité",827.4,1,null,null,0,0,null,null,null,null,null,null,null,null,null,null,null,null,null,null,null,null,null,0,null,null,null,null,null,0]
[1380,"Article n° 1380",1380,null,null,"Unité",828,1,null,null,0,0,null,null,null,null,null,null,null,null,null,null,null,null,null,null,null,null,null,0,null,null,null,null,null,0]
[1381,"Article n° 1381",1381,null,null,"Unité",828.6,1,null,null,0,0,null,null,null,null,null,null,null,null,null,null,null,null,null,null,null,null,null,0,null,null,null,null,null,0]
[1382,"Article n° 1382",1382,null,null,"Unité",829.2,1,null,null,0,0,null,null,null,null,null,null,null,null,null,null,null,null,null,null,null,null,null,0,null,null,null,null,null,0]
[1383,"Article n° 1383",1383,null,null,"Unité",829.8,1,null,null,0,0,null,null,null,null,null,null,null,null,null,null,null,null,null,null,null,null,null,0,null,null,null,null,null,0]
[1384,"Article n° 1384",1384,null,null,"Unité",830.4,1,null,null,0,0,null,null,null,null,null,null,null,null,null,null,null,null,null,null,null,null,null,0,null,null,null,null,null,0]
[1385,"Article n° 1385",1385,null,null,"Unité",831,1,null,null,0,0,null,null,null,null,null,null,null,null,null,null,null,null,null,null,null,null,null,0,null,null,null,null,null,0]
[1386,"Article n° 1386",1386,null,null,"Unité",831.6,1,null,null,0,0,null,null,null,null,null,null,null,null,null,null,null,null,null,null,null,null,null,0,null,null,null,null,null,0]
[1387,"Article n° 1387",1387,null,null,"Unité",832.2,1,null,null,0,0,null,null,null,null,null,null,null,null,null,null,null,null,null,null,null,null,null,0,null,null,null,null,null,0]
[1388,"Article n° 1388",1388,null,null,"Unité",832.8,1,null,null,0,0,null,null,null,null,null,null,null,null,null,null,null,null,null,null,null,null,null,0,null,null,null,null,null,0]
[1389,"Article n° 1389",1389,null,null,"Unité",833.4,1,null,null,0,0,null,null,null,null,null,null,null,null,null,null,null,null,null,null,null,null,null,0,null,null,null,null,null,0]
[1390,"Article n° 1390",1390,null,null,"Unité",834,1,null,null,0,0,null,null,null,null,null,null,null,null,null,null,null,null,null,null,null,null,null,0,null,null,null,null,null,0]
[1391,"Article n° 1391",1391,null,null,"Unité",834.6,1,null,null,0,0,null,null,null,null,null,null,null,null,null,null,null,null,null,null,null,null,null,0,null,null,null,null,null,0]
[1392,"Article n° 1392",1392,null,null,"Unité",835.2,1,null,null,0,0,null,null,null,null,null,null,null,null,null,null,null,null,null,null,null,null,null,0,null,null,null,null,null,0]
[1393,"Article n° 1393",1393,null,null,"Unité",835.8,1,null,null,0,0,null,null,null,null,null,null,null,null,null,null,null,null,null,null,null,null,null,0,null,null,null,null,null,0]
[1394,"Article n° 1394",1394,null,null,"Unité",836.4,1,null,null,0,0,null,null,null,null,null,null,null,null,null,null,null,null,null,null,null,null,null,0,null,null,null,null,null,0]
[1395,"Article n° 1395",1395,null,null,"Unité",837,1,null,null,0,0,null,null,null,null,null,null,null,null,null,null,null,null,null,null,null,null,null,0,null,null,null,null,null,0]
[1396,"Article n° 1396",1396,null,null,"Unité",837.6,1,null,null,0,0,null,null,null,null,null,null,null,null,null,null,null,null,null,null,null,null,null,0,null,null,null,null,null,0]
[1397,"Article n° 1397",1397,null,null,"Unité",838.2,1,null,null,0,0,null,null,null,null,null,null,null,null,null,null,null,null,null,null,null,null,null,0,null,null,null,null,null,0]
[1398,"Article n° 1398",1398,null,null,"Unité",838.8,1,null,null,0,0,null,null,null,null,null,null,null,null,null,null,null,null,null,null,null,null,null,0,null,null,null,null,null,0]
[1399,"Article n° 1399",1399,null,null,"Unité",839.4,1,null,null,0,0,null,null,null,null,null,null,null,null,null,null,null,null,null,null,null,null,null,0,null,null,null,null,null,0]
[1400,"Article n° 1400",1400,null,null,"Unité",840,1,null,null,0,0,null,null,null,null,null,null,null,null,null,null,null,null,null,null,null,null,null,0,null,null,null,null,null,0]
[1401,"Article n° 1401",1401,null,null,"Unité",840.6,1,null,null,0,0,null,null,null,null,null,null,null,null,null,null,null,null,null,null,null,null,null,0,null,null,null,null,null,0]
[1402,"Article n° 1402",1402,null,null,"Unité",841.2,1,null,null,0,0,null,null,null,null,null,null,null,null,null,null,null,null,null,null,null,null,null,0,null,null,null,null,null,0]
[1403,"Article n° 1403",1403,null,null,"Unité",841.8,1,null,null,0,0,null,null,null,null,null,null,null,null,null,null,null,null,null,null,null,null,null,0,null,null,null,null,null,0]
[1404,"Article n° 1404",1404,null,null,"Unité",842.4,1,null,null,0,0,null,null,null,null,null,null,null,null,null,null,null,null,null,null,null,null,null,0,null,null,null,null,null,0]
[1405,"Article n° 1405",1405,null,null,"Unité",843,1,null,null,0,0,null,null,null,null,null,null,null,null,null,null,null,null,null,null,null,null,null,0,null,null,null,null,null,0]
[1406,"Article n° 1406",1406,null,null,"Unité",843.6,1,null,null,0,0,null,null,null,null,null,null,null,null,null,null,null,null,null,null,null,null,null,0,null,null,null,null,null,0]
[1407,"Article n° 1407",1407,null,null,"Unité",844.2,1,null,null,0,0,null,null,null,null,null,null,null,null,null,null,null,null,null,null,null,null,null,0,null,null,null,null,null,0]
[1408,"Article n° 1408",1408,null,null,"Unité",844.8,1,null,null,0,0,null,null,null,null,null,null,null,null,null,null,null,null,null,null,null,null,null,0,null,null,null,null,null,0]
[1409,"Article n° 1409",1409,null,null,"Unité",845.4,1,null,null,0,0,null,null,null,null,null,null,null,null,null,null,null,null,null,null,null,null,null,0,null,null,null,null,null,0]
[1410,"Article n° 1410",1410,null,null,"Unité",846,1,null,null,0,0,null,null,null,null,null,null,null,null,null,null,null,null,null,null,null,null,null,0,null,null,null,null,null,0]
[1411,"Article n° 1411",1411,null,null,"Unité",846.6,1,null,null,0,0,null,null,null,null,null,null,null,null,null,null,null,null,null,null,null,null,null,0,null,null,null,null,null,0]
[1412,"Article n° 1412",1412,null,null,"Unité",847.2,1,null,null,0,0,null,null,null,null,null,null,null,null,null,null,null,null,null,null,null,null,null,0,null,null,null,null,null,0]
[1413,"Article n° 1413",1413,null,null,"Unité",847.8,1,null,null,0,0,null,null,null,null,null,null,null,null,null,null,null,null,null,null,null,null,null,0,null,null,null,null,null,0]
[1414,"Article n° 1414",1414,null,null,"Unité",848.4,1,null,null,0,0,null,null,null,null,null,null,null,null,null,null,null,null,null,null,null,null,null,0,null,null,null,null,null,0]
[1415,"Article n° 1415",1415,null,null,"Unité",849,1,null,null,0,0,null,null,null,null,null,null,null,null,null,null,null,null,null,null,null,null,null,0,null,null,null,null,null,0]
[1416,"Article n° 1416",1416,null,null,"Unité",849.6,1,null,null,{"$f":"AB394+M394-N394","v":0},{"$f":"G394*K394","v":0},null,null,null,null,null,null,null,null,null,null,null,null,null,null,null,null,null,{"$f":"AC394-K394","v":0},null,null,null,null,null,{"$f":"C394*K394","v":0}]
[1417,"Article n° 1417",1417,null,null,"Unité",850.2,1,null,null,0,0,null,null,null,null,null,null,null,null,null,null,null,null,null,null,null,null,null,0,null,null,null,null,null,0]
[1418,"Article n° 1418",1418,null,null,"Unité",850.8,1,null,null,0,0,null,null,null,null,null,null,null,null,null,null,null,null,null,null,null,null,null,0,null,null,null,null,null,0]
[1419,"Article n° 1419",1419,null,null,"Unité",851.4,1,null,null,0,0,null,null,null,null,null,null,null,null,null,null,null,null,null,null,null,null,null,0,null,null,null,null,null,0]
[1420,"Article n° 1420",1420,null,null,"Unité",852,1,null,null,0,0,null,null,null,null,null,null,null,null,null,null,null,null,null,null,null,null,null,0,null,null,null,null,null,0]
[1421,"Article n° 1421",1421,null,null,"Unité",852.6,1,null,null,0,0,null,null,null,null,null,null,null,null,null,null,null,null,null,null,null,null,null,0,null,null,null,null,null,0]
[1422,"Article n° 1422",1422,null,null,"Unité",853.2,1,null,null,0,0,null,null,null,null,null,null,null,null,null,null,null,null,null,null,null,null,null,0,null,null,null,null,null,0]
[1423,"Article n° 1423",1423,null,null,"Unité",853.8,1,null,null,0,0,null,null,null,null,null,null,null,null,null,null,null,null,null,null,null,null,null,0,null,null,null,null,null,0]
[1424,"Article n° 1424",1424,null,null,"Unité",854.4,1,null,null,0,0,null,null,null,null,null,null,null,null,null,null,null,null,null,null,null,null,null,0,null,null,null,null,null,0]
[1425,"Article n° 1425",1425,null,null,"Unité",855,1,null,null,0,0,null,null,null,null,null,null,null,null,null,null,null,null,null,null,null,null,null,0,null,null,null,null,null,0]
[1426,"Article n° 1426",1426,null,null,"Unité",855.6,1,null,null,0,0,null,null,null,null,null,null,null,null,null,null,null,null,null,null,null,null,null,0,null,null,null,null,null,0]
[1427,"Article n° 1427",1427,null,null,"Unité",856.2,1,null,null,0,0,null,null,null,null,null,null,null,null,null,null,null,null,null,null,null,null,null,0,null,null,null,null,null,0]
[1428,"Article n° 1428",1428,null,null,"Unité",856.8,1,null,null,0,0,null,null,null,null,null,null,null,null,null,null,null,null,null,null,null,null,null,0,null,null,null,null,null,0]
[1429,"Article n° 1429",1429,null,null,"Unité",857.4,1,null,null,0,0,null,null,null,null,null,null,null,null,null,null,null,null,null,null,null,null,null,0,null,null,null,null,null,0]
[1430,"Article n° 1430",1430,null,null,"Unité",858,1,null,null,0,0,null,null,null,null,null,null,null,null,null,null,null,null,null,null,null,null,null,0,null,null,null,null,null,0]
[1431,"Article n° 1431",1431,null,null,"Unité",858.6,1,null,null,0,0,null,null,null,null,null,null,null,null,null,null,null,null,null,null,null,null,null,0,null,null,null,null,null,0]
[1432,"Article n° 1432",1432,null,null,"Unité",859.2,1,null,null,0,0,null,null,null,null,null,null,null,null,null,null,null,null,null,null,null,null,null,0,null,null,null,null,null,0]
[1433,"Article n° 1433",1433,null,null,"Unité",859.8,1,null,null,0,0,null,null,null,null,null,null,null,null,null,null,null,null,null,null,null,null,null,0,null,null,null,null,null,0]
[1434,"Article n° 1434",1434,null,null,"Unité",860.4,1,null,null,0,0,null,null,null,null,null,null,null,null,null,null,null,null,null,null,null,null,null,0,null,null,null,null,null,0]
[1435,"Article n° 1435",1435,null,null,"Unité",861,1,null,null,0,0,null,null,null,null,null,null,null,null,null,null,null,null,null,null,null,null,null,0,null,null,null,null,null,0]
[1436,"Article n° 1436",1436,null,null,"Unité",861.6,1,null,null,0,0,null,null,null,null,null,null,null,null,null,null,null,null,null,null,null,null,null,0,null,null,null,null,null,0]
[1437,"Article n° 1437",1437,null,null,"Unité",862.2,1,null,null,0,0,null,null,null,null,null,null,null,null,null,null,null,null,null,null,null,null,null,0,null,null,null,null,null,0]
[1438,"Article n° 1438",1438,null,null,"Unité",862.8,1,null,null,0,0,null,null,null,null,null,null,null,null,null,null,null,null,null,null,null,null,null,0,null,null,null,null,null,0]
[1439,"Article n° 1439",1439,null,null,"Unité",863.4,1,null,null,0,0,null,null,null,null,null,null,null,null,null,null,null,null,null,null,null,null,null,0,null,null,null,null,null,0]
[1440,"Article n° 1440",1440,null,null,"Unité",864,1,null,null,0,0,null,null,null,null,null,null,null,null,null,null,null,null,null,null,null,null,null,0,null,null,null,null,null,0]
[1441,"Article n° 1441",1441,null,null,"Unité",864.6,1,null,null,0,0,null,null,null,null,null,null,null,null,null,null,null,null,null,null,null,null,null,0,null,null,null,null,null,0]
[1442,"Article n° 1442",1442,null,null,"Unité",865.2,1,null,null,0,0,null,null,null,null,null,null,null,null,null,null,null,null,null,null,null,null,null,0,null,null,null,null,null,0]
[1443,"Article n° 1443",1443,null,null,"Unité",865.8,1,null,null,0,0,null,null,null,null,null,null,null,null,null,null,null,null,null,null,null,null,null,0,null,null,null,null,null,0]
[1444,"Article n° 1444",1444,null,null,"Unité",866.4,1,null,null,0,0,null,null,null,null,null,null,null,null,null,null,null,null,null,null,null,null,null,0,null,null,null,null,null,0]
[1445,"Article n° 1445",1445,null,null,"Unité",867,1,null,null,0,0,null,null,null,null,null,null,null,null,null,null,null,null,null,null,null,null,null,0,null,null,null,null,null,0]
[1446,"Article n° 1446",1446,null,null,"Unité",867.6,1,null,null,0,0,null,null,null,null,null,null,null,null,null,null,null,null,null,null,null,null,null,0,null,null,null,null,null,0]
[1447,"Article n° 1447",1447,null,null,"Unité",868.2,1,null,null,0,0,null,null,null,null,null,null,null,null,null,null,null,null,null,null,null,null,null,0,null,null,null,null,null,0]
[1448,"Article n° 1448",1448,null,null,"Unité",868.8,1,null,null,0,0,null,null,null,null,null,null,null,null,null,null,null,null,null,null,null,null,null,0,null,null,null,null,null,0]
[1449,"Article n° 1449",1449,null,null,"Unité",869.4,1,null,null,0,0,null,null,null,null,null,null,null,null,null,null,null,null,null,null,null,null,null,0,null,null,null,null,null,0]
[1450,"Article n° 1450",1450,null,null,"Unité",870,1,null,null,0,0,null,null,null,null,null,null,null,null,null,null,null,null,null,null,null,null,null,0,null,null,null,null,null,0]
[1451,"Article n° 1451",1451,null,null,"Unité",870.6,1,null,null,0,0,null,null,null,null,null,null,null,null,null,null,null,null,null,null,null,null,null,0,null,null,null,null,null,0]
[1452,"Article n° 1452",1452,null,null,"Unité",871.2,1,null,null,0,0,null,null,null,null,null,null,null,null,null,null,null,null,null,null,null,null,null,0,null,null,null,null,null,0]
[1453,"Article n° 1453",1453,null,null,"Unité",871.8,1,null,null,0,0,null,null,null,null,null,null,null,null,null,null,null,null,null,null,null,null,null,0,null,null,null,null,null,0]
[1454,"Article n° 1454",1454,null,null,"Unité",872.4,1,null,null,0,0,null,null,null,null,null,null,null,null,null,null,null,null,null,null,null,null,null,0,null,null,null,null,null,0]
[1455,"Article n° 1455",1455,null,null,"Unité",873,1,null,null,0,0,null,null,null,null,null,null,null,null,null,null,null,null,null,null,null,null,null,0,null,null,null,null,null,0]
[1456,"Article n° 1456",1456,null,null,"Unité",873.6,1,null,null,0,0,null,null,null,null,null,null,null,null,null,null,null,null,null,null,null,null,null,0,null,null,null,null,null,0]
[1457,"Article n° 1457",1457,null,null,"Unité",874.2,1,null,null,0,0,null,null,null,null,null,null,null,null,null,null,null,null,null,null,null,null,null,0,null,null,null,null,null,0]
[1458,"Article n° 1458",1458,null,null,"Unité",874.8,1,null,null,0,0,null,null,null,null,null,null,null,null,null,null,null,null,null,null,null,null,null,0,null,null,null,null,null,0]
[1459,"Article n° 1459",1459,null,null,"Unité",875.4,1,null,null,0,0,null,null,null,null,null,null,null,null,null,null,null,null,null,null,null,null,null,0,null,null,null,null,null,0]
[1460,"Article n° 1460",1460,null,null,"Unité",876,1,null,null,0,0,null,null,null,null,null,null,null,null,null,null,null,null,null,null,null,null,null,0,null,null,null,null,null,0]
[1461,"Article n° 1461",1461,null,null,"Unité",876.6,1,null,null,0,0,null,null,null,null,null,null,null,null,null,null,null,null,null,null,null,null,null,0,null,null,null,null,null,0]
[1462,"Article n° 1462",1462,null,null,"Unité",877.2,1,null,null,0,0,null,null,null,null,null,null,null,null,null,null,null,null,null,null,null,null,null,0,null,null,null,null,null,0]
[1463,"Article n° 1463",1463,null,null,"Unité",877.8,1,null,null,0,0,null,null,null,null,null,null,null,null,null,null,null,null,null,null,null,null,null,0,null,null,null,null,null,0]
[1464,"Article n° 1464",1464,null,null,"Unité",878.4,1,null,null,0,0,null,null,null,null,null,null,null,null,null,null,null,null,null,null,null,null,null,0,null,null,null,null,null,0]
[1465,"Article n° 1465",1465,null,null,"Unité",879,1,null,null,0,0,null,null,null,null,null,null,null,null,null,null,null,null,null,null,null,null,null,0,null,null,null,null,null,0]
[1466,"Article n° 1466",1466,null,null,"Unité",879.6,1,null,null,0,0,null,null,null,null,null,null,null,null,null,null,null,null,null,null,null,null,null,0,null,null,null,null,null,0]
[1467,"Article n° 1467",1467,null,null,"Unité",880.2,1,null,null,0,0,null,null,null,null,null,null,null,null,null,null,null,null,null,null,null,null,null,0,null,null,null,null,null,0]
[1468,"Article n° 1468",1468,null,null,"Unité",880.8,1,null,null,0,0,null,null,null,null,null,null,null,null,null,null,null,null,null,null,null,null,null,0,null,null,null,null,null,0]
[1469,"Article n° 1469",1469,null,null,"Unité",881.4,1,null,null,0,0,null,null,null,null,null,null,null,null,null,null,null,null,null,null,null,null,null,0,null,null,null,null,null,0]
[1470,"Article n° 1470",1470,null,null,"Unité",882,1,null,null,0,0,null,null,null,null,null,null,null,null,null,null,null,null,null,null,null,null,null,0,null,null,null,null,null,0]
[1471,"Article n° 1471",1471,null,null,"Unité",882.6,1,null,null,0,0,null,null,null,null,null,null,null,null,null,null,null,null,null,null,null,null,null,0,null,null,null,null,null,0]
[1472,"Article n° 1472",1472,null,null,"Unité",883.2,1,null,null,0,0,null,null,null,null,null,null,null,null,null,null,null,null,null,null,null,null,null,0,null,null,null,null,null,0]
[1473,"Article n° 1473",1473,null,null,"Unité",883.8,1,null,null,0,0,null,null,null,null,null,null,null,null,null,null,null,null,null,null,null,null,null,0,null,null,null,null,null,0]
[1474,"Article n° 1474",1474,null,null,"Unité",884.4,1,null,null,0,0,null,null,null,null,null,null,null,null,null,null,null,null,null,null,null,null,null,0,null,null,null,null,null,0]
[1475,"Article n° 1475",1475,null,null,"Unité",885,1,null,null,0,0,null,null,null,null,null,null,null,null,null,null,null,null,null,null,null,null,null,0,null,null,null,null,null,0]
[1476,"Article n° 1476",1476,null,null,"Unité",885.6,1,null,null,0,0,null,null,null,null,null,null,null,null,null,null,null,null,null,null,null,null,null,0,null,null,null,null,null,0]
[1477,"Article n° 1477",1477,null,null,"Unité",886.2,1,null,null,0,0,null,null,null,null,null,null,null,null,null,null,null,null,null,null,null,null,null,0,null,null,null,null,null,0]
[1478,"Article n° 1478",1478,null,null,"Unité",886.8,1,null,null,0,0,null,null,null,null,null,null,null,null,null,null,null,null,null,null,null,null,null,0,null,null,null,null,null,0]
[1479,"Article n° 1479",1479,null,null,"Unité",887.4,1,null,null,0,0,null,null,null,null,null,null,null,null,null,null,null,null,null,null,null,null,null,0,null,null,null,null,null,0]
[1480,"Article n° 1480",1480,null,null,"Unité",888,1,null,null,{"$f":"AB458+M458-N458","v":0},{"$f":"G458*K458","v":0},null,null,null,null,null,null,null,null,null,null,null,null,null,null,null,null,null,{"$f":"AC458-K458","v":0},null,null,null,null,null,{"$f":"C458*K458","v":0}]
[1481,"Article n° 1481",1481,null,null,"Unité",888.6,1,null,null,0,0,null,null,null,null,null,null,null,null,null,null,null,null,null,null,null,null,null,0,null,null,null,null,null,0]
[1482,"Article n° 1482",1482,null,null,"Unité",889.2,1,null,null,0,0,null,null,null,null,null,null,null,null,null,null,null,null,null,null,null,null,null,0,null,null,null,null,null,0]
[1483,"Article n° 1483",1483,null,null,"Unité",889.8,1,null,null,0,0,null,null,null,null,null,null,null,null,null,null,null,null,null,null,null,null,null,0,null,null,null,null,null,0]
[1484,"Article n° 1484",1484,null,null,"Unité",890.4,1,null,null,0,0,null,null,null,null,null,null,null,null,null,null,null,null,null,null,null,null,null,0,null,null,null,null,null,0]
[1485,"Article n° 1485",1485,null,null,"Unité",891,1,null,null,0,0,null,null,null,null,null,null,null,null,null,null,null,null,null,null,null,null,null,0,null,null,null,null,null,0]
[1486,"Article n° 1486",1486,null,null,"Unité",891.6,1,null,null,0,0,null,null,null,null,null,null,null,null,null,null,null,null,null,null,null,null,null,0,null,null,null,null,null,0]
[1487,"Article n° 1487",1487,null,null,"Unité",892.2,1,null,null,0,0,null,null,null,null,null,null,null,null,null,null,null,null,null,null,null,null,null,0,null,null,null,null,null,0]
[1488,"Article n° 1488",1488,null,null,"Unité",892.8,1,null,null,0,0,null,null,null,null,null,null,null,null,null,null,null,null,null,null,null,null,null,0,null,null,null,null,null,0]
[1489,"Article n° 1489",1489,null,null,"Unité",893.4,1,null,null,0,0,null,null,null,null,null,null,null,null,null,null,null,null,null,null,null,null,null,0,null,null,null,null,null,0]
[1490,"Article n° 1490",1490,null,null,"Unité",894,1,null,null,0,0,null,null,null,null,null,null,null,null,null,null,null,null,null,null,null,null,null,0,null,null,null,null,null,0]
[1491,"Article n° 1491",1491,null,null,"Unité",894.6,1,null,null,0,0,null,null,null,null,null,null,null,null,null,null,null,null,null,null,null,null,null,0,null,null,null,null,null,0]
[1492,"Article n° 1492",1492,null,null,"Unité",895.2,1,null,null,0,0,null,null,null,null,null,null,null,null,null,null,null,null,null,null,null,null,null,0,null,null,null,null,null,0]
[1493,"Article n° 1493",1493,null,null,"Unité",895.8,1,null,null,0,0,null,null,null,null,null,null,null,null,null,null,null,null,null,null,null,null,null,0,null,null,null,null,null,0]
[1494,"Article n° 1494",1494,null,null,"Unité",896.4,1,null,null,0,0,null,null,null,null,null,null,null,null,null,null,null,null,null,null,null,null,null,0,null,null,null,null,null,0]
[1495,"Article n° 1495",1495,null,null,"Unité",897,1,null,null,0,0,null,null,null,null,null,null,null,null,null,null,null,null,null,null,null,null,null,0,null,null,null,null,null,0]
[1496,"Article n° 1496",1496,null,null,"Unité",897.6,1,null,null,0,0,null,null,null,null,null,null,null,null,null,null,null,null,null,null,null,null,null,0,null,null,null,null,null,0]
[1497,"Article n° 1497",1497,null,null,"Unité",898.2,1,null,null,0,0,null,null,null,null,null,null,null,null,null,null,null,null,null,null,null,null,null,0,null,null,null,null,null,0]
[1498,"Article n° 1498",1498,null,null,"Unité",898.8,1,null,null,0,0,null,null,null,null,null,null,null,null,null,null,null,null,null,null,null,null,null,0,null,null,null,null,null,0]
[1499,"Article n° 1499",1499,null,null,"Unité",899.4,1,null,null,0,0,null,null,null,null,null,null,null,null,null,null,null,null,null,null,null,null,null,0,null,null,null,null,null,0]
[1500,"Article n° 1500",1500,null,null,"Unité",900,1,null,null,0,0,null,null,null,null,null,null,null,null,null,null,null,null,null,null,null,null,null,0,null,null,null,null,null,0]
[1501,"Article n° 1501",1501,null,null,"Unité",900.6,1,null,null,0,0,null,null,null,null,null,null,null,null,null,null,null,null,null,null,null,null,null,0,null,null,null,null,null,0]
[1502,"Article n° 1502",1502,null,null,"Unité",901.2,1,null,null,0,0,null,null,null,null,null,null,null,null,null,null,null,null,null,null,null,null,null,0,null,null,null,null,null,0]
[1503,"Article n° 1503",1503,null,null,"Unité",901.8,1,null,null,0,0,null,null,null,null,null,null,null,null,null,null,null,null,null,null,null,null,null,0,null,null,null,null,null,0]
[1504,"Article n° 1504",1504,null,null,"Unité",902.4,1,null,null,0,0,null,null,null,null,null,null,null,null,null,null,null,null,null,null,null,null,null,0,null,null,null,null,null,0]
[1505,"Article n° 1505",1505,null,null,"Unité",903,1,null,null,0,0,null,null,null,null,null,null,null,null,null,null,null,null,null,null,null,null,null,0,null,null,null,null,null,0]
[1506,"Article n° 1506",1506,null,null,"Unité",903.6,1,null,null,0,0,null,null,null,null,null,null,null,null,null,null,null,null,null,null,null,null,null,0,null,null,null,null,null,0]
[1507,"Article n° 1507",1507,null,null,"Unité",904.2,1,null,null,0,0,null,null,null,null,null,null,null,null,null,null,null,null,null,null,null,null,null,0,null,null,null,null,null,0]
[1508,"Article n° 1508",1508,null,null,"Unité",904.8,1,null,null,0,0,null,null,null,null,null,null,null,null,null,null,null,null,null,null,null,null,null,0,null,null,null,null,null,0]
[1509,"Article n° 1509",1509,null,null,"Unité",905.4,1,null,null,0,0,null,null,null,null,null,null,null,null,null,null,null,null,null,null,null,null,null,0,null,null,null,null,null,0]
[1510,"Article n° 1510",1510,null,null,"Unité",906,1,null,null,0,0,null,null,null,null,null,null,null,null,null,null,null,null,null,null,null,null,null,0,null,null,null,null,null,0]
[1511,"Article n° 1511",1511,null,null,"Unité",906.6,1,null,null,0,0,null,null,null,null,null,null,null,null,null,null,null,null,null,null,null,null,null,0,null,null,null,null,null,0]
[1512,"Article n° 1512",1512,null,null,"Unité",907.2,1,null,null,0,0,null,null,null,null,null,null,null,null,null,null,null,null,null,null,null,null,null,0,null,null,null,null,null,0]
[1513,"Article n° 1513",1513,null,null,"Unité",907.8,1,null,null,0,0,null,null,null,null,null,null,null,null,null,null,null,null,null,null,null,null,null,0,null,null,null,null,null,0]
[1514,"Article n° 1514",1514,null,null,"Unité",908.4,1,null,null,0,0,null,null,null,null,null,null,null,null,null,null,null,null,null,null,null,null,null,0,null,null,null,null,null,0]
[1515,"Article n° 1515",1515,null,null,"Unité",909,1,null,null,0,0,null,null,null,null,null,null,null,null,null,null,null,null,null,null,null,null,null,0,null,null,null,null,null,0]
[1516,"Article n° 1516",1516,null,null,"Unité",909.6,1,null,null,0,0,null,null,null,null,null,null,null,null,null,null,null,null,null,null,null,null,null,0,null,null,null,null,null,0]
[1517,"Article n° 1517",1517,null,null,"Unité",910.2,1,null,null,0,0,null,null,null,null,null,null,null,null,null,null,null,null,null,null,null,null,null,0,null,null,null,null,null,0]
[1518,"Article n° 1518",1518,null,null,"Unité",910.8,1,null,null,0,0,null,null,null,null,null,null,null,null,null,null,null,null,null,null,null,null,null,0,null,null,null,null,null,0]
[1519,"Article n° 1519",1519,null,null,"Unité",911.4,1,null,null,0,0,null,null,null,null,null,null,null,null,null,null,null,null,null,null,null,null,null,0,null,null,null,null,null,0]
[1520,"Article n° 1520",1520,null,null,"Unité",912,1,null,null,0,0,null,null,null,null,null,null,null,null,null,null,null,null,null,null,null,null,null,0,null,null,null,null,null,0]
[1521,"Article n° 1521",1521,null,null,"Unité",912.6,1,null,null,0,0,null,null,null,null,null,null,null,null,null,null,null,null,null,null,null,null,null,0,null,null,null,null,null,0]
[1522,"Article n° 1522",1522,null,null,"Unité",913.2,1,null,null,0,0,null,null,null,null,null,null,null,null,null,null,null,null,null,null,null,null,null,0,null,null,null,null,null,0]
[1523,"Article n° 1523",1523,null,null,"Unité",913.8,1,null,null,0,0,null,null,null,null,null,null,null,null,null,null,null,null,null,null,null,null,null,0,null,null,null,null,null,0]
[1524,"Article n° 1524",1524,null,null,"Unité",914.4,1,null,null,0,0,null,null,null,null,null,null,null,null,null,null,null,null,null,null,null,null,null,0,null,null,null,null,null,0]
[1525,"Article n° 1525",1525,null,null,"Unité",915,1,null,null,0,0,null,null,null,null,null,null,null,null,null,null,null,null,null,null,null,null,null,0,null,null,null,null,null,0]
[1526,"Article n° 1526",1526,null,null,"Unité",915.6,1,null,null,0,0,null,null,null,null,null,null,null,null,null,null,null,null,null,null,null,null,null,0,null,null,null,null,null,0]
[1527,"Article n° 1527",1527,null,null,"Unité",916.2,1,null,null,0,0,null,null,null,null,null,null,null,null,null,null,null,null,null,null,null,null,null,0,null,null,null,null,null,0]
[1528,"Article n° 1528",1528,null,null,"Unité",916.8,1,null,null,0,0,null,null,null,null,null,null,null,null,null,null,null,null,null,null,null,null,null,0,null,null,null,null,null,0]
[1529,"Article n° 1529",1529,null,null,"Unité",917.4,1,null,null,0,0,null,null,null,null,null,null,null,null,null,null,null,null,null,null,null,null,null,0,null,null,null,null,null,0]
[1530,"Article n° 1530",1530,null,null,"Unité",918,1,null,null,0,0,null,null,null,null,null,null,null,null,null,null,null,null,null,null,null,null,null,0,null,null,null,null,null,0]
[1531,"Article n° 1531",1531,null,null,"Unité",918.6,1,null,null,0,0,null,null,null,null,null,null,null,null,null,null,null,null,null,null,null,null,null,0,null,null,null,null,null,0]
[1532,"Article n° 1532",1532,null,null,"Unité",919.2,1,null,null,0,0,null,null,null,null,null,null,null,null,null,null,null,null,null,null,null,null,null,0,null,null,null,null,null,0]
[1533,"Article n° 1533",1533,null,null,"Unité",919.8,1,null,null,0,0,null,null,null,null,null,null,null,null,null,null,null,null,null,null,null,null,null,0,null,null,null,null,null,0]
[1534,"Article n° 1534",1534,null,null,"Unité",920.4,1,null,null,0,0,null,null,null,null,null,null,null,null,null,null,null,null,null,null,null,null,null,0,null,null,null,null,null,0]
[1535,"Article n° 1535",1535,null,null,"Unité",921,1,null,null,0,0,null,null,null,null,null,null,null,null,null,null,null,null,null,null,null,null,null,0,null,null,null,null,null,0]
[1536,"Article n° 1536",1536,null,null,"Unité",921.6,1,null,null,0,0,null,null,null,null,null,null,null,null,null,null,null,null,null,null,null,null,null,0,null,null,null,null,null,0]
[1537,"Article n° 1537",1537,null,null,"Unité",922.2,1,null,null,0,0,null,null,null,null,null,null,null,null,null,null,null,null,null,null,null,null,null,0,null,null,null,null,null,0]
[1538,"Article n° 1538",1538,null,null,"Unité",922.8,1,null,null,0,0,null,null,null,null,null,null,null,null,null,null,null,null,null,null,null,null,null,0,null,null,null,null,null,0]
[1539,"Article n° 1539",1539,null,null,"Unité",923.4,1,null,null,0,0,null,null,null,null,null,null,null,null,null,null,null,null,null,null,null,null,null,0,null,null,null,null,null,0]
[1540,"Article n° 1540",1540,null,null,"Unité",924,1,null,null,0,0,null,null,null,null,null,null,null,null,null,null,null,null,null,null,null,null,null,0,null,null,null,null,null,0]
[1541,"Article n° 1541",1541,null,null,"Unité",924.6,1,null,null,0,0,null,null,null,null,null,null,null,null,null,null,null,null,null,null,null,null,null,0,null,null,null,null,null,0]
[1542,"Article n° 1542",1542,null,null,"Unité",925.2,1,null,null,0,0,null,null,null,null,null,null,null,null,null,null,null,null,null,null,null,null,null,0,null,null,null,null,null,0]
[1543,"Article n° 1543",1543,null,null,"Unité",925.8,1,null,null,0,0,null,null,null,null,null,null,null,null,null,null,null,null,null,null,null,null,null,0,null,null,null,null,null,0]
[1544,"Article n° 1544",1544,null,null,"Unité",926.4,1,null,null,{"$f":"AB522+M522-N522","v":0},{"$f":"G522*K522","v":0},null,null,null,null,null,null,null,null,null,null,null,null,null,null,null,null,null,{"$f":"AC522-K522","v":0},null,null,null,null,null,{"$f":"C522*K522","v":0}]
[1545,"Article n° 1545",1545,null,null,"Unité",927,1,null,null,0,0,null,null,null,null,null,null,null,null,null,null,null,null,null,null,null,null,null,0,null,null,null,null,null,0]
[1546,"Article n° 1546",1546,null,null,"Unité",927.6,1,null,null,0,0,null,null,null,null,null,null,null,null,null,null,null,null,null,null,null,null,null,0,null,null,null,null,null,0]
[1547,"Article n° 1547",1547,null,null,"Unité",928.2,1,null,null,0,0,null,null,null,null,null,null,null,null,null,null,null,null,null,null,null,null,null,0,null,null,null,null,null,0]
[1548,"Article n° 1548",1548,null,null,"Unité",928.8,1,null,null,0,0,null,null,null,null,null,null,null,null,null,null,null,null,null,null,null,null,null,0,null,null,null,null,null,0]
[1549,"Article n° 1549",1549,null,null,"Unité",929.4,1,null,null,0,0,null,null,null,null,null,null,null,null,null,null,null,null,null,null,null,null,null,0,null,null,null,null,null,0]
[1550,"Article n° 1550",1550,null,null,"Unité",930,1,null,null,0,0,null,null,null,null,null,null,null,null,null,null,null,null,null,null,null,null,null,0,null,null,null,null,null,0]
[1551,"Article n° 1551",1551,null,null,"Unité",930.6,1,null,null,0,0,null,null,null,null,null,null,null,null,null,null,null,null,null,null,null,null,null,0,null,null,null,null,null,0]
[1552,"Article n° 1552",1552,null,null,"Unité",931.2,1,null,null,0,0,null,null,null,null,null,null,null,null,null,null,null,null,null,null,null,null,null,0,null,null,null,null,null,0]
[1553,"Article n° 1553",1553,null,null,"Unité",931.8,1,null,null,0,0,null,null,null,null,null,null,null,null,null,null,null,null,null,null,null,null,null,0,null,null,null,null,null,0]
[1554,"Article n° 1554",1554,null,null,"Unité",932.4,1,null,null,0,0,null,null,null,null,null,null,null,null,null,null,null,null,null,null,null,null,null,0,null,null,null,null,null,0]
[1555,"Article n° 1555",1555,null,null,"Unité",933,1,null,null,0,0,null,null,null,null,null,null,null,null,null,null,null,null,null,null,null,null,null,0,null,null,null,null,null,0]
[1556,"Article n° 1556",1556,null,null,"Unité",933.6,1,null,null,0,0,null,null,null,null,null,null,null,null,null,null,null,null,null,null,null,null,null,0,null,null,null,null,null,0]
[1557,"Article n° 1557",1557,null,null,"Unité",934.2,1,null,null,0,0,null,null,null,null,null,null,null,null,null,null,null,null,null,null,null,null,null,0,null,null,null,null,null,0]
[1558,"Article n° 1558",1558,null,null,"Unité",934.8,1,null,null,0,0,null,null,null,null,null,null,null,null,null,null,null,null,null,null,null,null,null,0,null,null,null,null,null,0]
[1559,"Article n° 1559",1559,null,null,"Unité",935.4,1,null,null,0,0,null,null,null,null,null,null,null,null,null,null,null,null,null,null,null,null,null,0,null,null,null,null,null,0]
[1560,"Article n° 1560",1560,null,null,"Unité",936,1,null,null,0,0,null,null,null,null,null,null,null,null,null,null,null,null,null,null,null,null,null,0,null,null,null,null,null,0]
[1561,"Article n° 1561",1561,null,null,"Unité",936.6,1,null,null,0,0,null,null,null,null,null,null,null,null,null,null,null,null,null,null,null,null,null,0,null,null,null,null,null,0]
[1562,"Article n° 1562",1562,null,null,"Unité",937.2,1,null,null,0,0,null,null,null,null,null,null,null,null,null,null,null,null,null,null,null,null,null,0,null,null,null,null,null,0]
[1563,"Article n° 1563",1563,null,null,"Unité",937.8,1,null,null,0,0,null,null,null,null,null,null,null,null,null,null,null,null,null,null,null,null,null,0,null,null,null,null,null,0]
[1564,"Article n° 1564",1564,null,null,"Unité",938.4,1,null,null,0,0,null,null,null,null,null,null,null,null,null,null,null,null,null,null,null,null,null,0,null,null,null,null,null,0]
[1565,"Article n° 1565",1565,null,null,"Unité",939,1,null,null,0,0,null,null,null,null,null,null,null,null,null,null,null,null,null,null,null,null,null,0,null,null,null,null,null,0]
[1566,"Article n° 1566",1566,null,null,"Unité",939.6,1,null,null,0,0,null,null,null,null,null,null,null,null,null,null,null,null,null,null,null,null,null,0,null,null,null,null,null,0]
[1567,"Article n° 1567",1567,null,null,"Unité",940.2,1,null,null,0,0,null,null,null,null,null,null,null,null,null,null,null,null,null,null,null,null,null,0,null,null,null,null,null,0]
[1568,"Article n° 1568",1568,null,null,"Unité",940.8,1,null,null,0,0,null,null,null,null,null,null,null,null,null,null,null,null,null,null,null,null,null,0,null,null,null,null,null,0]
[1569,"Article n° 1569",1569,null,null,"Unité",941.4,1,null,null,0,0,null,null,null,null,null,null,null,null,null,null,null,null,null,null,null,null,null,0,null,null,null,null,null,0]
[1570,"Article n° 1570",1570,null,null,"Unité",942,1,null,null,0,0,null,null,null,null,null,null,null,null,null,null,null,null,null,null,null,null,null,0,null,null,null,null,null,0]
[1571,"Article n° 1571",1571,null,null,"Unité",942.6,1,null,null,0,0,null,null,null,null,null,null,null,null,null,null,null,null,null,null,null,null,null,0,null,null,null,null,null,0]
[1572,"Article n° 1572",1572,null,null,"Unité",943.2,1,null,null,0,0,null,null,null,null,null,null,null,null,null,null,null,null,null,null,null,null,null,0,null,null,null,null,null,0]
[1573,"Article n° 1573",1573,null,null,"Unité",943.8,1,null,null,0,0,null,null,null,null,null,null,null,null,null,null,null,null,null,null,null,null,null,0,null,null,null,null,null,0]
[1574,"Article n° 1574",1574,null,null,"Unité",944.4,1,null,null,0,0,null,null,null,null,null,null,null,null,null,null,null,null,null,null,null,null,null,0,null,null,null,null,null,0]
[1575,"Article n° 1575",1575,null,null,"Unité",945,1,null,null,0,0,null,null,null,null,null,null,null,null,null,null,null,null,null,null,null,null,null,0,null,null,null,null,null,0]
[1576,"Article n° 1576",1576,null,null,"Unité",945.6,1,null,null,0,0,null,null,null,null,null,null,null,null,null,null,null,null,null,null,null,null,null,0,null,null,null,null,null,0]
[1577,"Article n° 1577",1577,null,null,"Unité",946.2,1,null,null,0,0,null,null,null,null,null,null,null,null,null,null,null,null,null,null,null,null,null,0,null,null,null,null,null,0]
[1578,"Article n° 1578",1578,null,null,"Unité",946.8,1,null,null,0,0,null,null,null,null,null,null,null,null,null,null,null,null,null,null,null,null,null,0,null,null,null,null,null,0]
[1579,"Article n° 1579",1579,null,null,"Unité",947.4,1,null,null,0,0,null,null,null,null,null,null,null,null,null,null,null,null,null,null,null,null,null,0,null,null,null,null,null,0]
[1580,"Article n° 1580",1580,null,null,"Unité",948,1,null,null,0,0,null,null,null,null,null,null,null,null,null,null,null,null,null,null,null,null,null,0,null,null,null,null,null,0]
[1581,"Article n° 1581",1581,null,null,"Unité",948.6,1,null,null,0,0,null,null,null,null,null,null,null,null,null,null,null,null,null,null,null,null,null,0,null,null,null,null,null,0]
[1582,"Article n° 1582",1582,null,null,"Unité",949.2,1,null,null,0,0,null,null,null,null,null,null,null,null,null,null,null,null,null,null,null,null,null,0,null,null,null,null,null,0]
[1583,"Article n° 1583",1583,null,null,"Unité",949.8,1,null,null,0,0,null,null,null,null,null,null,null,null,null,null,null,null,null,null,null,null,null,0,null,null,null,null,null,0]
[1584,"Article n° 1584",1584,null,null,"Unité",950.4,1,null,null,0,0,null,null,null,null,null,null,null,null,null,null,null,null,null,null,null,null,null,0,null,null,null,null,null,0]
[1585,"Article n° 1585",1585,null,null,"Unité",951,1,null,null,0,0,null,null,null,null,null,null,null,null,null,null,null,null,null,null,null,null,null,0,null,null,null,null,null,0]
[1586,"Article n° 1586",1586,null,null,"Unité",951.6,1,null,null,0,0,null,null,null,null,null,null,null,null,null,null,null,null,null,null,null,null,null,0,null,null,null,null,null,0]
[1587,"Article n° 1587",1587,null,null,"Unité",952.2,1,null,null,0,0,null,null,null,null,null,null,null,null,null,null,null,null,null,null,null,null,null,0,null,null,null,null,null,0]
[1588,"Article n° 1588",1588,null,null,"Unité",952.8,1,null,null,0,0,null,null,null,null,null,null,null,null,null,null,null,null,null,null,null,null,null,0,null,null,null,null,null,0]
[1589,"Article n° 1589",1589,null,null,"Unité",953.4,1,null,null,0,0,null,null,null,null,null,null,null,null,null,null,null,null,null,null,null,null,null,0,null,null,null,null,null,0]
[1590,"Article n° 1590",1590,null,null,"Unité",954,1,null,null,0,0,null,null,null,null,null,null,null,null,null,null,null,null,null,null,null,null,null,0,null,null,null,null,null,0]
[1591,"Article n° 1591",1591,null,null,"Unité",954.6,1,null,null,0,0,null,null,null,null,null,null,null,null,null,null,null,null,null,null,null,null,null,0,null,null,null,null,null,0]
[1592,"Article n° 1592",1592,null,null,"Unité",955.2,1,null,null,0,0,null,null,null,null,null,null,null,null,null,null,null,null,null,null,null,null,null,0,null,null,null,null,null,0]
[1593,"Article n° 1593",1593,null,null,"Unité",955.8,1,null,null,0,0,null,null,null,null,null,null,null,null,null,null,null,null,null,null,null,null,null,0,null,null,null,null,null,0]
[1594,"Article n° 1594",1594,null,null,"Unité",956.4,1,null,null,0,0,null,null,null,null,null,null,null,null,null,null,null,null,null,null,null,null,null,0,null,null,null,null,null,0]
[1595,"Article n° 1595",1595,null,null,"Unité",957,1,null,null,0,0,null,null,null,null,null,null,null,null,null,null,null,null,null,null,null,null,null,0,null,null,null,null,null,0]
[1596,"Article n° 1596",1596,null,null,"Unité",957.6,1,null,null,0,0,null,null,null,null,null,null,null,null,null,null,null,null,null,null,null,null,null,0,null,null,null,null,null,0]
[1597,"Article n° 1597",1597,null,null,"Unité",958.2,1,null,null,0,0,null,null,null,null,null,null,null,null,null,null,null,null,null,null,null,null,null,0,null,null,null,null,null,0]
[1598,"Article n° 1598",1598,null,null,"Unité",958.8,1,null,null,0,0,null,null,null,null,null,null,null,null,null,null,null,null,null,null,null,null,null,0,null,null,null,null,null,0]
[1599,"Article n° 1599",1599,null,null,"Unité",959.4,1,null,null,0,0,null,null,null,null,null,null,null,null,null,null,null,null,null,null,null,null,null,0,null,null,null,null,null,0]
[1600,"Article n° 1600",1600,null,null,"Unité",960,1,null,null,-1,-960,null,1,null,null,null,null,null,null,null,null,null,null,null,null,1488,null,null,1,null,null,null,null,960,-1600]
[1601,"Article n° 1601",1601,null,null,"Unité",960.6,1,null,null,0,0,null,null,null,null,null,null,null,null,null,null,null,null,null,null,null,null,null,0,null,null,null,null,null,0]
[1602,"Article n° 1602",1602,null,null,"Unité",961.2,1,null,null,0,0,null,null,null,null,null,null,null,null,null,null,null,null,null,null,null,null,null,0,null,null,null,null,null,0]
[1603,"Article n° 1603",1603,null,null,"Unité",961.8,1,null,null,0,0,null,null,null,null,null,null,null,null,null,null,null,null,null,null,null,null,null,0,null,null,null,null,null,0]
[1604,"Article n° 1604",1604,null,null,"Unité",962.4,1,null,null,0,0,null,null,null,null,null,null,null,null,null,null,null,null,null,null,null,null,null,0,null,null,null,null,null,0]
[1605,"Article n° 1605",1605,null,null,"Unité",963,1,null,null,0,0,null,null,null,null,null,null,null,null,null,null,null,null,null,null,null,null,null,0,null,null,null,null,null,0]
[1606,"Article n° 1606",1606,null,null,"Unité",963.6,1,null,null,0,0,null,null,null,null,null,null,null,null,null,null,null,null,null,null,null,null,null,0,null,null,null,null,null,0]
[1607,"Article n° 1607",1607,null,null,"Unité",964.2,1,null,null,0,0,null,null,null,null,null,null,null,null,null,null,null,null,null,null,null,null,null,0,null,null,null,null,null,0]
[1608,"Article n° 1608",1608,null,null,"Unité",964.8,1,null,null,{"$f":"AB586+M586-N586","v":0},{"$f":"G586*K586","v":0},null,null,null,null,null,null,null,null,null,null,null,null,null,null,null,null,null,{"$f":"AC586-K586","v":0},null,null,null,null,null,{"$f":"C586*K586","v":0}]
[1609,"Article n° 1609",1609,null,null,"Unité",965.4,1,null,null,0,0,null,null,null,null,null,null,null,null,null,null,null,null,null,null,null,null,null,0,null,null,null,null,null,0]
[1610,"Article n° 1610",1610,null,null,"Unité",966,1,null,null,0,0,null,null,null,null,null,null,null,null,null,null,null,null,null,null,null,null,null,0,null,null,null,null,null,0]
[1611,"Article n° 1611",1611,null,null,"Unité",966.6,1,null,null,0,0,null,null,null,null,null,null,null,null,null,null,null,null,null,null,null,null,null,0,null,null,null,null,null,0]
[1612,"Article n° 1612",1612,null,null,"Unité",967.2,1,null,null,0,0,null,null,null,null,null,null,null,null,null,null,null,null,null,null,null,null,null,0,null,null,null,null,null,0]
[1613,"Article n° 1613",1613,null,null,"Unité",967.8,1,null,null,0,0,null,null,null,null,null,null,null,null,null,null,null,null,null,null,null,null,null,0,null,null,null,null,null,0]
[1614,"Article n° 1614",1614,null,null,"Unité",968.4,1,null,null,0,0,null,null,null,null,null,null,null,null,null,null,null,null,null,null,null,null,null,0,null,null,null,null,null,0]
[1615,"Article n° 1615",1615,null,null,"Unité",969,1,null,null,0,0,null,null,null,null,null,null,null,null,null,null,null,null,null,null,null,null,null,0,null,null,null,null,null,0]
[1616,"Article n° 1616",1616,null,null,"Unité",969.6,1,null,null,0,0,null,null,null,null,null,null,null,null,null,null,null,null,null,null,null,null,null,0,null,null,null,null,null,0]
[1617,"Article n° 1617",1617,null,null,"Unité",970.2,1,null,null,0,0,null,null,null,null,null,null,null,null,null,null,null,null,null,null,null,null,null,0,null,null,null,null,null,0]
[1618,"Article n° 1618",1618,null,null,"Unité",970.8,1,null,null,0,0,null,null,null,null,null,null,null,null,null,null,null,null,null,null,null,null,null,0,null,null,null,null,null,0]
[1619,"Article n° 1619",1619,null,null,"Unité",971.4,1,null,null,0,0,null,null,null,null,null,null,null,null,null,null,null,null,null,null,null,null,null,0,null,null,null,null,null,0]
[1620,"Article n° 1620",1620,null,null,"Unité",972,1,null,null,0,0,null,null,null,null,null,null,null,null,null,null,null,null,null,null,null,null,null,0,null,null,null,null,null,0]
[1621,"Article n° 1621",1621,null,null,"Unité",972.6,1,null,null,0,0,null,null,null,null,null,null,null,null,null,null,null,null,null,null,null,null,null,0,null,null,null,null,null,0]
[1622,"Article n° 1622",1622,null,null,"Unité",973.2,1,null,null,0,0,null,null,null,null,null,null,null,null,null,null,null,null,null,null,null,null,null,0,null,null,null,null,null,0]
[1623,"Article n° 1623",1623,null,null,"Unité",973.8,1,null,null,0,0,null,null,null,null,null,null,null,null,null,null,null,null,null,null,null,null,null,0,null,null,null,null,null,0]
[1624,"Article n° 1624",1624,null,null,"Unité",974.4,1,null,null,0,0,null,null,null,null,null,null,null,null,null,null,null,null,null,null,null,null,null,0,null,null,null,null,null,0]
[1625,"Article n° 1625",1625,null,null,"Unité",975,1,null,null,0,0,null,null,null,null,null,null,null,null,null,null,null,null,null,null,null,null,null,0,null,null,null,null,null,0]
[1626,"Article n° 1626",1626,null,null,"Unité",975.6,1,null,null,0,0,null,null,null,null,null,null,null,null,null,null,null,null,null,null,null,null,null,0,null,null,null,null,null,0]
[1627,"Article n° 1627",1627,null,null,"Unité",976.2,1,null,null,0,0,null,null,null,null,null,null,null,null,null,null,null,null,null,null,null,null,null,0,null,null,null,null,null,0]
[1628,"Article n° 1628",1628,null,null,"Unité",976.8,1,null,null,0,0,null,null,null,null,null,null,null,null,null,null,null,null,null,null,null,null,null,0,null,null,null,null,null,0]
[1629,"Article n° 1629",1629,null,null,"Unité",977.4,1,null,null,0,0,null,null,null,null,null,null,null,null,null,null,null,null,null,null,null,null,null,0,null,null,null,null,null,0]
[1630,"Article n° 1630",1630,null,null,"Unité",978,1,null,null,0,0,null,null,null,null,null,null,null,null,null,null,null,null,null,null,null,null,null,0,null,null,null,null,null,0]
[1631,"Article n° 1631",1631,null,null,"Unité",978.6,1,null,null,0,0,null,null,null,null,null,null,null,null,null,null,null,null,null,null,null,null,null,0,null,null,null,null,null,0]
[1632,"Article n° 1632",1632,null,null,"Unité",979.2,1,null,null,0,0,null,null,null,null,null,null,null,null,null,null,null,null,null,null,null,null,null,0,null,null,null,null,null,0]
[1633,"Article n° 1633",1633,null,null,"Unité",979.8,1,null,null,0,0,null,null,null,null,null,null,null,null,null,null,null,null,null,null,null,null,null,0,null,null,null,null,null,0]
[1634,"Article n° 1634",1634,null,null,"Unité",980.4,1,null,null,0,0,null,null,null,null,null,null,null,null,null,null,null,null,null,null,null,null,null,0,null,null,null,null,null,0]
[1635,"Article n° 1635",1635,null,null,"Unité",981,1,null,null,0,0,null,null,null,null,null,null,null,null,null,null,null,null,null,null,null,null,null,0,null,null,null,null,null,0]
[1636,"Article n° 1636",1636,null,null,"Unité",981.6,1,null,null,0,0,null,null,null,null,null,null,null,null,null,null,null,null,null,null,null,null,null,0,null,null,null,null,null,0]
[1637,"Article n° 1637",1637,null,null,"Unité",982.2,1,null,null,0,0,null,null,null,null,null,null,null,null,null,null,null,null,null,null,null,null,null,0,null,null,null,null,null,0]
[1638,"Article n° 1638",1638,null,null,"Unité",982.8,1,null,null,0,0,null,null,null,null,null,null,null,null,null,null,null,null,null,null,null,null,null,0,null,null,null,null,null,0]
[1639,"Article n° 1639",1639,null,null,"Unité",983.4,1,null,null,0,0,null,null,null,null,null,null,null,null,null,null,null,null,null,null,null,null,null,0,null,null,null,null,null,0]
[1640,"Article n° 1640",1640,null,null,"Unité",984,1,null,null,0,0,null,null,null,null,null,null,null,null,null,null,null,null,null,null,null,null,null,0,null,null,null,null,null,0]
[1641,"Article n° 1641",1641,null,null,"Unité",984.6,1,null,null,0,0,null,null,null,null,null,null,null,null,null,null,null,null,null,null,null,null,null,0,null,null,null,null,null,0]
[1642,"Article n° 1642",1642,null,null,"Unité",985.2,1,null,null,0,0,null,null,null,null,null,null,null,null,null,null,null,null,null,null,null,null,null,0,null,null,null,null,null,0]
[1643,"Article n° 1643",1643,null,null,"Unité",985.8,1,null,null,0,0,null,null,null,null,null,null,null,null,null,null,null,null,null,null,null,null,null,0,null,null,null,null,null,0]
[1644,"Article n° 1644",1644,null,null,"Unité",986.4,1,null,null,0,0,null,null,null,null,null,null,null,null,null,null,null,null,null,null,null,null,null,0,null,null,null,null,null,0]
[1645,"Article n° 1645",1645,null,null,"Unité",987,1,null,null,0,0,null,null,null,null,null,null,null,null,null,null,null,null,null,null,null,null,null,0,null,null,null,null,null,0]
[1646,"Article n° 1646",1646,null,null,"Unité",987.6,1,null,null,0,0,null,null,null,null,null,null,null,null,null,null,null,null,null,null,null,null,null,0,null,null,null,null,null,0]
[1647,"Article n° 1647",1647,null,null,"Unité",988.2,1,null,null,0,0,null,null,null,null,null,null,null,null,null,null,null,null,null,null,null,null,null,0,null,null,null,null,null,0]
[1648,"Article n° 1648",1648,null,null,"Unité",988.8,1,null,null,0,0,null,null,null,null,null,null,null,null,null,null,null,null,null,null,null,null,null,0,null,null,null,null,null,0]
[1649,"Article n° 1649",1649,null,null,"Unité",989.4,1,null,null,0,0,null,null,null,null,null,null,null,null,null,null,null,null,null,null,null,null,null,0,null,null,null,null,null,0]
[1650,"Article n° 1650",1650,null,null,"Unité",990,1,null,null,0,0,null,null,null,null,null,null,null,null,null,null,null,null,null,null,null,null,null,0,null,null,null,null,null,0]
[1651,"Article n° 1651",1651,null,null,"Unité",990.6,1,null,null,0,0,null,null,null,null,null,null,null,null,null,null,null,null,null,null,null,null,null,0,null,null,null,null,null,0]
[1652,"Article n° 1652",1652,null,null,"Unité",991.2,1,null,null,0,0,null,null,null,null,null,null,null,null,null,null,null,null,null,null,null,null,null,0,null,null,null,null,null,0]
[1653,"Article n° 1653",1653,null,null,"Unité",991.8,1,null,null,0,0,null,null,null,null,null,null,null,null,null,null,null,null,null,null,null,null,null,0,null,null,null,null,null,0]
[1654,"Article n° 1654",1654,null,null,"Unité",992.4,1,null,null,0,0,null,null,null,null,null,null,null,null,null,null,null,null,null,null,null,null,null,0,null,null,null,null,null,0]
[1655,"Article n° 1655",1655,null,null,"Unité",993,1,null,null,0,0,null,null,null,null,null,null,null,null,null,null,null,null,null,null,null,null,null,0,null,null,null,null,null,0]
[1656,"Article n° 1656",1656,null,null,"Unité",993.6,1,null,null,0,0,null,null,null,null,null,null,null,null,null,null,null,null,null,null,null,null,null,0,null,null,null,null,null,0]
[1657,"Article n° 1657",1657,null,null,"Unité",994.2,1,null,null,0,0,null,null,null,null,null,null,null,null,null,null,null,null,null,null,null,null,null,0,null,null,null,null,null,0]
[1658,"Article n° 1658",1658,null,null,"Unité",994.8,1,null,null,0,0,null,null,null,null,null,null,null,null,null,null,null,null,null,null,null,null,null,0,null,null,null,null,null,0]
[1659,"Article n° 1659",1659,null,null,"Unité",995.4,1,null,null,0,0,null,null,null,null,null,null,null,null,null,null,null,null,null,null,null,null,null,0,null,null,null,null,null,0]
[1660,"Article n° 1660",1660,null,null,"Unité",996,1,null,null,0,0,null,null,null,null,null,null,null,null,null,null,null,null,null,null,null,null,null,0,null,null,null,null,null,0]
[1661,"Article n° 1661",1661,null,null,"Unité",996.6,1,null,null,0,0,null,null,null,null,null,null,null,null,null,null,null,null,null,null,null,null,null,0,null,null,null,null,null,0]
[1662,"Article n° 1662",1662,null,null,"Unité",997.2,1,null,null,0,0,null,null,null,null,null,null,null,null,null,null,null,null,null,null,null,null,null,0,null,null,null,null,null,0]
[1663,"Article n° 1663",1663,null,null,"Unité",997.8,1,null,null,0,0,null,null,null,null,null,null,null,null,null,null,null,null,null,null,null,null,null,0,null,null,null,null,null,0]
[1664,"Article n° 1664",1664,null,null,"Unité",998.4,1,null,null,0,0,null,null,null,null,null,null,null,null,null,null,null,null,null,null,null,null,null,0,null,null,null,null,null,0]
[1665,"Article n° 1665",1665,null,null,"Unité",999,1,null,null,0,0,null,null,null,null,null,null,null,null,null,null,null,null,null,null,null,null,null,0,null,null,null,null,null,0]
[1666,"Article n° 1666",1666,null,null,"Unité",999.6,1,null,null,0,0,null,null,null,null,null,null,null,null,null,null,null,null,null,null,null,null,null,0,null,null,null,null,null,0]
[1667,"Article n° 1667",1667,null,null,"Unité",1000.2,1,null,null,0,0,null,null,null,null,null,null,null,null,null,null,null,null,null,null,null,null,null,0,null,null,null,null,null,0]
[1668,"Article n° 1668",1668,null,null,"Unité",1000.8,1,null,null,0,0,null,null,null,null,null,null,null,null,null,null,null,null,null,null,null,null,null,0,null,null,null,null,null,0]
[1669,"Article n° 1669",1669,null,null,"Unité",1001.4,1,null,null,0,0,null,null,null,null,null,null,null,null,null,null,null,null,null,null,null,null,null,0,null,null,null,null,null,0]
[1670,"Article n° 1670",1670,null,null,"Unité",1002,1,null,null,0,0,null,null,null,null,null,null,null,null,null,null,null,null,null,null,null,null,null,0,null,null,null,null,null,0]
[1671,"Article n° 1671",1671,null,null,"Unité",1002.6,1,null,null,0,0,null,null,null,null,null,null,null,null,null,null,null,null,null,null,null,null,null,0,null,null,null,null,null,0]
[1672,"Article n° 1672",1672,null,null,"Unité",1003.2,1,null,null,{"$f":"AB650+M650-N650","v":0},{"$f":"G650*K650","v":0},null,null,null,null,null,null,null,null,null,null,null,null,null,null,null,null,null,{"$f":"AC650-K650","v":0},null,null,null,null,null,{"$f":"C650*K650","v":0}]
[1673,"Article n° 1673",1673,null,null,"Unité",1003.8,1,null,null,0,0,null,null,null,null,null,null,null,null,null,null,null,null,null,null,null,null,null,0,null,null,null,null,null,0]
[1674,"Article n° 1674",1674,null,null,"Unité",1004.4,1,null,null,0,0,null,null,null,null,null,null,null,null,null,null,null,null,null,null,null,null,null,0,null,null,null,null,null,0]
[1675,"Article n° 1675",1675,null,null,"Unité",1005,1,null,null,0,0,null,null,null,null,null,null,null,null,null,null,null,null,null,null,null,null,null,0,null,null,null,null,null,0]
[1676,"Article n° 1676",1676,null,null,"Unité",1005.6,1,null,null,0,0,null,null,null,null,null,null,null,null,null,null,null,null,null,null,null,null,null,0,null,null,null,null,null,0]
[1677,"Article n° 1677",1677,null,null,"Unité",1006.2,1,null,null,0,0,null,null,null,null,null,null,null,null,null,null,null,null,null,null,null,null,null,0,null,null,null,null,null,0]
[1678,"Article n° 1678",1678,null,null,"Unité",1006.8,1,null,null,0,0,null,null,null,null,null,null,null,null,null,null,null,null,null,null,null,null,null,0,null,null,null,null,null,0]
[1679,"Article n° 1679",1679,null,null,"Unité",1007.4,1,null,null,0,0,null,null,null,null,null,null,null,null,null,null,null,null,null,null,null,null,null,0,null,null,null,null,null,0]
[1680,"Article n° 1680",1680,null,null,"Unité",1008,1,null,null,0,0,null,null,null,null,null,null,null,null,null,null,null,null,null,null,null,null,null,0,null,null,null,null,null,0]
[1681,"Article n° 1681",1681,null,null,"Unité",1008.6,1,null,null,0,0,null,null,null,null,null,null,null,null,null,null,null,null,null,null,null,null,null,0,null,null,null,null,null,0]
[1682,"Article n° 1682",1682,null,null,"Unité",1009.2,1,null,null,0,0,null,null,null,null,null,null,null,null,null,null,null,null,null,null,null,null,null,0,null,null,null,null,null,0]
[1683,"Article n° 1683",1683,null,null,"Unité",1009.8,1,null,null,0,0,null,null,null,null,null,null,null,null,null,null,null,null,null,null,null,null,null,0,null,null,null,null,null,0]
[1684,"Article n° 1684",1684,null,null,"Unité",1010.4,1,null,null,0,0,null,null,null,null,null,null,null,null,null,null,null,null,null,null,null,null,null,0,null,null,null,null,null,0]
[1685,"Article n° 1685",1685,null,null,"Unité",1011,1,null,null,0,0,null,null,null,null,null,null,null,null,null,null,null,null,null,null,null,null,null,0,null,null,null,null,null,0]
[1686,"Article n° 1686",1686,null,null,"Unité",1011.6,1,null,null,0,0,null,null,null,null,null,null,null,null,null,null,null,null,null,null,null,null,null,0,null,null,null,null,null,0]
[1687,"Article n° 1687",1687,null,null,"Unité",1012.2,1,null,null,0,0,null,null,null,null,null,null,null,null,null,null,null,null,null,null,null,null,null,0,null,null,null,null,null,0]
[1688,"Article n° 1688",1688,null,null,"Unité",1012.8,1,null,null,0,0,null,null,null,null,null,null,null,null,null,null,null,null,null,null,null,null,null,0,null,null,null,null,null,0]
[1689,"Article n° 1689",1689,null,null,"Unité",1013.4,1,null,null,0,0,null,null,null,null,null,null,null,null,null,null,null,null,null,null,null,null,null,0,null,null,null,null,null,0]
[1690,"Article n° 1690",1690,null,null,"Unité",1014,1,null,null,0,0,null,null,null,null,null,null,null,null,null,null,null,null,null,null,null,null,null,0,null,null,null,null,null,0]
[1691,"Article n° 1691",1691,null,null,"Unité",1014.6,1,null,null,0,0,null,null,null,null,null,null,null,null,null,null,null,null,null,null,null,null,null,0,null,null,null,null,null,0]
[1692,"Article n° 1692",1692,null,null,"Unité",1015.2,1,null,null,0,0,null,null,null,null,null,null,null,null,null,null,null,null,null,null,null,null,null,0,null,null,null,null,null,0]
[1693,"Article n° 1693",1693,null,null,"Unité",1015.8,1,null,null,0,0,null,null,null,null,null,null,null,null,null,null,null,null,null,null,null,null,null,0,null,null,null,null,null,0]
[1694,"Article n° 1694",1694,null,null,"Unité",1016.4,1,null,null,0,0,null,null,null,null,null,null,null,null,null,null,null,null,null,null,null,null,null,0,null,null,null,null,null,0]
[1695,"Article n° 1695",1695,null,null,"Unité",1017,1,null,null,0,0,null,null,null,null,null,null,null,null,null,null,null,null,null,null,null,null,null,0,null,null,null,null,null,0]
[1696,"Article n° 1696",1696,null,null,"Unité",1017.6,1,null,null,0,0,null,null,null,null,null,null,null,null,null,null,null,null,null,null,null,null,null,0,null,null,null,null,null,0]
[1697,"Article n° 1697",1697,null,null,"Unité",1018.2,1,null,null,0,0,null,null,null,null,null,null,null,null,null,null,null,null,null,null,null,null,null,0,null,null,null,null,null,0]
[1698,"Article n° 1698",1698,null,null,"Unité",1018.8,1,null,null,0,0,null,null,null,null,null,null,null,null,null,null,null,null,null,null,null,null,null,0,null,null,null,null,null,0]
[1699,"Article n° 1699",1699,null,null,"Unité",1019.4,1,null,null,0,0,null,null,null,null,null,null,null,null,null,null,null,null,null,null,null,null,null,0,null,null,null,null,null,0]
[1700,"Article n° 1700",1700,null,null,"Unité",1020,1,null,null,0,0,null,null,null,null,null,null,null,null,null,null,null,null,null,null,null,null,null,0,null,null,null,null,null,0]
[1701,"Article n° 1701",1701,null,null,"Unité",1020.6,1,null,null,0,0,null,null,null,null,null,null,null,null,null,null,null,null,null,null,null,null,null,0,null,null,null,null,null,0]
[1702,"Article n° 1702",1702,null,null,"Unité",1021.2,1,null,null,0,0,null,null,null,null,null,null,null,null,null,null,null,null,null,null,null,null,null,0,null,null,null,null,null,0]
[1703,"Article n° 1703",1703,null,null,"Unité",1021.8,1,null,null,0,0,null,null,null,null,null,null,null,null,null,null,null,null,null,null,null,null,null,0,null,null,null,null,null,0]
[1704,"Article n° 1704",1704,null,null,"Unité",1022.4,1,null,null,0,0,null,null,null,null,null,null,null,null,null,null,null,null,null,null,null,null,null,0,null,null,null,null,null,0]
[1705,"Article n° 1705",1705,null,null,"Unité",1023,1,null,null,0,0,null,null,null,null,null,null,null,null,null,null,null,null,null,null,null,null,null,0,null,null,null,null,null,0]
[1706,"Article n° 1706",1706,null,null,"Unité",1023.6,1,null,null,0,0,null,null,null,null,null,null,null,null,null,null,null,null,null,null,null,null,null,0,null,null,null,null,null,0]
[1707,"Article n° 1707",1707,null,null,"Unité",1024.2,1,null,null,0,0,null,null,null,null,null,null,null,null,null,null,null,null,null,null,null,null,null,0,null,null,null,null,null,0]
[1708,"Article n° 1708",1708,null,null,"Unité",1024.8,1,null,null,0,0,null,null,null,null,null,null,null,null,null,null,null,null,null,null,null,null,null,0,null,null,null,null,null,0]
[1709,"Article n° 1709",1709,null,null,"Unité",1025.4000000000001,1,null,null,0,0,null,null,null,null,null,null,null,null,null,null,null,null,null,null,null,null,null,0,null,null,null,null,null,0]
[1710,"Article n° 1710",1710,null,null,"Unité",1026,1,null,null,0,0,null,null,null,null,null,null,null,null,null,null,null,null,null,null,null,null,null,0,null,null,null,null,null,0]
[1711,"Article n° 1711",1711,null,null,"Unité",1026.5999999999999,1,null,null,0,0,null,null,null,null,null,null,null,null,null,null,null,null,null,null,null,null,null,0,null,null,null,null,null,0]
[1712,"Article n° 1712",1712,null,null,"Unité",1027.2,1,null,null,0,0,null,null,null,null,null,null,null,null,null,null,null,null,null,null,null,null,null,0,null,null,null,null,null,0]
[1713,"Article n° 1713",1713,null,null,"Unité",1027.8,1,null,null,0,0,null,null,null,null,null,null,null,null,null,null,null,null,null,null,null,null,null,0,null,null,null,null,null,0]
[1714,"Article n° 1714",1714,null,null,"Unité",1028.4000000000001,1,null,null,0,0,null,null,null,null,null,null,null,null,null,null,null,null,null,null,null,null,null,0,null,null,null,null,null,0]
[1715,"Article n° 1715",1715,null,null,"Unité",1029,1,null,null,0,0,null,null,null,null,null,null,null,null,null,null,null,null,null,null,null,null,null,0,null,null,null,null,null,0]
[1716,"Article n° 1716",1716,null,null,"Unité",1029.5999999999999,1,null,null,0,0,null,null,null,null,null,null,null,null,null,null,null,null,null,null,null,null,null,0,null,null,null,null,null,0]
[1717,"Article n° 1717",1717,null,null,"Unité",1030.2,1,null,null,0,0,null,null,null,null,null,null,null,null,null,null,null,null,null,null,null,null,null,0,null,null,null,null,null,0]
[1718,"Article n° 1718",1718,null,null,"Unité",1030.8,1,null,null,0,0,null,null,null,null,null,null,null,null,null,null,null,null,null,null,null,null,null,0,null,null,null,null,null,0]
[1719,"Article n° 1719",1719,null,null,"Unité",1031.4000000000001,1,null,null,0,0,null,null,null,null,null,null,null,null,null,null,null,null,null,null,null,null,null,0,null,null,null,null,null,0]
[1720,"Article n° 1720",1720,null,null,"Unité",1032,1,null,null,0,0,null,null,null,null,null,null,null,null,null,null,null,null,null,null,null,null,null,0,null,null,null,null,null,0]
[1721,"Article n° 1721",1721,null,null,"Unité",1032.5999999999999,1,null,null,0,0,null,null,null,null,null,null,null,null,null,null,null,null,null,null,null,null,null,0,null,null,null,null,null,0]
[1722,"Article n° 1722",1722,null,null,"Unité",1033.2,1,null,null,0,0,null,null,null,null,null,null,null,null,null,null,null,null,null,null,null,null,null,0,null,null,null,null,null,0]
[1723,"Article n° 1723",1723,null,null,"Unité",1033.8,1,null,null,0,0,null,null,null,null,null,null,null,null,null,null,null,null,null,null,null,null,null,0,null,null,null,null,null,0]
[1724,"Article n° 1724",1724,null,null,"Unité",1034.4000000000001,1,null,null,0,0,null,null,null,null,null,null,null,null,null,null,null,null,null,null,null,null,null,0,null,null,null,null,null,0]
[1725,"Article n° 1725",1725,null,null,"Unité",1035,1,null,null,0,0,null,null,null,null,null,null,null,null,null,null,null,null,null,null,null,null,null,0,null,null,null,null,null,0]
[1726,"Article n° 1726",1726,null,null,"Unité",1035.5999999999999,1,null,null,0,0,null,null,null,null,null,null,null,null,null,null,null,null,null,null,null,null,null,0,null,null,null,null,null,0]
[1727,"Article n° 1727",1727,null,null,"Unité",1036.2,1,null,null,0,0,null,null,null,null,null,null,null,null,null,null,null,null,null,null,null,null,null,0,null,null,null,null,null,0]
[1728,"Article n° 1728",1728,null,null,"Unité",1036.8,1,null,null,0,0,null,null,null,null,null,null,null,null,null,null,null,null,null,null,null,null,null,0,null,null,null,null,null,0]
[1729,"Article n° 1729",1729,null,null,"Unité",1037.4000000000001,1,null,null,0,0,null,null,null,null,null,null,null,null,null,null,null,null,null,null,null,null,null,0,null,null,null,null,null,0]
[1730,"Article n° 1730",1730,null,null,"Unité",1038,1,null,null,0,0,null,null,null,null,null,null,null,null,null,null,null,null,null,null,null,null,null,0,null,null,null,null,null,0]
[1731,"Article n° 1731",1731,null,null,"Unité",1038.5999999999999,1,null,null,0,0,null,null,null,null,null,null,null,null,null,null,null,null,null,null,null,null,null,0,null,null,null,null,null,0]
[1732,"Article n° 1732",1732,null,null,"Unité",1039.2,1,null,null,0,0,null,null,null,null,null,null,null,null,null,null,null,null,null,null,null,null,null,0,null,null,null,null,null,0]
[1733,"Article n° 1733",1733,null,null,"Unité",1039.8,1,null,null,0,0,null,null,null,null,null,null,null,null,null,null,null,null,null,null,null,null,null,0,null,null,null,null,null,0]
[1734,"Article n° 1734",1734,null,null,"Unité",1040.4000000000001,1,null,null,0,0,null,null,null,null,null,null,null,null,null,null,null,null,null,null,null,null,null,0,null,null,null,null,null,0]
[1735,"Article n° 1735",1735,null,null,"Unité",1041,1,null,null,0,0,null,null,null,null,null,null,null,null,null,null,null,null,null,null,null,null,null,0,null,null,null,null,null,0]
[1736,"Article n° 1736",1736,null,null,"Unité",1041.5999999999999,1,null,null,{"$f":"AB714+M714-N714","v":0},{"$f":"G714*K714","v":0},null,null,null,null,null,null,null,null,null,null,null,null,null,null,null,null,null,{"$f":"AC714-K714","v":0},null,null,null,null,null,{"$f":"C714*K714","v":0}]
[1737,"Article n° 1737",1737,null,null,"Unité",1042.2,1,null,null,0,0,null,null,null,null,null,null,null,null,null,null,null,null,null,null,null,null,null,0,null,null,null,null,null,0]
[1738,"Article n° 1738",1738,null,null,"Unité",1042.8,1,null,null,0,0,null,null,null,null,null,null,null,null,null,null,null,null,null,null,null,null,null,0,null,null,null,null,null,0]
[1739,"Article n° 1739",1739,null,null,"Unité",1043.4000000000001,1,null,null,0,0,null,null,null,null,null,null,null,null,null,null,null,null,null,null,null,null,null,0,null,null,null,null,null,0]
[1740,"Article n° 1740",1740,null,null,"Unité",1044,1,null,null,0,0,null,null,null,null,null,null,null,null,null,null,null,null,null,null,null,null,null,0,null,null,null,null,null,0]
[1741,"Article n° 1741",1741,null,null,"Unité",1044.5999999999999,1,null,null,0,0,null,null,null,null,null,null,null,null,null,null,null,null,null,null,null,null,null,0,null,null,null,null,null,0]
[1742,"Article n° 1742",1742,null,null,"Unité",1045.2,1,null,null,0,0,null,null,null,null,null,null,null,null,null,null,null,null,null,null,null,null,null,0,null,null,null,null,null,0]
[1743,"Article n° 1743",1743,null,null,"Unité",1045.8,1,null,null,0,0,null,null,null,null,null,null,null,null,null,null,null,null,null,null,null,null,null,0,null,null,null,null,null,0]
[1744,"Article n° 1744",1744,null,null,"Unité",1046.4000000000001,1,null,null,0,0,null,null,null,null,null,null,null,null,null,null,null,null,null,null,null,null,null,0,null,null,null,null,null,0]
[1745,"Article n° 1745",1745,null,null,"Unité",1047,1,null,null,0,0,null,null,null,null,null,null,null,null,null,null,null,null,null,null,null,null,null,0,null,null,null,null,null,0]
[1746,"Article n° 1746",1746,null,null,"Unité",1047.5999999999999,1,null,null,0,0,null,null,null,null,null,null,null,null,null,null,null,null,null,null,null,null,null,0,null,null,null,null,null,0]
[1747,"Article n° 1747",1747,null,null,"Unité",1048.2,1,null,null,0,0,null,null,null,null,null,null,null,null,null,null,null,null,null,null,null,null,null,0,null,null,null,null,null,0]
[1748,"Article n° 1748",1748,null,null,"Unité",1048.8,1,null,null,0,0,null,null,null,null,null,null,null,null,null,null,null,null,null,null,null,null,null,0,null,null,null,null,null,0]
[1749,"Article n° 1749",1749,null,null,"Unité",1049.4000000000001,1,null,null,0,0,null,null,null,null,null,null,null,null,null,null,null,null,null,null,null,null,null,0,null,null,null,null,null,0]
[1750,"Article n° 1750",1750,null,null,"Unité",1050,1,null,null,0,0,null,null,null,null,null,null,null,null,null,null,null,null,null,null,null,null,null,0,null,null,null,null,null,0]
[1751,"Article n° 1751",1751,null,null,"Unité",1050.5999999999999,1,null,null,0,0,null,null,null,null,null,null,null,null,null,null,null,null,null,null,null,null,null,0,null,null,null,null,null,0]
[1752,"Article n° 1752",1752,null,null,"Unité",1051.2,1,null,null,0,0,null,null,null,null,null,null,null,null,null,null,null,null,null,null,null,null,null,0,null,null,null,null,null,0]
[1753,"Article n° 1753",1753,null,null,"Unité",1051.8,1,null,null,0,0,null,null,null,null,null,null,null,null,null,null,null,null,null,null,null,null,null,0,null,null,null,null,null,0]
[1754,"Article n° 1754",1754,null,null,"Unité",1052.4000000000001,1,null,null,0,0,null,null,null,null,null,null,null,null,null,null,null,null,null,null,null,null,null,0,null,null,null,null,null,0]
[1755,"Article n° 1755",1755,null,null,"Unité",1053,1,null,null,0,0,null,null,null,null,null,null,null,null,null,null,null,null,null,null,null,null,null,0,null,null,null,null,null,0]
[1756,"Article n° 1756",1756,null,null,"Unité",1053.5999999999999,1,null,null,0,0,null,null,null,null,null,null,null,null,null,null,null,null,null,null,null,null,null,0,null,null,null,null,null,0]
[1757,"Article n° 1757",1757,null,null,"Unité",1054.2,1,null,null,0,0,null,null,null,null,null,null,null,null,null,null,null,null,null,null,null,null,null,0,null,null,null,null,null,0]
[1758,"Article n° 1758",1758,null,null,"Unité",1054.8,1,null,null,0,0,null,null,null,null,null,null,null,null,null,null,null,null,null,null,null,null,null,0,null,null,null,null,null,0]
[1759,"Article n° 1759",1759,null,null,"Unité",1055.4000000000001,1,null,null,0,0,null,null,null,null,null,null,null,null,null,null,null,null,null,null,null,null,null,0,null,null,null,null,null,0]
[1760,"Article n° 1760",1760,null,null,"Unité",1056,1,null,null,0,0,null,null,null,null,null,null,null,null,null,null,null,null,null,null,null,null,null,0,null,null,null,null,null,0]
[1761,"Article n° 1761",1761,null,null,"Unité",1056.5999999999999,1,null,null,0,0,null,null,null,null,null,null,null,null,null,null,null,null,null,null,null,null,null,0,null,null,null,null,null,0]
[1762,"Article n° 1762",1762,null,null,"Unité",1057.2,1,null,null,0,0,null,null,null,null,null,null,null,null,null,null,null,null,null,null,null,null,null,0,null,null,null,null,null,0]
[1763,"Article n° 1763",1763,null,null,"Unité",1057.8,1,null,null,0,0,null,null,null,null,null,null,null,null,null,null,null,null,null,null,null,null,null,0,null,null,null,null,null,0]
[1764,"Article n° 1764",1764,null,null,"Unité",1058.4000000000001,1,null,null,0,0,null,null,null,null,null,null,null,null,null,null,null,null,null,null,null,null,null,0,null,null,null,null,null,0]
[1765,"Article n° 1765",1765,null,null,"Unité",1059,1,null,null,0,0,null,null,null,null,null,null,null,null,null,null,null,null,null,null,null,null,null,0,null,null,null,null,null,0]
[1766,"Article n° 1766",1766,null,null,"Unité",1059.5999999999999,1,null,null,0,0,null,null,null,null,null,null,null,null,null,null,null,null,null,null,null,null,null,0,null,null,null,null,null,0]
[1767,"Article n° 1767",1767,null,null,"Unité",1060.2,1,null,null,0,0,null,null,null,null,null,null,null,null,null,null,null,null,null,null,null,null,null,0,null,null,null,null,null,0]
[1768,"Article n° 1768",1768,null,null,"Unité",1060.8,1,null,null,0,0,null,null,null,null,null,null,null,null,null,null,null,null,null,null,null,null,null,0,null,null,null,null,null,0]
[1769,"Article n° 1769",1769,null,null,"Unité",1061.4000000000001,1,null,null,0,0,null,null,null,null,null,null,null,null,null,null,null,null,null,null,null,null,null,0,null,null,null,null,null,0]
[1770,"Article n° 1770",1770,null,null,"Unité",1062,1,null,null,0,0,null,null,null,null,null,null,null,null,null,null,null,null,null,null,null,null,null,0,null,null,null,null,null,0]
[1771,"Article n° 1771",1771,null,null,"Unité",1062.5999999999999,1,null,null,0,0,null,null,null,null,null,null,null,null,null,null,null,null,null,null,null,null,null,0,null,null,null,null,null,0]
[1772,"Article n° 1772",1772,null,null,"Unité",1063.2,1,null,null,0,0,null,null,null,null,null,null,null,null,null,null,null,null,null,null,null,null,null,0,null,null,null,null,null,0]
[1773,"Article n° 1773",1773,null,null,"Unité",1063.8,1,null,null,0,0,null,null,null,null,null,null,null,null,null,null,null,null,null,null,null,null,null,0,null,null,null,null,null,0]
[1774,"Article n° 1774",1774,null,null,"Unité",1064.4000000000001,1,null,null,0,0,null,null,null,null,null,null,null,null,null,null,null,null,null,null,null,null,null,0,null,null,null,null,null,0]
[1775,"Article n° 1775",1775,null,null,"Unité",1065,1,null,null,0,0,null,null,null,null,null,null,null,null,null,null,null,null,null,null,null,null,null,0,null,null,null,null,null,0]
[1776,"Article n° 1776",1776,null,null,"Unité",1065.5999999999999,1,null,null,0,0,null,null,null,null,null,null,null,null,null,null,null,null,null,null,null,null,null,0,null,null,null,null,null,0]
[1777,"Article n° 1777",1777,null,null,"Unité",1066.2,1,null,null,0,0,null,null,null,null,null,null,null,null,null,null,null,null,null,null,null,null,null,0,null,null,null,null,null,0]
[1778,"Article n° 1778",1778,null,null,"Unité",1066.8,1,null,null,0,0,null,null,null,null,null,null,null,null,null,null,null,null,null,null,null,null,null,0,null,null,null,null,null,0]
[1779,"Article n° 1779",1779,null,null,"Unité",1067.4000000000001,1,null,null,0,0,null,null,null,null,null,null,null,null,null,null,null,null,null,null,null,null,null,0,null,null,null,null,null,0]
[1780,"Article n° 1780",1780,null,null,"Unité",1068,1,null,null,0,0,null,null,null,null,null,null,null,null,null,null,null,null,null,null,null,null,null,0,null,null,null,null,null,0]
[1781,"Article n° 1781",1781,null,null,"Unité",1068.5999999999999,1,null,null,0,0,null,null,null,null,null,null,null,null,null,null,null,null,null,null,null,null,null,0,null,null,null,null,null,0]
[1782,"Article n° 1782",1782,null,null,"Unité",1069.2,1,null,null,0,0,null,null,null,null,null,null,null,null,null,null,null,null,null,null,null,null,null,0,null,null,null,null,null,0]
[1783,"Article n° 1783",1783,null,null,"Unité",1069.8,1,null,null,0,0,null,null,null,null,null,null,null,null,null,null,null,null,null,null,null,null,null,0,null,null,null,null,null,0]
[1784,"Article n° 1784",1784,null,null,"Unité",1070.4000000000001,1,null,null,0,0,null,null,null,null,null,null,null,null,null,null,null,null,null,null,null,null,null,0,null,null,null,null,null,0]
[1785,"Article n° 1785",1785,null,null,"Unité",1071,1,null,null,0,0,null,null,null,null,null,null,null,null,null,null,null,null,null,null,null,null,null,0,null,null,null,null,null,0]
[1786,"Article n° 1786",1786,null,null,"Unité",1071.5999999999999,1,null,null,0,0,null,null,null,null,null,null,null,null,null,null,null,null,null,null,null,null,null,0,null,null,null,null,null,0]
[1787,"Article n° 1787",1787,null,null,"Unité",1072.2,1,null,null,0,0,null,null,null,null,null,null,null,null,null,null,null,null,null,null,null,null,null,0,null,null,null,null,null,0]
[1788,"Article n° 1788",1788,null,null,"Unité",1072.8,1,null,null,0,0,null,null,null,null,null,null,null,null,null,null,null,null,null,null,null,null,null,0,null,null,null,null,null,0]
[1789,"Article n° 1789",1789,null,null,"Unité",1073.4000000000001,1,null,null,0,0,null,null,null,null,null,null,null,null,null,null,null,null,null,null,null,null,null,0,null,null,null,null,null,0]
[1790,"Article n° 1790",1790,null,null,"Unité",1074,1,null,null,0,0,null,null,null,null,null,null,null,null,null,null,null,null,null,null,null,null,null,0,null,null,null,null,null,0]
[1791,"Article n° 1791",1791,null,null,"Unité",1074.5999999999999,1,null,null,0,0,null,null,null,null,null,null,null,null,null,null,null,null,null,null,null,null,null,0,null,null,null,null,null,0]
[1792,"Article n° 1792",1792,null,null,"Unité",1075.2,1,null,null,0,0,null,null,null,null,null,null,null,null,null,null,null,null,null,null,null,null,null,0,null,null,null,null,null,0]
[1793,"Article n° 1793",1793,null,null,"Unité",1075.8,1,null,null,0,0,null,null,null,null,null,null,null,null,null,null,null,null,null,null,null,null,null,0,null,null,null,null,null,0]
[1794,"Article n° 1794",1794,null,null,"Unité",1076.4000000000001,1,null,null,0,0,null,null,null,null,null,null,null,null,null,null,null,null,null,null,null,null,null,0,null,null,null,null,null,0]
[1795,"Article n° 1795",1795,null,null,"Unité",1077,1,null,null,0,0,null,null,null,null,null,null,null,null,null,null,null,null,null,null,null,null,null,0,null,null,null,null,null,0]
[1796,"Article n° 1796",1796,null,null,"Unité",1077.5999999999999,1,null,null,0,0,null,null,null,null,null,null,null,null,null,null,null,null,null,null,null,null,null,0,null,null,null,null,null,0]
[1797,"Article n° 1797",1797,null,null,"Unité",1078.2,1,null,null,0,0,null,null,null,null,null,null,null,null,null,null,null,null,null,null,null,null,null,0,null,null,null,null,null,0]
[1798,"Article n° 1798",1798,null,null,"Unité",1078.8,1,null,null,0,0,null,null,null,null,null,null,null,null,null,null,null,null,null,null,null,null,null,0,null,null,null,null,null,0]
[1799,"Article n° 1799",1799,null,null,"Unité",1079.4000000000001,1,null,null,0,0,null,null,null,null,null,null,null,null,null,null,null,null,null,null,null,null,null,0,null,null,null,null,null,0]
[1800,"Article n° 1800",1800,null,null,"Unité",1080,1,null,null,{"$f":"AB778+M778-N778","v":0},{"$f":"G778*K778","v":0},null,null,null,null,null,null,null,null,null,null,null,null,null,null,null,null,null,{"$f":"AC778-K778","v":0},null,null,null,null,null,{"$f":"C778*K778","v":0}]
[1801,"Article n° 1801",1801,null,null,"Unité",1080.5999999999999,1,null,null,0,0,null,null,null,null,null,null,null,null,null,null,null,null,null,null,null,null,null,0,null,null,null,null,null,0]
[1802,"Article n° 1802",1802,null,null,"Unité",1081.2,1,null,null,0,0,null,null,null,null,null,null,null,null,null,null,null,null,null,null,null,null,null,0,null,null,null,null,null,0]
[1803,"Article n° 1803",1803,null,null,"Unité",1081.8,1,null,null,0,0,null,null,null,null,null,null,null,null,null,null,null,null,null,null,null,null,null,0,null,null,null,null,null,0]
[1804,"Article n° 1804",1804,null,null,"Unité",1082.4000000000001,1,null,null,0,0,null,null,null,null,null,null,null,null,null,null,null,null,null,null,null,null,null,0,null,null,null,null,null,0]
[1805,"Article n° 1805",1805,null,null,"Unité",1083,1,null,null,0,0,null,null,null,null,null,null,null,null,null,null,null,null,null,null,null,null,null,0,null,null,null,null,null,0]
[1806,"Article n° 1806",1806,null,null,"Unité",1083.5999999999999,1,null,null,0,0,null,null,null,null,null,null,null,null,null,null,null,null,null,null,null,null,null,0,null,null,null,null,null,0]
[1807,"Article n° 1807",1807,null,null,"Unité",1084.2,1,null,null,0,0,null,null,null,null,null,null,null,null,null,null,null,null,null,null,null,null,null,0,null,null,null,null,null,0]
[1808,"Article n° 1808",1808,null,null,"Unité",1084.8,1,null,null,0,0,null,null,null,null,null,null,null,null,null,null,null,null,null,null,null,null,null,0,null,null,null,null,null,0]
[1809,"Article n° 1809",1809,null,null,"Unité",1085.4000000000001,1,null,null,0,0,null,null,null,null,null,null,null,null,null,null,null,null,null,null,null,null,null,0,null,null,null,null,null,0]
[1810,"Article n° 1810",1810,null,null,"Unité",1086,1,null,null,0,0,null,null,null,null,null,null,null,null,null,null,null,null,null,null,null,null,null,0,null,null,null,null,null,0]
[1811,"Article n° 1811",1811,null,null,"Unité",1086.5999999999999,1,null,null,0,0,null,null,null,null,null,null,null,null,null,null,null,null,null,null,null,null,null,0,null,null,null,null,null,0]
[1812,"Article n° 1812",1812,null,null,"Unité",1087.2,1,null,null,0,0,null,null,null,null,null,null,null,null,null,null,null,null,null,null,null,null,null,0,null,null,null,null,null,0]
[1813,"Article n° 1813",1813,null,null,"Unité",1087.8,1,null,null,0,0,null,null,null,null,null,null,null,null,null,null,null,null,null,null,null,null,null,0,null,null,null,null,null,0]
[1814,"Article n° 1814",1814,null,null,"Unité",1088.4000000000001,1,null,null,0,0,null,null,null,null,null,null,null,null,null,null,null,null,null,null,null,null,null,0,null,null,null,null,null,0]
[1815,"Article n° 1815",1815,null,null,"Unité",1089,1,null,null,0,0,null,null,null,null,null,null,null,null,null,null,null,null,null,null,null,null,null,0,null,null,null,null,null,0]
[1816,"Article n° 1816",1816,null,null,"Unité",1089.5999999999999,1,null,null,0,0,null,null,null,null,null,null,null,null,null,null,null,null,null,null,null,null,null,0,null,null,null,null,null,0]
[1817,"Article n° 1817",1817,null,null,"Unité",1090.2,1,null,null,0,0,null,null,null,null,null,null,null,null,null,null,null,null,null,null,null,null,null,0,null,null,null,null,null,0]
[1818,"Article n° 1818",1818,null,null,"Unité",1090.8,1,null,null,0,0,null,null,null,null,null,null,null,null,null,null,null,null,null,null,null,null,null,0,null,null,null,null,null,0]
[1819,"Article n° 1819",1819,null,null,"Unité",1091.4000000000001,1,null,null,0,0,null,null,null,null,null,null,null,null,null,null,null,null,null,null,null,null,null,0,null,null,null,null,null,0]
[1820,"Article n° 1820",1820,null,null,"Unité",1092,1,null,null,0,0,null,null,null,null,null,null,null,null,null,null,null,null,null,null,null,null,null,0,null,null,null,null,null,0]
[1821,"Article n° 1821",1821,null,null,"Unité",1092.5999999999999,1,null,null,0,0,null,null,null,null,null,null,null,null,null,null,null,null,null,null,null,null,null,0,null,null,null,null,null,0]
[1822,"Article n° 1822",1822,null,null,"Unité",1093.2,1,null,null,0,0,null,null,null,null,null,null,null,null,null,null,null,null,null,null,null,null,null,0,null,null,null,null,null,0]
[1823,"Article n° 1823",1823,null,null,"Unité",1093.8,1,null,null,0,0,null,null,null,null,null,null,null,null,null,null,null,null,null,null,null,null,null,0,null,null,null,null,null,0]
[1824,"Article n° 1824",1824,null,null,"Unité",1094.4000000000001,1,null,null,0,0,null,null,null,null,null,null,null,null,null,null,null,null,null,null,null,null,null,0,null,null,null,null,null,0]
[1825,"Article n° 1825",1825,null,null,"Unité",1095,1,null,null,0,0,null,null,null,null,null,null,null,null,null,null,null,null,null,null,null,null,null,0,null,null,null,null,null,0]
[1826,"Article n° 1826",1826,null,null,"Unité",1095.5999999999999,1,null,null,0,0,null,null,null,null,null,null,null,null,null,null,null,null,null,null,null,null,null,0,null,null,null,null,null,0]
[1827,"Article n° 1827",1827,null,null,"Unité",1096.2,1,null,null,0,0,null,null,null,null,null,null,null,null,null,null,null,null,null,null,null,null,null,0,null,null,null,null,null,0]
[1828,"Article n° 1828",1828,null,null,"Unité",1096.8,1,null,null,0,0,null,null,null,null,null,null,null,null,null,null,null,null,null,null,null,null,null,0,null,null,null,null,null,0]
[1829,"Article n° 1829",1829,null,null,"Unité",1097.4000000000001,1,null,null,0,0,null,null,null,null,null,null,null,null,null,null,null,null,null,null,null,null,null,0,null,null,null,null,null,0]
[1830,"Article n° 1830",1830,null,null,"Unité",1098,1,null,null,0,0,null,null,null,null,null,null,null,null,null,null,null,null,null,null,null,null,null,0,null,null,null,null,null,0]
[1831,"Article n° 1831",1831,null,null,"Unité",1098.5999999999999,1,null,null,0,0,null,null,null,null,null,null,null,null,null,null,null,null,null,null,null,null,null,0,null,null,null,null,null,0]
[1832,"Article n° 1832",1832,null,null,"Unité",1099.2,1,null,null,0,0,null,null,null,null,null,null,null,null,null,null,null,null,null,null,null,null,null,0,null,null,null,null,null,0]
[1833,"Article n° 1833",1833,null,null,"Unité",1099.8,1,null,null,0,0,null,null,null,null,null,null,null,null,null,null,null,null,null,null,null,null,null,0,null,null,null,null,null,0]
[1834,"Article n° 1834",1834,null,null,"Unité",1100.4000000000001,1,null,null,0,0,null,null,null,null,null,null,null,null,null,null,null,null,null,null,null,null,null,0,null,null,null,null,null,0]
[1835,"Article n° 1835",1835,null,null,"Unité",1101,1,null,null,0,0,null,null,null,null,null,null,null,null,null,null,null,null,null,null,null,null,null,0,null,null,null,null,null,0]
[1836,"Article n° 1836",1836,null,null,"Unité",1101.5999999999999,1,null,null,0,0,null,null,null,null,null,null,null,null,null,null,null,null,null,null,null,null,null,0,null,null,null,null,null,0]
[1837,"Article n° 1837",1837,null,null,"Unité",1102.2,1,null,null,0,0,null,null,null,null,null,null,null,null,null,null,null,null,null,null,null,null,null,0,null,null,null,null,null,0]
[1838,"Article n° 1838",1838,null,null,"Unité",1102.8,1,null,null,0,0,null,null,null,null,null,null,null,null,null,null,null,null,null,null,null,null,null,0,null,null,null,null,null,0]
[1839,"Article n° 1839",1839,null,null,"Unité",1103.4000000000001,1,null,null,0,0,null,null,null,null,null,null,null,null,null,null,null,null,null,null,null,null,null,0,null,null,null,null,null,0]
[1840,"Article n° 1840",1840,null,null,"Unité",1104,1,null,null,0,0,null,null,null,null,null,null,null,null,null,null,null,null,null,null,null,null,null,0,null,null,null,null,null,0]
[1841,"Article n° 1841",1841,null,null,"Unité",1104.5999999999999,1,null,null,0,0,null,null,null,null,null,null,null,null,null,null,null,null,null,null,null,null,null,0,null,null,null,null,null,0]
[1842,"Article n° 1842",1842,null,null,"Unité",1105.2,1,null,null,0,0,null,null,null,null,null,null,null,null,null,null,null,null,null,null,null,null,null,0,null,null,null,null,null,0]
[1843,"Article n° 1843",1843,null,null,"Unité",1105.8,1,null,null,0,0,null,null,null,null,null,null,null,null,null,null,null,null,null,null,null,null,null,0,null,null,null,null,null,0]
[1844,"Article n° 1844",1844,null,null,"Unité",1106.4000000000001,1,null,null,0,0,null,null,null,null,null,null,null,null,null,null,null,null,null,null,null,null,null,0,null,null,null,null,null,0]
[1845,"Article n° 1845",1845,null,null,"Unité",1107,1,null,null,0,0,null,null,null,null,null,null,null,null,null,null,null,null,null,null,null,null,null,0,null,null,null,null,null,0]
[1846,"Article n° 1846",1846,null,null,"Unité",1107.5999999999999,1,null,null,0,0,null,null,null,null,null,null,null,null,null,null,null,null,null,null,null,null,null,0,null,null,null,null,null,0]
[1847,"Article n° 1847",1847,null,null,"Unité",1108.2,1,null,null,0,0,null,null,null,null,null,null,null,null,null,null,null,null,null,null,null,null,null,0,null,null,null,null,null,0]
[1848,"Article n° 1848",1848,null,null,"Unité",1108.8,1,null,null,0,0,null,null,null,null,null,null,null,null,null,null,null,null,null,null,null,null,null,0,null,null,null,null,null,0]
[1849,"Article n° 1849",1849,null,null,"Unité",1109.4000000000001,1,null,null,0,0,null,null,null,null,null,null,null,null,null,null,null,null,null,null,null,null,null,0,null,null,null,null,null,0]
[1850,"Article n° 1850",1850,null,null,"Unité",1110,1,null,null,0,0,null,null,null,null,null,null,null,null,null,null,null,null,null,null,null,null,null,0,null,null,null,null,null,0]
[1851,"Article n° 1851",1851,null,null,"Unité",1110.5999999999999,1,null,null,0,0,null,null,null,null,null,null,null,null,null,null,null,null,null,null,null,null,null,0,null,null,null,null,null,0]
[1852,"Article n° 1852",1852,null,null,"Unité",1111.2,1,null,null,0,0,null,null,null,null,null,null,null,null,null,null,null,null,null,null,null,null,null,0,null,null,null,null,null,0]
[1853,"Article n° 1853",1853,null,null,"Unité",1111.8,1,null,null,0,0,null,null,null,null,null,null,null,null,null,null,null,null,null,null,null,null,null,0,null,null,null,null,null,0]
[1854,"Article n° 1854",1854,null,null,"Unité",1112.4000000000001,1,null,null,0,0,null,null,null,null,null,null,null,null,null,null,null,null,null,null,null,null,null,0,null,null,null,null,null,0]
[1855,"Article n° 1855",1855,null,null,"Unité",1113,1,null,null,0,0,null,null,null,null,null,null,null,null,null,null,null,null,null,null,null,null,null,0,null,null,null,null,null,0]
[1856,"Article n° 1856",1856,null,null,"Unité",1113.5999999999999,1,null,null,0,0,null,null,null,null,null,null,null,null,null,null,null,null,null,null,null,null,null,0,null,null,null,null,null,0]
[1857,"Article n° 1857",1857,null,null,"Unité",1114.2,1,null,null,0,0,null,null,null,null,null,null,null,null,null,null,null,null,null,null,null,null,null,0,null,null,null,null,null,0]
[1858,"Article n° 1858",1858,null,null,"Unité",1114.8,1,null,null,0,0,null,null,null,null,null,null,null,null,null,null,null,null,null,null,null,null,null,0,null,null,null,null,null,0]
[1859,"Article n° 1859",1859,null,null,"Unité",1115.4000000000001,1,null,null,0,0,null,null,null,null,null,null,null,null,null,null,null,null,null,null,null,null,null,0,null,null,null,null,null,0]
[1860,"Article n° 1860",1860,null,null,"Unité",1116,1,null,null,0,0,null,null,null,null,null,null,null,null,null,null,null,null,null,null,null,null,null,0,null,null,null,null,null,0]
[1861,"Article n° 1861",1861,null,null,"Unité",1116.5999999999999,1,null,null,0,0,null,null,null,null,null,null,null,null,null,null,null,null,null,null,null,null,null,0,null,null,null,null,null,0]
[1862,"Article n° 1862",1862,null,null,"Unité",1117.2,1,null,null,0,0,null,null,null,null,null,null,null,null,null,null,null,null,null,null,null,null,null,0,null,null,null,null,null,0]
[1863,"Article n° 1863",1863,null,null,"Unité",1117.8,1,null,null,0,0,null,null,null,null,null,null,null,null,null,null,null,null,null,null,null,null,null,0,null,null,null,null,null,0]
[1864,"Article n° 1864",1864,null,null,"Unité",1118.4000000000001,1,null,null,{"$f":"AB842+M842-N842","v":0},{"$f":"G842*K842","v":0},null,null,null,null,null,null,null,null,null,null,null,null,null,null,null,null,null,{"$f":"AC842-K842","v":0},null,null,null,null,null,{"$f":"C842*K842","v":0}]
[1865,"Article n° 1865",1865,null,null,"Unité",1119,1,null,null,0,0,null,null,null,null,null,null,null,null,null,null,null,null,null,null,null,null,null,0,null,null,null,null,null,0]
[1866,"Article n° 1866",1866,null,null,"Unité",1119.5999999999999,1,null,null,0,0,null,null,null,null,null,null,null,null,null,null,null,null,null,null,null,null,null,0,null,null,null,null,null,0]
[1867,"Article n° 1867",1867,null,null,"Unité",1120.2,1,null,null,0,0,null,null,null,null,null,null,null,null,null,null,null,null,null,null,null,null,null,0,null,null,null,null,null,0]
[1868,"Article n° 1868",1868,null,null,"Unité",1120.8,1,null,null,0,0,null,null,null,null,null,null,null,null,null,null,null,null,null,null,null,null,null,0,null,null,null,null,null,0]
[1869,"Article n° 1869",1869,null,null,"Unité",1121.4000000000001,1,null,null,0,0,null,null,null,null,null,null,null,null,null,null,null,null,null,null,null,null,null,0,null,null,null,null,null,0]
[1870,"Article n° 1870",1870,null,null,"Unité",1122,1,null,null,0,0,null,null,null,null,null,null,null,null,null,null,null,null,null,null,null,null,null,0,null,null,null,null,null,0]
[1871,"Article n° 1871",1871,null,null,"Unité",1122.5999999999999,1,null,null,0,0,null,null,null,null,null,null,null,null,null,null,null,null,null,null,null,null,null,0,null,null,null,null,null,0]
[1872,"Article n° 1872",1872,null,null,"Unité",1123.2,1,null,null,0,0,null,null,null,null,null,null,null,null,null,null,null,null,null,null,null,null,null,0,null,null,null,null,null,0]
[1873,"Article n° 1873",1873,null,null,"Unité",1123.8,1,null,null,0,0,null,null,null,null,null,null,null,null,null,null,null,null,null,null,null,null,null,0,null,null,null,null,null,0]
[1874,"Article n° 1874",1874,null,null,"Unité",1124.4000000000001,1,null,null,0,0,null,null,null,null,null,null,null,null,null,null,null,null,null,null,null,null,null,0,null,null,null,null,null,0]
[1875,"Article n° 1875",1875,null,null,"Unité",1125,1,null,null,0,0,null,null,null,null,null,null,null,null,null,null,null,null,null,null,null,null,null,0,null,null,null,null,null,0]
[1876,"Article n° 1876",1876,null,null,"Unité",1125.5999999999999,1,null,null,0,0,null,null,null,null,null,null,null,null,null,null,null,null,null,null,null,null,null,0,null,null,null,null,null,0]
[1877,"Article n° 1877",1877,null,null,"Unité",1126.2,1,null,null,0,0,null,null,null,null,null,null,null,null,null,null,null,null,null,null,null,null,null,0,null,null,null,null,null,0]
[1878,"Article n° 1878",1878,null,null,"Unité",1126.8,1,null,null,0,0,null,null,null,null,null,null,null,null,null,null,null,null,null,null,null,null,null,0,null,null,null,null,null,0]
[1879,"Article n° 1879",1879,null,null,"Unité",1127.4000000000001,1,null,null,0,0,null,null,null,null,null,null,null,null,null,null,null,null,null,null,null,null,null,0,null,null,null,null,null,0]
[1880,"Article n° 1880",1880,null,null,"Unité",1128,1,null,null,0,0,null,null,null,null,null,null,null,null,null,null,null,null,null,null,null,null,null,0,null,null,null,null,null,0]
[1881,"Article n° 1881",1881,null,null,"Unité",1128.5999999999999,1,null,null,0,0,null,null,null,null,null,null,null,null,null,null,null,null,null,null,null,null,null,0,null,null,null,null,null,0]
[1882,"Article n° 1882",1882,null,null,"Unité",1129.2,1,null,null,0,0,null,null,null,null,null,null,null,null,null,null,null,null,null,null,null,null,null,0,null,null,null,null,null,0]
[1883,"Article n° 1883",1883,null,null,"Unité",1129.8,1,null,null,0,0,null,null,null,null,null,null,null,null,null,null,null,null,null,null,null,null,null,0,null,null,null,null,null,0]
[1884,"Article n° 1884",1884,null,null,"Unité",1130.4000000000001,1,null,null,0,0,null,null,null,null,null,null,null,null,null,null,null,null,null,null,null,null,null,0,null,null,null,null,null,0]
[1885,"Article n° 1885",1885,null,null,"Unité",1131,1,null,null,0,0,null,null,null,null,null,null,null,null,null,null,null,null,null,null,null,null,null,0,null,null,null,null,null,0]
[1886,"Article n° 1886",1886,null,null,"Unité",1131.5999999999999,1,null,null,0,0,null,null,null,null,null,null,null,null,null,null,null,null,null,null,null,null,null,0,null,null,null,null,null,0]
[1887,"Article n° 1887",1887,null,null,"Unité",1132.2,1,null,null,0,0,null,null,null,null,null,null,null,null,null,null,null,null,null,null,null,null,null,0,null,null,null,null,null,0]
[1888,"Article n° 1888",1888,null,null,"Unité",1132.8,1,null,null,0,0,null,null,null,null,null,null,null,null,null,null,null,null,null,null,null,null,null,0,null,null,null,null,null,0]
[1889,"Article n° 1889",1889,null,null,"Unité",1133.4000000000001,1,null,null,0,0,null,null,null,null,null,null,null,null,null,null,null,null,null,null,null,null,null,0,null,null,null,null,null,0]
[1890,"Article n° 1890",1890,null,null,"Unité",1134,1,null,null,0,0,null,null,null,null,null,null,null,null,null,null,null,null,null,null,null,null,null,0,null,null,null,null,null,0]
[1891,"Article n° 1891",1891,null,null,"Unité",1134.5999999999999,1,null,null,0,0,null,null,null,null,null,null,null,null,null,null,null,null,null,null,null,null,null,0,null,null,null,null,null,0]
[1892,"Article n° 1892",1892,null,null,"Unité",1135.2,1,null,null,0,0,null,null,null,null,null,null,null,null,null,null,null,null,null,null,null,null,null,0,null,null,null,null,null,0]
[1893,"Article n° 1893",1893,null,null,"Unité",1135.8,1,null,null,0,0,null,null,null,null,null,null,null,null,null,null,null,null,null,null,null,null,null,0,null,null,null,null,null,0]
[1894,"Article n° 1894",1894,null,null,"Unité",1136.4000000000001,1,null,null,0,0,null,null,null,null,null,null,null,null,null,null,null,null,null,null,null,null,null,0,null,null,null,null,null,0]
[1895,"Article n° 1895",1895,null,null,"Unité",1137,1,null,null,0,0,null,null,null,null,null,null,null,null,null,null,null,null,null,null,null,null,null,0,null,null,null,null,null,0]
[1896,"Article n° 1896",1896,null,null,"Unité",1137.5999999999999,1,null,null,0,0,null,null,null,null,null,null,null,null,null,null,null,null,null,null,null,null,null,0,null,null,null,null,null,0]
[1897,"Article n° 1897",1897,null,null,"Unité",1138.2,1,null,null,0,0,null,null,null,null,null,null,null,null,null,null,null,null,null,null,null,null,null,0,null,null,null,null,null,0]
[1898,"Article n° 1898",1898,null,null,"Unité",1138.8,1,null,null,0,0,null,null,null,null,null,null,null,null,null,null,null,null,null,null,null,null,null,0,null,null,null,null,null,0]
[1899,"Article n° 1899",1899,null,null,"Unité",1139.4000000000001,1,null,null,0,0,null,null,null,null,null,null,null,null,null,null,null,null,null,null,null,null,null,0,null,null,null,null,null,0]
[1900,"Article n° 1900",1900,null,null,"Unité",1140,1,null,null,0,0,null,null,null,null,null,null,null,null,null,null,null,null,null,null,null,null,null,0,null,null,null,null,null,0]
[1901,"Article n° 1901",1901,null,null,"Unité",1140.5999999999999,1,null,null,0,0,null,null,null,null,null,null,null,null,null,null,null,null,null,null,null,null,null,0,null,null,null,null,null,0]
[1902,"Article n° 1902",1902,null,null,"Unité",1141.2,1,null,null,0,0,null,null,null,null,null,null,null,null,null,null,null,null,null,null,null,null,null,0,null,null,null,null,null,0]
[1903,"Article n° 1903",1903,null,null,"Unité",1141.8,1,null,null,0,0,null,null,null,null,null,null,null,null,null,null,null,null,null,null,null,null,null,0,null,null,null,null,null,0]
[1904,"Article n° 1904",1904,null,null,"Unité",1142.4000000000001,1,null,null,0,0,null,null,null,null,null,null,null,null,null,null,null,null,null,null,null,null,null,0,null,null,null,null,null,0]
[1905,"Article n° 1905",1905,null,null,"Unité",1143,1,null,null,0,0,null,null,null,null,null,null,null,null,null,null,null,null,null,null,null,null,null,0,null,null,null,null,null,0]
[1906,"Article n° 1906",1906,null,null,"Unité",1143.5999999999999,1,null,null,0,0,null,null,null,null,null,null,null,null,null,null,null,null,null,null,null,null,null,0,null,null,null,null,null,0]
[1907,"Article n° 1907",1907,null,null,"Unité",1144.2,1,null,null,0,0,null,null,null,null,null,null,null,null,null,null,null,null,null,null,null,null,null,0,null,null,null,null,null,0]
[1908,"Article n° 1908",1908,null,null,"Unité",1144.8,1,null,null,0,0,null,null,null,null,null,null,null,null,null,null,null,null,null,null,null,null,null,0,null,null,null,null,null,0]
[1909,"Article n° 1909",1909,null,null,"Unité",1145.4000000000001,1,null,null,0,0,null,null,null,null,null,null,null,null,null,null,null,null,null,null,null,null,null,0,null,null,null,null,null,0]
[1910,"Article n° 1910",1910,null,null,"Unité",1146,1,null,null,0,0,null,null,null,null,null,null,null,null,null,null,null,null,null,null,null,null,null,0,null,null,null,null,null,0]
[1911,"Article n° 1911",1911,null,null,"Unité",1146.5999999999999,1,null,null,0,0,null,null,null,null,null,null,null,null,null,null,null,null,null,null,null,null,null,0,null,null,null,null,null,0]
[1912,"Article n° 1912",1912,null,null,"Unité",1147.2,1,null,null,0,0,null,null,null,null,null,null,null,null,null,null,null,null,null,null,null,null,null,0,null,null,null,null,null,0]
[1913,"Article n° 1913",1913,null,null,"Unité",1147.8,1,null,null,0,0,null,null,null,null,null,null,null,null,null,null,null,null,null,null,null,null,null,0,null,null,null,null,null,0]
[1914,"Article n° 1914",1914,null,null,"Unité",1148.4000000000001,1,null,null,0,0,null,null,null,null,null,null,null,null,null,null,null,null,null,null,null,null,null,0,null,null,null,null,null,0]
[1915,"Article n° 1915",1915,null,null,"Unité",1149,1,null,null,0,0,null,null,null,null,null,null,null,null,null,null,null,null,null,null,null,null,null,0,null,null,null,null,null,0]
[1916,"Article n° 1916",1916,null,null,"Unité",1149.5999999999999,1,null,null,0,0,null,null,null,null,null,null,null,null,null,null,null,null,null,null,null,null,null,0,null,null,null,null,null,0]
[1917,"Article n° 1917",1917,null,null,"Unité",1150.2,1,null,null,0,0,null,null,null,null,null,null,null,null,null,null,null,null,null,null,null,null,null,0,null,null,null,null,null,0]
[1918,"Article n° 1918",1918,null,null,"Unité",1150.8,1,null,null,0,0,null,null,null,null,null,null,null,null,null,null,null,null,null,null,null,null,null,0,null,null,null,null,null,0]
[1919,"Article n° 1919",1919,null,null,"Unité",1151.4000000000001,1,null,null,0,0,null,null,null,null,null,null,null,null,null,null,null,null,null,null,null,null,null,0,null,null,null,null,null,0]
[1920,"Article n° 1920",1920,null,null,"Unité",1152,1,null,null,0,0,null,null,null,null,null,null,null,null,null,null,null,null,null,null,null,null,null,0,null,null,null,null,null,0]
[1921,"Article n° 1921",1921,null,null,"Unité",1152.5999999999999,1,null,null,0,0,null,null,null,null,null,null,null,null,null,null,null,null,null,null,null,null,null,0,null,null,null,null,null,0]
[1922,"Article n° 1922",1922,null,null,"Unité",1153.2,1,null,null,0,0,null,null,null,null,null,null,null,null,null,null,null,null,null,null,null,null,null,0,null,null,null,null,null,0]
[1923,"Article n° 1923",1923,null,null,"Unité",1153.8,1,null,null,0,0,null,null,null,null,null,null,null,null,null,null,null,null,null,null,null,null,null,0,null,null,null,null,null,0]
[1924,"Article n° 1924",1924,null,null,"Unité",1154.4000000000001,1,null,null,0,0,null,null,null,null,null,null,null,null,null,null,null,null,null,null,null,null,null,0,null,null,null,null,null,0]
[1925,"Article n° 1925",1925,null,null,"Unité",1155,1,null,null,0,0,null,null,null,null,null,null,null,null,null,null,null,null,null,null,null,null,null,0,null,null,null,null,null,0]
[1926,"Article n° 1926",1926,null,null,"Unité",1155.5999999999999,1,null,null,0,0,null,null,null,null,null,null,null,null,null,null,null,null,null,null,null,null,null,0,null,null,null,null,null,0]
[1927,"Article n° 1927",1927,null,null,"Unité",1156.2,1,null,null,0,0,null,null,null,null,null,null,null,null,null,null,null,null,null,null,null,null,null,0,null,null,null,null,null,0]
[1928,"Article n° 1928",1928,null,null,"Unité",1156.8,1,null,null,{"$f":"AB906+M906-N906","v":0},{"$f":"G906*K906","v":0},null,null,null,null,null,null,null,null,null,null,null,null,null,null,null,null,null,{"$f":"AC906-K906","v":0},null,null,null,null,null,{"$f":"C906*K906","v":0}]
[1929,"Article n° 1929",1929,null,null,"Unité",1157.4000000000001,1,null,null,0,0,null,null,null,null,null,null,null,null,null,null,null,null,null,null,null,null,null,0,null,null,null,null,null,0]
[1930,"Article n° 1930",1930,null,null,"Unité",1158,1,null,null,0,0,null,null,null,null,null,null,null,null,null,null,null,null,null,null,null,null,null,0,null,null,null,null,null,0]
[1931,"Article n° 1931",1931,null,null,"Unité",1158.5999999999999,1,null,null,0,0,null,null,null,null,null,null,null,null,null,null,null,null,null,null,null,null,null,0,null,null,null,null,null,0]
[1932,"Article n° 1932",1932,null,null,"Unité",1159.2,1,null,null,0,0,null,null,null,null,null,null,null,null,null,null,null,null,null,null,null,null,null,0,null,null,null,null,null,0]
[1933,"Article n° 1933",1933,null,null,"Unité",1159.8,1,null,null,0,0,null,null,null,null,null,null,null,null,null,null,null,null,null,null,null,null,null,0,null,null,null,null,null,0]
[1934,"Article n° 1934",1934,null,null,"Unité",1160.4000000000001,1,null,null,0,0,null,null,null,null,null,null,null,null,null,null,null,null,null,null,null,null,null,0,null,null,null,null,null,0]
[1935,"Article n° 1935",1935,null,null,"Unité",1161,1,null,null,0,0,null,null,null,null,null,null,null,null,null,null,null,null,null,null,null,null,null,0,null,null,null,null,null,0]
[1936,"Article n° 1936",1936,null,null,"Unité",1161.5999999999999,1,null,null,0,0,null,null,null,null,null,null,null,null,null,null,null,null,null,null,null,null,null,0,null,null,null,null,null,0]
[1937,"Article n° 1937",1937,null,null,"Unité",1162.2,1,null,null,0,0,null,null,null,null,null,null,null,null,null,null,null,null,null,null,null,null,null,0,null,null,null,null,null,0]
[1938,"Article n° 1938",1938,null,null,"Unité",1162.8,1,null,null,0,0,null,null,null,null,null,null,null,null,null,null,null,null,null,null,null,null,null,0,null,null,null,null,null,0]
[1939,"Article n° 1939",1939,null,null,"Unité",1163.4000000000001,1,null,null,0,0,null,null,null,null,null,null,null,null,null,null,null,null,null,null,null,null,null,0,null,null,null,null,null,0]
[1940,"Article n° 1940",1940,null,null,"Unité",1164,1,null,null,0,0,null,null,null,null,null,null,null,null,null,null,null,null,null,null,null,null,null,0,null,null,null,null,null,0]
[1941,"Article n° 1941",1941,null,null,"Unité",1164.5999999999999,1,null,null,0,0,null,null,null,null,null,null,null,null,null,null,null,null,null,null,null,null,null,0,null,null,null,null,null,0]
[1942,"Article n° 1942",1942,null,null,"Unité",1165.2,1,null,null,0,0,null,null,null,null,null,null,null,null,null,null,null,null,null,null,null,null,null,0,null,null,null,null,null,0]
[1943,"Article n° 1943",1943,null,null,"Unité",1165.8,1,null,null,0,0,null,null,null,null,null,null,null,null,null,null,null,null,null,null,null,null,null,0,null,null,null,null,null,0]
[1944,"Article n° 1944",1944,null,null,"Unité",1166.4000000000001,1,null,null,0,0,null,null,null,null,null,null,null,null,null,null,null,null,null,null,null,null,null,0,null,null,null,null,null,0]
[1945,"Article n° 1945",1945,null,null,"Unité",1167,1,null,null,0,0,null,null,null,null,null,null,null,null,null,null,null,null,null,null,null,null,null,0,null,null,null,null,null,0]
[1946,"Article n° 1946",1946,null,null,"Unité",1167.5999999999999,1,null,null,0,0,null,null,null,null,null,null,null,null,null,null,null,null,null,null,null,null,null,0,null,null,null,null,null,0]
[1947,"Article n° 1947",1947,null,null,"Unité",1168.2,1,null,null,0,0,null,null,null,null,null,null,null,null,null,null,null,null,null,null,null,null,null,0,null,null,null,null,null,0]
[1948,"Article n° 1948",1948,null,null,"Unité",1168.8,1,null,null,0,0,null,null,null,null,null,null,null,null,null,null,null,null,null,null,null,null,null,0,null,null,null,null,null,0]
[1949,"Article n° 1949",1949,null,null,"Unité",1169.4000000000001,1,null,null,0,0,null,null,null,null,null,null,null,null,null,null,null,null,null,null,null,null,null,0,null,null,null,null,null,0]
[1950,"Article n° 1950",1950,null,null,"Unité",1170,1,null,null,0,0,null,null,null,null,null,null,null,null,null,null,null,null,null,null,null,null,null,0,null,null,null,null,null,0]
[1951,"Article n° 1951",1951,null,null,"Unité",1170.5999999999999,1,null,null,0,0,null,null,null,null,null,null,null,null,null,null,null,null,null,null,null,null,null,0,null,null,null,null,null,0]
[1952,"Article n° 1952",1952,null,null,"Unité",1171.2,1,null,null,0,0,null,null,null,null,null,null,null,null,null,null,null,null,null,null,null,null,null,0,null,null,null,null,null,0]
[1953,"Article n° 1953",1953,null,null,"Unité",1171.8,1,null,null,0,0,null,null,null,null,null,null,null,null,null,null,null,null,null,null,null,null,null,0,null,null,null,null,null,0]
[1954,"Article n° 1954",1954,null,null,"Unité",1172.4000000000001,1,null,null,0,0,null,null,null,null,null,null,null,null,null,null,null,null,null,null,null,null,null,0,null,null,null,null,null,0]
[1955,"Article n° 1955",1955,null,null,"Unité",1173,1,null,null,0,0,null,null,null,null,null,null,null,null,null,null,null,null,null,null,null,null,null,0,null,null,null,null,null,0]
[1956,"Article n° 1956",1956,null,null,"Unité",1173.5999999999999,1,null,null,0,0,null,null,null,null,null,null,null,null,null,null,null,null,null,null,null,null,null,0,null,null,null,null,null,0]
[1957,"Article n° 1957",1957,null,null,"Unité",1174.2,1,null,null,0,0,null,null,null,null,null,null,null,null,null,null,null,null,null,null,null,null,null,0,null,null,null,null,null,0]
[1958,"Article n° 1958",1958,null,null,"Unité",1174.8,1,null,null,0,0,null,null,null,null,null,null,null,null,null,null,null,null,null,null,null,null,null,0,null,null,null,null,null,0]
[1959,"Article n° 1959",1959,null,null,"Unité",1175.4000000000001,1,null,null,0,0,null,null,null,null,null,null,null,null,null,null,null,null,null,null,null,null,null,0,null,null,null,null,null,0]
[1960,"Article n° 1960",1960,null,null,"Unité",1176,1,null,null,0,0,null,null,null,null,null,null,null,null,null,null,null,null,null,null,null,null,null,0,null,null,null,null,null,0]
[1961,"Article n° 1961",1961,null,null,"Unité",1176.5999999999999,1,null,null,0,0,null,null,null,null,null,null,null,null,null,null,null,null,null,null,null,null,null,0,null,null,null,null,null,0]
[1962,"Article n° 1962",1962,null,null,"Unité",1177.2,1,null,null,0,0,null,null,null,null,null,null,null,null,null,null,null,null,null,null,null,null,null,0,null,null,null,null,null,0]
[1963,"Article n° 1963",1963,null,null,"Unité",1177.8,1,null,null,0,0,null,null,null,null,null,null,null,null,null,null,null,null,null,null,null,null,null,0,null,null,null,null,null,0]
[1964,"Article n° 1964",1964,null,null,"Unité",1178.4000000000001,1,null,null,0,0,null,null,null,null,null,null,null,null,null,null,null,null,null,null,null,null,null,0,null,null,null,null,null,0]
[1965,"Article n° 1965",1965,null,null,"Unité",1179,1,null,null,0,0,null,null,null,null,null,null,null,null,null,null,null,null,null,null,null,null,null,0,null,null,null,null,null,0]
[1966,"Article n° 1966",1966,null,null,"Unité",1179.5999999999999,1,null,null,0,0,null,null,null,null,null,null,null,null,null,null,null,null,null,null,null,null,null,0,null,null,null,null,null,0]
[1967,"Article n° 1967",1967,null,null,"Unité",1180.2,1,null,null,0,0,null,null,null,null,null,null,null,null,null,null,null,null,null,null,null,null,null,0,null,null,null,null,null,0]
[1968,"Article n° 1968",1968,null,null,"Unité",1180.8,1,null,null,0,0,null,null,null,null,null,null,null,null,null,null,null,null,null,null,null,null,null,0,null,null,null,null,null,0]
[1969,"Article n° 1969",1969,null,null,"Unité",1181.4000000000001,1,null,null,0,0,null,null,null,null,null,null,null,null,null,null,null,null,null,null,null,null,null,0,null,null,null,null,null,0]
[1970,"Article n° 1970",1970,null,null,"Unité",1182,1,null,null,0,0,null,null,null,null,null,null,null,null,null,null,null,null,null,null,null,null,null,0,null,null,null,null,null,0]
[1971,"Article n° 1971",1971,null,null,"Unité",1182.5999999999999,1,null,null,0,0,null,null,null,null,null,null,null,null,null,null,null,null,null,null,null,null,null,0,null,null,null,null,null,0]
[1972,"Article n° 1972",1972,null,null,"Unité",1183.2,1,null,null,0,0,null,null,null,null,null,null,null,null,null,null,null,null,null,null,null,null,null,0,null,null,null,null,null,0]
[1973,"Article n° 1973",1973,null,null,"Unité",1183.8,1,null,null,0,0,null,null,null,null,null,null,null,null,null,null,null,null,null,null,null,null,null,0,null,null,null,null,null,0]
[1974,"Article n° 1974",1974,null,null,"Unité",1184.4000000000001,1,null,null,0,0,null,null,null,null,null,null,null,null,null,null,null,null,null,null,null,null,null,0,null,null,null,null,null,0]
[1975,"Article n° 1975",1975,null,null,"Unité",1185,1,null,null,0,0,null,null,null,null,null,null,null,null,null,null,null,null,null,null,null,null,null,0,null,null,null,null,null,0]
[1976,"Article n° 1976",1976,null,null,"Unité",1185.5999999999999,1,null,null,0,0,null,null,null,null,null,null,null,null,null,null,null,null,null,null,null,null,null,0,null,null,null,null,null,0]
[1977,"Article n° 1977",1977,null,null,"Unité",1186.2,1,null,null,0,0,null,null,null,null,null,null,null,null,null,null,null,null,null,null,null,null,null,0,null,null,null,null,null,0]
[1978,"Article n° 1978",1978,null,null,"Unité",1186.8,1,null,null,0,0,null,null,null,null,null,null,null,null,null,null,null,null,null,null,null,null,null,0,null,null,null,null,null,0]
[1979,"Article n° 1979",1979,null,null,"Unité",1187.4000000000001,1,null,null,0,0,null,null,null,null,null,null,null,null,null,null,null,null,null,null,null,null,null,0,null,null,null,null,null,0]
[1980,"Article n° 1980",1980,null,null,"Unité",1188,1,null,null,0,0,null,null,null,null,null,null,null,null,null,null,null,null,null,null,null,null,null,0,null,null,null,null,null,0]
[1981,"Article n° 1981",1981,null,null,"Unité",1188.5999999999999,1,null,null,0,0,null,null,null,null,null,null,null,null,null,null,null,null,null,null,null,null,null,0,null,null,null,null,null,0]
[1982,"Article n° 1982",1982,null,null,"Unité",1189.2,1,null,null,0,0,null,null,null,null,null,null,null,null,null,null,null,null,null,null,null,null,null,0,null,null,null,null,null,0]
[1983,"Article n° 1983",1983,null,null,"Unité",1189.8,1,null,null,0,0,null,null,null,null,null,null,null,null,null,null,null,null,null,null,null,null,null,0,null,null,null,null,null,0]
[1984,"Article n° 1984",1984,null,null,"Unité",1190.4000000000001,1,null,null,0,0,null,null,null,null,null,null,null,null,null,null,null,null,null,null,null,null,null,0,null,null,null,null,null,0]
[1985,"Article n° 1985",1985,null,null,"Unité",1191,1,null,null,0,0,null,null,null,null,null,null,null,null,null,null,null,null,null,null,null,null,null,0,null,null,null,null,null,0]
[1986,"Article n° 1986",1986,null,null,"Unité",1191.5999999999999,1,null,null,0,0,null,null,null,null,null,null,null,null,null,null,null,null,null,null,null,null,null,0,null,null,null,null,null,0]
[1987,"Article n° 1987",1987,null,null,"Unité",1192.2,1,null,null,0,0,null,null,null,null,null,null,null,null,null,null,null,null,null,null,null,null,null,0,null,null,null,null,null,0]
[1988,"Article n° 1988",1988,null,null,"Unité",1192.8,1,null,null,0,0,null,null,null,null,null,null,null,null,null,null,null,null,null,null,null,null,null,0,null,null,null,null,null,0]
[1989,"Article n° 1989",1989,null,null,"Unité",1193.4000000000001,1,null,null,0,0,null,null,null,null,null,null,null,null,null,null,null,null,null,null,null,null,null,0,null,null,null,null,null,0]
[1990,"Article n° 1990",1990,null,null,"Unité",1194,1,null,null,0,0,null,null,null,null,null,null,null,null,null,null,null,null,null,null,null,null,null,0,null,null,null,null,null,0]
[1991,"Article n° 1991",1991,null,null,"Unité",1194.5999999999999,1,null,null,0,0,null,null,null,null,null,null,null,null,null,null,null,null,null,null,null,null,null,0,null,null,null,null,null,0]
[1992,"Article n° 1992",1992,null,null,"Unité",1195.2,1,null,null,{"$f":"AB970+M970-N970","v":0},{"$f":"G970*K970","v":0},null,null,null,null,null,null,null,null,null,null,null,null,null,null,null,null,null,{"$f":"AC970-K970","v":0},null,null,null,null,null,{"$f":"C970*K970","v":0}]
[1993,"Article n° 1993",1993,null,null,"Unité",1195.8,1,null,null,0,0,null,null,null,null,null,null,null,null,null,null,null,null,null,null,null,null,null,0,null,null,null,null,null,0]
[1994,"Article n° 1994",1994,null,null,"Unité",1196.4000000000001,1,null,null,0,0,null,null,null,null,null,null,null,null,null,null,null,null,null,null,null,null,null,0,null,null,null,null,null,0]
[1995,"Article n° 1995",1995,null,null,"Unité",1197,1,null,null,0,0,null,null,null,null,null,null,null,null,null,null,null,null,null,null,null,null,null,0,null,null,null,null,null,0]
[1996,"Article n° 1996",1996,null,null,"Unité",1197.5999999999999,1,null,null,0,0,null,null,null,null,null,null,null,null,null,null,null,null,null,null,null,null,null,0,null,null,null,null,null,0]
[1997,"Article n° 1997",1997,null,null,"Unité",1198.2,1,null,null,0,0,null,null,null,null,null,null,null,null,null,null,null,null,null,null,null,null,null,0,null,null,null,null,null,0]
[1998,"Article n° 1998",1998,null,null,"Unité",1198.8,1,null,null,0,0,null,null,null,null,null,null,null,null,null,null,null,null,null,null,null,null,null,0,null,null,null,null,null,0]
[1999,"Article n° 1999",1999,null,null,"Unité",1199.4000000000001,1,null,null,0,0,null,null,null,null,null,null,null,null,null,null,null,null,null,null,null,null,null,0,null,null,null,null,null,0]
[2000,"Article n° 2000",2000,null,null,"Unité",1200,1,null,null,0,0,null,null,null,null,null,null,null,null,null,null,null,null,null,null,null,null,null,0,null,null,null,null,null,0]
[2001,"Article n° 2001",2001,null,null,"Unité",1200.5999999999999,1,null,null,0,0,null,null,null,null,null,null,null,null,null,null,null,null,null,null,null,null,null,0,null,null,null,null,null,0]
[2002,"Article n° 2002",2002,null,null,"Unité",1201.2,1,null,null,0,0,null,null,null,null,null,null,null,null,null,null,null,null,null,null,null,null,null,0,null,null,null,null,null,0]
[2003,"Article n° 2003",2003,null,null,"Unité",1201.8,1,null,null,0,0,null,null,null,null,null,null,null,null,null,null,null,null,null,null,null,null,null,0,null,null,null,null,null,0]
[2004,"Article n° 2004",2004,null,null,"Unité",1202.4000000000001,1,null,null,0,0,null,null,null,null,null,null,null,null,null,null,null,null,null,null,null,null,null,0,null,null,null,null,null,0]
[2005,"Article n° 2005",2005,null,null,"Unité",1203,1,null,null,0,0,null,null,null,null,null,null,null,null,null,null,null,null,null,null,null,null,null,0,null,null,null,null,null,0]
[2006,"Article n° 2006",2006,null,null,"Unité",1203.5999999999999,1,null,null,0,0,null,null,null,null,null,null,null,null,null,null,null,null,null,null,null,null,null,0,null,null,null,null,null,0]
[2007,"Article n° 2007",2007,null,null,"Unité",1204.2,1,null,null,0,0,null,null,null,null,null,null,null,null,null,null,null,null,null,null,null,null,null,0,null,null,null,null,null,0]
[2008,"Article n° 2008",2008,null,null,"Unité",1204.8,1,null,null,0,0,null,null,null,null,null,null,null,null,null,null,null,null,null,null,null,null,null,0,null,null,null,null,null,0]
[9999,"Frais d'envoi",9.8000000000000007,null,null,"Selon poids",null,1,null,null,-32,0,null,32,null,null,null,null,null,null,null,null,null,null,null,null,352.2,null,null,32,null,null,null,null,0,-313.60000000000002]
[4002274161513,"Sharp Esli Mate EL-250S Calculateur",29.8,null,null,"Électron.",17.760000000000002,1,"ABC 123",3,16,284.16000000000003,100,84,null,null,null,null,null,null,null,null,20,null,null,null,51.554000000000002,null,20,4,20,null,null,null,35.520000000000003,476.8]
[4015000406505,"Canon Powershot S100",238,null,null,"Photo",179.15,1,"AGH 789",3,2,358.3,10,8,null,null,null,null,null,null,null,null,5,null,null,null,238,null,4,2,5,null,null,null,179.15,476]
[4015000435772,"Onduleur électrique APC 550",11,null,null,"Matériel",9.1300000000000008,1,null,null,0,0,null,null,null,null,null,null,null,null,null,null,null,null,null,null,null,null,null,0,null,null,null,null,null,0]
[4050453004441,"Fujifilm Finepix Real 3D W3 black",478,null,null,"Photo",412,1,null,null,0,0,null,null,null,null,null,null,null,null,null,null,null,null,null,null,null,null,null,0,null,null,null,null,null,0]
[4084500513525,"Automate LION CLLIONCL avec interface lon",2598.4,null,null,"Pièce",2156.672,1,null,null,0,0,null,null,null,null,null,null,null,null,null,null,null,null,null,null,null,null,null,0,null,null,null,null,null,0]
[4600395017292,"15 Grands Destins, textes de Dielette, illustrations de Georges Pichard, éd. Gautier-Languereau",14.5,null,null,"Livre",9.91,1,null,null,0,0,null,null,null,null,null,null,null,null,null,null,null,null,null,null,null,null,null,0,null,null,null,null,null,0]
[4606080272557,"Initiation aux lettres latines - Lexique n°1, Collection Morisset",4.5999999999999996,null,null,"Livre",2.85,1,null,null,0,0,null,null,null,null,null,null,null,null,null,null,null,null,null,null,null,null,null,0,null,null,null,null,null,0]
[4606080272564,"Utiliser Excelgestion facilement et de façon professionnelle",20,null,null,"Livre",null,2,null,null,-4,0,null,4,null,null,null,null,null,null,null,null,null,null,null,null,76,null,null,4,null,null,null,null,0,-80]
[4627096905413,"VBA pour Excel 2012 le guide complet",29,null,null,"Broché",23,2,null,null,0,0,null,null,null,null,null,null,null,null,null,null,null,null,null,null,null,null,null,0,null,null,null,null,null,0]
[5051794005516,"Huile Motorex 5W 40 (lt)",8.9499999999999993,null,null,"Matériel",6.23,1,null,null,0,0,null,null,null,null,null,null,null,null,null,null,null,null,null,null,null,null,null,0,null,null,null,null,null,0]
[7610196061605,"Guide d'utilisation Ordinateur de poche du Psion Serie 3mx ",9.3000000000000007,null,null,"Livre",4.46,1,null,null,-1,-4.46,null,1,null,null,null,null,null,null,null,null,null,null,null,null,9.3000000000000007,null,null,1,null,null,null,null,4.46,-9.3000000000000007]
[7611709823406,"Console mixage analogique Yamaha MG82CX, 8 canaux avec comp. et effets (3 entrées stéréo, 4 entrées micro)",500,null,null,"Sono",279,1,null,null,8,2232,10,2,null,null,null,null,null,null,null,null,null,null,null,null,985,null,null,-8,null,null,null,null,558,4000]
[7613269320289,"Rack DJ: table de mix, double lecteur CD, micro hf, limiteur",350,null,null,"Sono",175.95,1,null,null,-1,-175.95,null,1,null,null,null,null,null,null,null,null,null,null,null,null,329,null,null,1,null,null,null,null,175.95,-350]
[7613312074008,"Ampli casques 6 canaux AHPA6 1x stéréos et aux In 18 sorties",320,null,null,"Sono",150.05000000000001,1,null,null,0,0,null,null,null,null,null,null,null,null,null,null,null,null,null,null,null,null,null,0,null,null,null,null,null,0]
[7613312141120,"Micro voix avec interrupteur Shure SM58",340,null,null,"Sono",275.12,1,null,null,0,0,null,null,null,null,null,null,null,null,null,null,null,null,null,null,null,null,null,0,null,null,null,null,null,0]
[7680628280027,"Micro condensateur Beyerdynamic MC930 paire stéréo",380,null,null,"Sono",297.58999999999997,1,null,null,0,0,null,null,null,null,null,null,null,null,null,null,null,null,null,null,null,null,null,0,null,null,null,null,null,0]
[".",".",null,null,null,null,null,null,null,null,0,0,null,null,null,null,null,null,null,null,null,null,null,null,null,null,null,null,null,0,null,null,null,null,null,0]

{"sheet":"Partners","index":11,"n_rows":6,"n_cols":26,"rows_kept":6,"cut":false,"hidden":false,"merged":[]}
[{"$f":"Variables!K2","v":"N° Client"},{"$f":"Variables!K3","v":"Firme/Intitulé"},{"$f":"Variables!K4","v":"Prénom"},{"$f":"Variables!K5","v":"Nom "},{"$f":"Variables!K6","v":"Rue/CP"},{"$f":"Variables!K7","v":"NPA"},{"$f":"Variables!K8","v":"Localité"},{"$f":"Variables!K9","v":"Pays sauf CH"},{"$f":"Variables!K10","v":"Langue"},{"$f":"Variables!K11","v":"Vide"},{"$f":"Variables!K12","v":"Rabais 1"},{"$f":"Variables!K13","v":"Rabais 2"},{"$f":"Variables!K14","v":"Tél"},{"$f":"Variables!K15","v":"Fax"},{"$f":"Variables!K16","v":"Natel"},{"$f":"Variables!K17","v":"e-mail"},{"$f":"Variables!K18","v":"Web"},{"$f":"Variables!K19","v":"Groupe"},{"$f":"Variables!K20","v":"Vide"},{"$f":"Variables!K21","v":"Vide"},{"$f":"Variables!K22","v":"Vide"},{"$f":"Variables!K23","v":"Vide"},{"$f":"Variables!K24","v":"Vide"},{"$f":"Variables!K25","v":"Briefanrede"},{"$f":"Variables!K26","v":"Dern.mutation"},{"$f":"Variables!K27","v":"Par"}]
[1]
[2,"Excelgestion","M. Christian","Roux","Route de l'Ecole 1",1753,"Matran",null,"F",null,null,null,null,null,null,null,null,"C"]
[3,"Fournisseur ABC","M. Joseph","Blanc","Les Champs-Élysées 1",75000,"Paris","France","F",null,null,null,null,null,null,null,null,"C"]
[4,"Madame","Tamara","Roux","Rte l'Ecole 1",1753,"Matran",null,"F"]
[3338,"Entreprise Mon Client","Mme Pascale","Dufour","Avenue du Succès 1",1000,"Lausanne",null,"F"]

{"sheet":"FichePartners","index":12,"n_rows":2,"n_cols":8,"rows_kept":2,"cut":false,"hidden":false,"merged":[]}
["N°","Nom Partner","Date","Fiche","Type Activité","Sujet","Priorité","Statut"]
[2,{"$f":"VLOOKUP(A2,Partners!$A$2:$R$3000,3)&\" \"&VLOOKUP(A2,Partners!$A$2:$R$3000,4)","v":"M. Christian Roux"},"2018-11-20","Entretiens productif. Décision d'augmenter le rabais de base à 32%","Appels","Suivi commercial","Normal","Terminé"]

{"sheet":"CdeFourn","index":13,"n_rows":215,"n_cols":8,"rows_kept":215,"cut":false,"hidden":false,"merged":[[19,5,19,6],[20,5,20,6],[26,5,26,6],[204,5,204,6],[216,0,216,7],[217,0,217,7],[10,0,10,1],[15,5,15,6],[16,5,16,6],[17,5,17,6],[11,0,11,1],[18,5,18,6],[178,5,178,6],[179,5,179,6],[21,5,21,6],[212,5,212,6],[22,5,22,6],[27,5,27,6],[28,5,28,6],[23,5,23,6],[24,5,24,6],[25,5,25,6],[35,5,35,6],[36,5,36,6],[205,5,205,6],[206,5,206,6],[211,5,211,6],[172,5,172,6],[180,5,180,6],[181,5,181,6],[182,5,182,6],[177,5,177,6],[29,5,29,6],[30,5,30,6],[31,5,31,6],[32,5,32,6],[33,5,33,6],[34,5,34,6],[51,5,51,6],[52,5,52,6],[41,5,41,6],[42,5,42,6],[43,5,43,6],[44,5,44,6],[45,5,45,6],[46,5,46,6],[47,5,47,6],[48,5,48,6],[49,5,49,6],[50,5,50,6],[37,5,37,6],[38,5,38,6],[39,5,39,6],[40,5,40,6],[63,5,63,6],[64,5,64,6],[53,5,53,6],[54,5,54,6],[55,5,55,6],[56,5,56,6],[57,5,57,6],[58,5,58,6],[59,5,59,6],[60,5,60,6],[61,5,61,6],[62,5,62,6],[75,5,75,6],[76,5,76,6],[65,5,65,6],[66,5,66,6],[67,5,67,6],[68,5,68,6],[69,5,69,6],[70,5,70,6],[83,5,83,6],[84,5,84,6],[71,5,71,6],[72,5,72,6],[73,5,73,6],[74,5,74,6],[77,5,77,6],[78,5,78,6],[79,5,79,6],[80,5,80,6],[81,5,81,6],[82,5,82,6],[99,5,99,6],[100,5,100,6],[89,5,89,6],[90,5,90,6],[91,5,91,6],[92,5,92,6],[93,5,93,6],[94,5,94,6],[95,5,95,6],[96,5,96,6],[97,5,97,6],[98,5,98,6],[85,5,85,6],[86,5,86,6],[87,5,87,6],[88,5,88,6],[111,5,111,6],[112,5,112,6],[101,5,101,6],[102,5,102,6],[103,5,103,6],[104,5,104,6],[105,5,105,6],[106,5,106,6],[107,5,107,6],[108,5,108,6],[109,5,109,6],[110,5,110,6],[123,5,123,6],[124,5,124,6],[113,5,113,6],[114,5,114,6],[115,5,115,6],[116,5,116,6],[117,5,117,6],[118,5,118,6],[131,5,131,6],[132,5,132,6],[119,5,119,6],[120,5,120,6],[121,5,121,6],[122,5,122,6],[125,5,125,6],[126,5,126,6],[127,5,127,6],[128,5,128,6],[129,5,129,6],[130,5,130,6],[147,5,147,6],[148,5,148,6],[137,5,137,6],[138,5,138,6],[139,5,139,6],[140,5,140,6],[141,5,141,6],[142,5,142,6],[143,5,143,6],[144,5,144,6],[145,5,145,6],[146,5,146,6],[133,5,133,6],[134,5,134,6],[135,5,135,6],[136,5,136,6],[159,5,159,6],[160,5,160,6],[149,5,149,6],[150,5,150,6],[151,5,151,6],[152,5,152,6],[153,5,153,6],[154,5,154,6],[155,5,155,6],[156,5,156,6],[157,5,157,6],[158,5,158,6],[176,5,176,6],[174,5,174,6],[166,5,166,6],[167,5,167,6],[173,5,173,6],[161,5,161,6],[162,5,162,6],[163,5,163,6],[175,5,175,6],[194,5,194,6],[183,5,183,6],[164,5,164,6],[165,5,165,6],[189,5,189,6],[168,5,168,6],[169,5,169,6],[170,5,170,6],[171,5,171,6],[202,5,202,6],[195,5,195,6],[196,5,196,6],[197,5,197,6],[198,5,198,6],[201,5,201,6],[203,5,203,6],[0,0,0,2],[184,5,184,6],[185,5,185,6],[186,5,186,6],[187,5,187,6],[200,5,200,6],[190,5,190,6],[191,5,191,6],[199,5,199,6],[210,5,210,6],[188,5,188,6],[215,0,215,7],[192,5,192,6],[193,5,193,6],[213,5,213,6],[214,5,214,6],[207,5,207,6],[208,5,208,6],[209,5,209,6]]}
["Christian Roux\nRte de l'Ecole 1"]
["1753 Matran (Switzerland)"]
["Tél. +41 (0)26 401 05 08"]
["excelgestion@bluewin.ch"]
["www.excelgestion.com"]
[]
[null,null,null,{"$f":"IF(ISBLANK(VLOOKUP($B$15,Partners!$A$2:$R$40000,2)),\"\",VLOOKUP($B$15,Partners!$A$2:$R$40000,2))","v":"Excelgestion"}]
[null,null,null,{"$f":"IF(ISBLANK(VLOOKUP($B$15,Partners!$A$2:$R$40000,3)),\"\",VLOOKUP($B$15,Partners!$A$2:$R$40000,3)) & IF(VLOOKUP($B$15,Partners!$A$2:$R$40000,3)=\"\",\"\",\" \")&IF(ISBLANK(VLOOKUP($B$15,Partners!$A$2:$R$40000,4)),\"\",VLOOKUP($B$15,Partners!$A$2:$R$40000,4))","v":"M. Christian Roux"}]
[null,null,null,{"$f":"IF(ISBLANK(VLOOKUP($B$15,Partners!$A$2:$R$40000,5)),\"\",VLOOKUP($B$15,Partners!$A$2:$R$40000,5))","v":"Route de l'Ecole 1"}]
[null,null,null,{"$f":"IF(ISBLANK(VLOOKUP($B$15,Partners!$A$2:$R$40000,6)),VLOOKUP($B$15,Partners!$A$2:$R$40000,7),VLOOKUP($B$15,Partners!$A$2:$R$40000,6)&\" \"&VLOOKUP($B$15,Partners!$A$2:$R$40000,7))","v":"1753 Matran"}]
["Bulletin de commande",null,null,{"$f":"IF(ISBLANK(VLOOKUP($B$15,Partners!$A$2:$R$40000,8)),\"\",VLOOKUP($B$15,Partners!$A$2:$R$40000,8))","v":""}]
[]
[{"$f":"Variables!J2","v":"Date"},{"$f":"TODAY()","v":"2025-11-26"}]
[{"$f":"Variables!J3","v":"N/réf."}]
[{"$f":"Variables!J4","v":"V/n° partner"},2,null,null,{"$f":"IF(A11=\"Bulletin de commande\",1,2)","v":1}]
[{"$f":"Variables!J5","v":"N° d'article"},{"$f":"Variables!J6","v":"Désignation"},{"$f":"Variables!J7","v":"Qté"},{"$f":"Variables!J8","v":"Unité"},{"$f":"Variables!J9","v":"V/Prix Net"},{"$f":"Variables!J10","v":"V/N° article"},null,{"$f":"Variables!J11","v":"Remarque"}]
[{"$f":"Temp!A2","v":0},{"$f":"Temp!B2","v":0},{"$f":"Temp!AE2","v":0},{"$f":"Temp!F2","v":0},{"$f":"Temp!R2","v":0},{"$f":"Temp!I2","v":0}]
[{"$f":"Temp!A3","v":0},{"$f":"Temp!B3","v":0},{"$f":"Temp!AE3","v":0},{"$f":"Temp!F3","v":0},{"$f":"Temp!R3","v":0},{"$f":"Temp!I3","v":0}]
[{"$f":"Temp!A4","v":0},{"$f":"Temp!B4","v":0},{"$f":"Temp!AE4","v":0},{"$f":"Temp!F4","v":0},{"$f":"Temp!R4","v":0},{"$f":"Temp!I4","v":0}]
[{"$f":"Temp!A5","v":0},{"$f":"Temp!B5","v":0},{"$f":"Temp!AE5","v":0},{"$f":"Temp!F5","v":0},{"$f":"Temp!R5","v":0},{"$f":"Temp!I5","v":0}]
[{"$f":"Temp!A6","v":0},{"$f":"Temp!B6","v":0},{"$f":"Temp!AE6","v":0},{"$f":"Temp!F6","v":0},{"$f":"Temp!R6","v":0},{"$f":"Temp!I6","v":0}]
[{"$f":"Temp!A7","v":0},{"$f":"Temp!B7","v":0},{"$f":"Temp!AE7","v":0},{"$f":"Temp!F7","v":0},{"$f":"Temp!R7","v":0},{"$f":"Temp!I7","v":0}]
[{"$f":"Temp!A8","v":0},{"$f":"Temp!B8","v":0},{"$f":"Temp!AE8","v":0},{"$f":"Temp!F8","v":0},{"$f":"Temp!R8","v":0},{"$f":"Temp!I8","v":0}]
[{"$f":"Temp!A9","v":0},{"$f":"Temp!B9","v":0},{"$f":"Temp!AE9","v":0},{"$f":"Temp!F9","v":0},{"$f":"Temp!R9","v":0},{"$f":"Temp!I9","v":0}]
[{"$f":"Temp!A10","v":0},{"$f":"Temp!B10","v":0},{"$f":"Temp!AE10","v":0},{"$f":"Temp!F10","v":0},{"$f":"Temp!R10","v":0},{"$f":"Temp!I10","v":0}]
[{"$f":"Temp!A11","v":0},{"$f":"Temp!B11","v":0},{"$f":"Temp!AE11","v":0},{"$f":"Temp!F11","v":0},{"$f":"Temp!R11","v":0},{"$f":"Temp!I11","v":0}]
[{"$f":"Temp!A12","v":0},{"$f":"Temp!B12","v":0},{"$f":"Temp!AE12","v":0},{"$f":"Temp!F12","v":0},{"$f":"Temp!R12","v":0},{"$f":"Temp!I12","v":0}]
[{"$f":"Temp!A13","v":0},{"$f":"Temp!B13","v":0},{"$f":"Temp!AE13","v":0},{"$f":"Temp!F13","v":0},{"$f":"Temp!R13","v":0},{"$f":"Temp!I13","v":0}]
[{"$f":"Temp!A14","v":0},{"$f":"Temp!B14","v":0},{"$f":"Temp!AE14","v":0},{"$f":"Temp!F14","v":0},{"$f":"Temp!R14","v":0},{"$f":"Temp!I14","v":0}]
[{"$f":"Temp!A15","v":0},{"$f":"Temp!B15","v":0},{"$f":"Temp!AE15","v":0},{"$f":"Temp!F15","v":0},{"$f":"Temp!R15","v":0},{"$f":"Temp!I15","v":0}]
[{"$f":"Temp!A16","v":0},{"$f":"Temp!B16","v":0},{"$f":"Temp!AE16","v":0},{"$f":"Temp!F16","v":0},{"$f":"Temp!R16","v":0},{"$f":"Temp!I16","v":0}]
[{"$f":"Temp!A17","v":0},{"$f":"Temp!B17","v":0},{"$f":"Temp!AE17","v":0},{"$f":"Temp!F17","v":0},{"$f":"Temp!R17","v":0},{"$f":"Temp!I17","v":0}]
[{"$f":"Temp!A18","v":0},{"$f":"Temp!B18","v":0},{"$f":"Temp!AE18","v":0},{"$f":"Temp!F18","v":0},{"$f":"Temp!R18","v":0},{"$f":"Temp!I18","v":0}]
[{"$f":"Temp!A19","v":0},{"$f":"Temp!B19","v":0},{"$f":"Temp!AE19","v":0},{"$f":"Temp!F19","v":0},{"$f":"Temp!R19","v":0},{"$f":"Temp!I19","v":0}]
[{"$f":"Temp!A20","v":0},{"$f":"Temp!B20","v":0},{"$f":"Temp!AE20","v":0},{"$f":"Temp!F20","v":0},{"$f":"Temp!R20","v":0},{"$f":"Temp!I20","v":0}]
[{"$f":"Temp!A21","v":0},{"$f":"Temp!B21","v":0},{"$f":"Temp!AE21","v":0},{"$f":"Temp!F21","v":0},{"$f":"Temp!R21","v":0},{"$f":"Temp!I21","v":0}]
[{"$f":"Temp!A22","v":0},{"$f":"Temp!B22","v":0},{"$f":"Temp!AE22","v":0},{"$f":"Temp!F22","v":0},{"$f":"Temp!R22","v":0},{"$f":"Temp!I22","v":0}]
[{"$f":"Temp!A23","v":0},{"$f":"Temp!B23","v":0},{"$f":"Temp!AE23","v":0},{"$f":"Temp!F23","v":0},{"$f":"Temp!R23","v":0},{"$f":"Temp!I23","v":0}]
[{"$f":"Temp!A24","v":0},{"$f":"Temp!B24","v":0},{"$f":"Temp!AE24","v":0},{"$f":"Temp!F24","v":0},{"$f":"Temp!R24","v":0},{"$f":"Temp!I24","v":0}]
[{"$f":"Temp!A25","v":0},{"$f":"Temp!B25","v":0},{"$f":"Temp!AE25","v":0},{"$f":"Temp!F25","v":0},{"$f":"Temp!R25","v":0},{"$f":"Temp!I25","v":0}]
[{"$f":"Temp!A26","v":0},{"$f":"Temp!B26","v":0},{"$f":"Temp!AE26","v":0},{"$f":"Temp!F26","v":0},{"$f":"Temp!R26","v":0},{"$f":"Temp!I26","v":0}]
[{"$f":"Temp!A27","v":0},{"$f":"Temp!B27","v":0},{"$f":"Temp!AE27","v":0},{"$f":"Temp!F27","v":0},{"$f":"Temp!R27","v":0},{"$f":"Temp!I27","v":0}]
[{"$f":"Temp!A28","v":0},{"$f":"Temp!B28","v":0},{"$f":"Temp!AE28","v":0},{"$f":"Temp!F28","v":0},{"$f":"Temp!R28","v":0},{"$f":"Temp!I28","v":0}]
[{"$f":"Temp!A29","v":0},{"$f":"Temp!B29","v":0},{"$f":"Temp!AE29","v":0},{"$f":"Temp!F29","v":0},{"$f":"Temp!R29","v":0},{"$f":"Temp!I29","v":0}]
[{"$f":"Temp!A30","v":0},{"$f":"Temp!B30","v":0},{"$f":"Temp!AE30","v":0},{"$f":"Temp!F30","v":0},{"$f":"Temp!R30","v":0},{"$f":"Temp!I30","v":0}]
[{"$f":"Temp!A31","v":0},{"$f":"Temp!B31","v":0},{"$f":"Temp!AE31","v":0},{"$f":"Temp!F31","v":0},{"$f":"Temp!R31","v":0},{"$f":"Temp!I31","v":0}]
[{"$f":"Temp!A32","v":0},{"$f":"Temp!B32","v":0},{"$f":"Temp!AE32","v":0},{"$f":"Temp!F32","v":0},{"$f":"Temp!R32","v":0},{"$f":"Temp!I32","v":0}]
[{"$f":"Temp!A33","v":0},{"$f":"Temp!B33","v":0},{"$f":"Temp!AE33","v":0},{"$f":"Temp!F33","v":0},{"$f":"Temp!R33","v":0},{"$f":"Temp!I33","v":0}]
[{"$f":"Temp!A34","v":0},{"$f":"Temp!B34","v":0},{"$f":"Temp!AE34","v":0},{"$f":"Temp!F34","v":0},{"$f":"Temp!R34","v":0},{"$f":"Temp!I34","v":0}]
[{"$f":"Temp!A35","v":0},{"$f":"Temp!B35","v":0},{"$f":"Temp!AE35","v":0},{"$f":"Temp!F35","v":0},{"$f":"Temp!R35","v":0},{"$f":"Temp!I35","v":0}]
[{"$f":"Temp!A36","v":0},{"$f":"Temp!B36","v":0},{"$f":"Temp!AE36","v":0},{"$f":"Temp!F36","v":0},{"$f":"Temp!R36","v":0},{"$f":"Temp!I36","v":0}]
[{"$f":"Temp!A37","v":0},{"$f":"Temp!B37","v":0},{"$f":"Temp!AE37","v":0},{"$f":"Temp!F37","v":0},{"$f":"Temp!R37","v":0},{"$f":"Temp!I37","v":0}]
[{"$f":"Temp!A38","v":0},{"$f":"Temp!B38","v":0},{"$f":"Temp!AE38","v":0},{"$f":"Temp!F38","v":0},{"$f":"Temp!R38","v":0},{"$f":"Temp!I38","v":0}]
[{"$f":"Temp!A39","v":0},{"$f":"Temp!B39","v":0},{"$f":"Temp!AE39","v":0},{"$f":"Temp!F39","v":0},{"$f":"Temp!R39","v":0},{"$f":"Temp!I39","v":0}]
[{"$f":"Temp!A40","v":0},{"$f":"Temp!B40","v":0},{"$f":"Temp!AE40","v":0},{"$f":"Temp!F40","v":0},{"$f":"Temp!R40","v":0},{"$f":"Temp!I40","v":0}]
[{"$f":"Temp!A41","v":0},{"$f":"Temp!B41","v":0},{"$f":"Temp!AE41","v":0},{"$f":"Temp!F41","v":0},{"$f":"Temp!R41","v":0},{"$f":"Temp!I41","v":0}]
[{"$f":"Temp!A42","v":0},{"$f":"Temp!B42","v":0},{"$f":"Temp!AE42","v":0},{"$f":"Temp!F42","v":0},{"$f":"Temp!R42","v":0},{"$f":"Temp!I42","v":0}]
[{"$f":"Temp!A43","v":0},{"$f":"Temp!B43","v":0},{"$f":"Temp!AE43","v":0},{"$f":"Temp!F43","v":0},{"$f":"Temp!R43","v":0},{"$f":"Temp!I43","v":0}]
[{"$f":"Temp!A44","v":0},{"$f":"Temp!B44","v":0},{"$f":"Temp!AE44","v":0},{"$f":"Temp!F44","v":0},{"$f":"Temp!R44","v":0},{"$f":"Temp!I44","v":0}]
[{"$f":"Temp!A45","v":0},{"$f":"Temp!B45","v":0},{"$f":"Temp!AE45","v":0},{"$f":"Temp!F45","v":0},{"$f":"Temp!R45","v":0},{"$f":"Temp!I45","v":0}]
[{"$f":"Temp!A46","v":0},{"$f":"Temp!B46","v":0},{"$f":"Temp!AE46","v":0},{"$f":"Temp!F46","v":0},{"$f":"Temp!R46","v":0},{"$f":"Temp!I46","v":0}]
[{"$f":"Temp!A47","v":0},{"$f":"Temp!B47","v":0},{"$f":"Temp!AE47","v":0},{"$f":"Temp!F47","v":0},{"$f":"Temp!R47","v":0},{"$f":"Temp!I47","v":0}]
[{"$f":"Temp!A48","v":0},{"$f":"Temp!B48","v":0},{"$f":"Temp!AE48","v":0},{"$f":"Temp!F48","v":0},{"$f":"Temp!R48","v":0},{"$f":"Temp!I48","v":0}]
[{"$f":"Temp!A49","v":0},{"$f":"Temp!B49","v":0},{"$f":"Temp!AE49","v":0},{"$f":"Temp!F49","v":0},{"$f":"Temp!R49","v":0},{"$f":"Temp!I49","v":0}]
[{"$f":"Temp!A50","v":0},{"$f":"Temp!B50","v":0},{"$f":"Temp!AE50","v":0},{"$f":"Temp!F50","v":0},{"$f":"Temp!R50","v":0},{"$f":"Temp!I50","v":0}]
[{"$f":"Temp!A51","v":0},{"$f":"Temp!B51","v":0},{"$f":"Temp!AE51","v":0},{"$f":"Temp!F51","v":0},{"$f":"Temp!R51","v":0},{"$f":"Temp!I51","v":0}]
[{"$f":"Temp!A52","v":0},{"$f":"Temp!B52","v":0},{"$f":"Temp!AE52","v":0},{"$f":"Temp!F52","v":0},{"$f":"Temp!R52","v":0},{"$f":"Temp!I52","v":0}]
[{"$f":"Temp!A53","v":0},{"$f":"Temp!B53","v":0},{"$f":"Temp!AE53","v":0},{"$f":"Temp!F53","v":0},{"$f":"Temp!R53","v":0},{"$f":"Temp!I53","v":0}]
[{"$f":"Temp!A54","v":0},{"$f":"Temp!B54","v":0},{"$f":"Temp!AE54","v":0},{"$f":"Temp!F54","v":0},{"$f":"Temp!R54","v":0},{"$f":"Temp!I54","v":0}]
[{"$f":"Temp!A55","v":0},{"$f":"Temp!B55","v":0},{"$f":"Temp!AE55","v":0},{"$f":"Temp!F55","v":0},{"$f":"Temp!R55","v":0},{"$f":"Temp!I55","v":0}]
[{"$f":"Temp!A56","v":0},{"$f":"Temp!B56","v":0},{"$f":"Temp!AE56","v":0},{"$f":"Temp!F56","v":0},{"$f":"Temp!R56","v":0},{"$f":"Temp!I56","v":0}]
[{"$f":"Temp!A57","v":0},{"$f":"Temp!B57","v":0},{"$f":"Temp!AE57","v":0},{"$f":"Temp!F57","v":0},{"$f":"Temp!R57","v":0},{"$f":"Temp!I57","v":0}]
[{"$f":"Temp!A58","v":0},{"$f":"Temp!B58","v":0},{"$f":"Temp!AE58","v":0},{"$f":"Temp!F58","v":0},{"$f":"Temp!R58","v":0},{"$f":"Temp!I58","v":0}]
[{"$f":"Temp!A59","v":0},{"$f":"Temp!B59","v":0},{"$f":"Temp!AE59","v":0},{"$f":"Temp!F59","v":0},{"$f":"Temp!R59","v":0},{"$f":"Temp!I59","v":0}]
[{"$f":"Temp!A60","v":0},{"$f":"Temp!B60","v":0},{"$f":"Temp!AE60","v":0},{"$f":"Temp!F60","v":0},{"$f":"Temp!R60","v":0},{"$f":"Temp!I60","v":0}]
[{"$f":"Temp!A61","v":0},{"$f":"Temp!B61","v":0},{"$f":"Temp!AE61","v":0},{"$f":"Temp!F61","v":0},{"$f":"Temp!R61","v":0},{"$f":"Temp!I61","v":0}]
[{"$f":"Temp!A62","v":0},{"$f":"Temp!B62","v":0},{"$f":"Temp!AE62","v":0},{"$f":"Temp!F62","v":0},{"$f":"Temp!R62","v":0},{"$f":"Temp!I62","v":0}]
[{"$f":"Temp!A63","v":0},{"$f":"Temp!B63","v":0},{"$f":"Temp!AE63","v":0},{"$f":"Temp!F63","v":0},{"$f":"Temp!R63","v":0},{"$f":"Temp!I63","v":0}]
[{"$f":"Temp!A64","v":0},{"$f":"Temp!B64","v":0},{"$f":"Temp!AE64","v":0},{"$f":"Temp!F64","v":0},{"$f":"Temp!R64","v":0},{"$f":"Temp!I64","v":0}]
[{"$f":"Temp!A65","v":0},{"$f":"Temp!B65","v":0},{"$f":"Temp!AE65","v":0},{"$f":"Temp!F65","v":0},{"$f":"Temp!R65","v":0},{"$f":"Temp!I65","v":0}]
[{"$f":"Temp!A66","v":0},{"$f":"Temp!B66","v":0},{"$f":"Temp!AE66","v":0},{"$f":"Temp!F66","v":0},{"$f":"Temp!R66","v":0},{"$f":"Temp!I66","v":0}]
[{"$f":"Temp!A67","v":0},{"$f":"Temp!B67","v":0},{"$f":"Temp!AE67","v":0},{"$f":"Temp!F67","v":0},{"$f":"Temp!R67","v":0},{"$f":"Temp!I67","v":0}]
[{"$f":"Temp!A68","v":0},{"$f":"Temp!B68","v":0},{"$f":"Temp!AE68","v":0},{"$f":"Temp!F68","v":0},{"$f":"Temp!R68","v":0},{"$f":"Temp!I68","v":0}]
[{"$f":"Temp!A69","v":0},{"$f":"Temp!B69","v":0},{"$f":"Temp!AE69","v":0},{"$f":"Temp!F69","v":0},{"$f":"Temp!R69","v":0},{"$f":"Temp!I69","v":0}]
[{"$f":"Temp!A70","v":0},{"$f":"Temp!B70","v":0},{"$f":"Temp!AE70","v":0},{"$f":"Temp!F70","v":0},{"$f":"Temp!R70","v":0},{"$f":"Temp!I70","v":0}]
[{"$f":"Temp!A71","v":0},{"$f":"Temp!B71","v":0},{"$f":"Temp!AE71","v":0},{"$f":"Temp!F71","v":0},{"$f":"Temp!R71","v":0},{"$f":"Temp!I71","v":0}]
[{"$f":"Temp!A72","v":0},{"$f":"Temp!B72","v":0},{"$f":"Temp!AE72","v":0},{"$f":"Temp!F72","v":0},{"$f":"Temp!R72","v":0},{"$f":"Temp!I72","v":0}]
[{"$f":"Temp!A73","v":0},{"$f":"Temp!B73","v":0},{"$f":"Temp!AE73","v":0},{"$f":"Temp!F73","v":0},{"$f":"Temp!R73","v":0},{"$f":"Temp!I73","v":0}]
[{"$f":"Temp!A74","v":0},{"$f":"Temp!B74","v":0},{"$f":"Temp!AE74","v":0},{"$f":"Temp!F74","v":0},{"$f":"Temp!R74","v":0},{"$f":"Temp!I74","v":0}]
[{"$f":"Temp!A75","v":0},{"$f":"Temp!B75","v":0},{"$f":"Temp!AE75","v":0},{"$f":"Temp!F75","v":0},{"$f":"Temp!R75","v":0},{"$f":"Temp!I75","v":0}]
[{"$f":"Temp!A76","v":0},{"$f":"Temp!B76","v":0},{"$f":"Temp!AE76","v":0},{"$f":"Temp!F76","v":0},{"$f":"Temp!R76","v":0},{"$f":"Temp!I76","v":0}]
[{"$f":"Temp!A77","v":0},{"$f":"Temp!B77","v":0},{"$f":"Temp!AE77","v":0},{"$f":"Temp!F77","v":0},{"$f":"Temp!R77","v":0},{"$f":"Temp!I77","v":0}]
[{"$f":"Temp!A78","v":0},{"$f":"Temp!B78","v":0},{"$f":"Temp!AE78","v":0},{"$f":"Temp!F78","v":0},{"$f":"Temp!R78","v":0},{"$f":"Temp!I78","v":0}]
[{"$f":"Temp!A79","v":0},{"$f":"Temp!B79","v":0},{"$f":"Temp!AE79","v":0},{"$f":"Temp!F79","v":0},{"$f":"Temp!R79","v":0},{"$f":"Temp!I79","v":0}]
[{"$f":"Temp!A80","v":0},{"$f":"Temp!B80","v":0},{"$f":"Temp!AE80","v":0},{"$f":"Temp!F80","v":0},{"$f":"Temp!R80","v":0},{"$f":"Temp!I80","v":0}]
[{"$f":"Temp!A81","v":0},{"$f":"Temp!B81","v":0},{"$f":"Temp!AE81","v":0},{"$f":"Temp!F81","v":0},{"$f":"Temp!R81","v":0},{"$f":"Temp!I81","v":0}]
[{"$f":"Temp!A82","v":0},{"$f":"Temp!B82","v":0},{"$f":"Temp!AE82","v":0},{"$f":"Temp!F82","v":0},{"$f":"Temp!R82","v":0},{"$f":"Temp!I82","v":0}]
[{"$f":"Temp!A83","v":0},{"$f":"Temp!B83","v":0},{"$f":"Temp!AE83","v":0},{"$f":"Temp!F83","v":0},{"$f":"Temp!R83","v":0},{"$f":"Temp!I83","v":0}]
[{"$f":"Temp!A84","v":0},{"$f":"Temp!B84","v":0},{"$f":"Temp!AE84","v":0},{"$f":"Temp!F84","v":0},{"$f":"Temp!R84","v":0},{"$f":"Temp!I84","v":0}]
[{"$f":"Temp!A85","v":0},{"$f":"Temp!B85","v":0},{"$f":"Temp!AE85","v":0},{"$f":"Temp!F85","v":0},{"$f":"Temp!R85","v":0},{"$f":"Temp!I85","v":0}]
[{"$f":"Temp!A86","v":0},{"$f":"Temp!B86","v":0},{"$f":"Temp!AE86","v":0},{"$f":"Temp!F86","v":0},{"$f":"Temp!R86","v":0},{"$f":"Temp!I86","v":0}]
[{"$f":"Temp!A87","v":0},{"$f":"Temp!B87","v":0},{"$f":"Temp!AE87","v":0},{"$f":"Temp!F87","v":0},{"$f":"Temp!R87","v":0},{"$f":"Temp!I87","v":0}]
[{"$f":"Temp!A88","v":0},{"$f":"Temp!B88","v":0},{"$f":"Temp!AE88","v":0},{"$f":"Temp!F88","v":0},{"$f":"Temp!R88","v":0},{"$f":"Temp!I88","v":0}]
[{"$f":"Temp!A89","v":0},{"$f":"Temp!B89","v":0},{"$f":"Temp!AE89","v":0},{"$f":"Temp!F89","v":0},{"$f":"Temp!R89","v":0},{"$f":"Temp!I89","v":0}]
[{"$f":"Temp!A90","v":0},{"$f":"Temp!B90","v":0},{"$f":"Temp!AE90","v":0},{"$f":"Temp!F90","v":0},{"$f":"Temp!R90","v":0},{"$f":"Temp!I90","v":0}]
[{"$f":"Temp!A91","v":0},{"$f":"Temp!B91","v":0},{"$f":"Temp!AE91","v":0},{"$f":"Temp!F91","v":0},{"$f":"Temp!R91","v":0},{"$f":"Temp!I91","v":0}]
[{"$f":"Temp!A92","v":0},{"$f":"Temp!B92","v":0},{"$f":"Temp!AE92","v":0},{"$f":"Temp!F92","v":0},{"$f":"Temp!R92","v":0},{"$f":"Temp!I92","v":0}]
[{"$f":"Temp!A93","v":0},{"$f":"Temp!B93","v":0},{"$f":"Temp!AE93","v":0},{"$f":"Temp!F93","v":0},{"$f":"Temp!R93","v":0},{"$f":"Temp!I93","v":0}]
[{"$f":"Temp!A94","v":0},{"$f":"Temp!B94","v":0},{"$f":"Temp!AE94","v":0},{"$f":"Temp!F94","v":0},{"$f":"Temp!R94","v":0},{"$f":"Temp!I94","v":0}]
[{"$f":"Temp!A95","v":0},{"$f":"Temp!B95","v":0},{"$f":"Temp!AE95","v":0},{"$f":"Temp!F95","v":0},{"$f":"Temp!R95","v":0},{"$f":"Temp!I95","v":0}]
[{"$f":"Temp!A96","v":0},{"$f":"Temp!B96","v":0},{"$f":"Temp!AE96","v":0},{"$f":"Temp!F96","v":0},{"$f":"Temp!R96","v":0},{"$f":"Temp!I96","v":0}]
[{"$f":"Temp!A97","v":0},{"$f":"Temp!B97","v":0},{"$f":"Temp!AE97","v":0},{"$f":"Temp!F97","v":0},{"$f":"Temp!R97","v":0},{"$f":"Temp!I97","v":0}]
[{"$f":"Temp!A98","v":0},{"$f":"Temp!B98","v":0},{"$f":"Temp!AE98","v":0},{"$f":"Temp!F98","v":0},{"$f":"Temp!R98","v":0},{"$f":"Temp!I98","v":0}]
[{"$f":"Temp!A99","v":0},{"$f":"Temp!B99","v":0},{"$f":"Temp!AE99","v":0},{"$f":"Temp!F99","v":0},{"$f":"Temp!R99","v":0},{"$f":"Temp!I99","v":0}]
[{"$f":"Temp!A100","v":0},{"$f":"Temp!B100","v":0},{"$f":"Temp!AE100","v":0},{"$f":"Temp!F100","v":0},{"$f":"Temp!R100","v":0},{"$f":"Temp!I100","v":0}]
[{"$f":"Temp!A101","v":0},{"$f":"Temp!B101","v":0},{"$f":"Temp!AE101","v":0},{"$f":"Temp!F101","v":0},{"$f":"Temp!R101","v":0},{"$f":"Temp!I101","v":0}]
[{"$f":"Temp!A102","v":0},{"$f":"Temp!B102","v":0},{"$f":"Temp!AE102","v":0},{"$f":"Temp!F102","v":0},{"$f":"Temp!R102","v":0},{"$f":"Temp!I102","v":0}]
[{"$f":"Temp!A103","v":0},{"$f":"Temp!B103","v":0},{"$f":"Temp!AE103","v":0},{"$f":"Temp!F103","v":0},{"$f":"Temp!R103","v":0},{"$f":"Temp!I103","v":0}]
[{"$f":"Temp!A104","v":0},{"$f":"Temp!B104","v":0},{"$f":"Temp!AE104","v":0},{"$f":"Temp!F104","v":0},{"$f":"Temp!R104","v":0},{"$f":"Temp!I104","v":0}]
[{"$f":"Temp!A105","v":0},{"$f":"Temp!B105","v":0},{"$f":"Temp!AE105","v":0},{"$f":"Temp!F105","v":0},{"$f":"Temp!R105","v":0},{"$f":"Temp!I105","v":0}]
[{"$f":"Temp!A106","v":0},{"$f":"Temp!B106","v":0},{"$f":"Temp!AE106","v":0},{"$f":"Temp!F106","v":0},{"$f":"Temp!R106","v":0},{"$f":"Temp!I106","v":0}]
[{"$f":"Temp!A107","v":0},{"$f":"Temp!B107","v":0},{"$f":"Temp!AE107","v":0},{"$f":"Temp!F107","v":0},{"$f":"Temp!R107","v":0},{"$f":"Temp!I107","v":0}]
[{"$f":"Temp!A108","v":0},{"$f":"Temp!B108","v":0},{"$f":"Temp!AE108","v":0},{"$f":"Temp!F108","v":0},{"$f":"Temp!R108","v":0},{"$f":"Temp!I108","v":0}]
[{"$f":"Temp!A109","v":0},{"$f":"Temp!B109","v":0},{"$f":"Temp!AE109","v":0},{"$f":"Temp!F109","v":0},{"$f":"Temp!R109","v":0},{"$f":"Temp!I109","v":0}]
[{"$f":"Temp!A110","v":0},{"$f":"Temp!B110","v":0},{"$f":"Temp!AE110","v":0},{"$f":"Temp!F110","v":0},{"$f":"Temp!R110","v":0},{"$f":"Temp!I110","v":0}]
[{"$f":"Temp!A111","v":0},{"$f":"Temp!B111","v":0},{"$f":"Temp!AE111","v":0},{"$f":"Temp!F111","v":0},{"$f":"Temp!R111","v":0},{"$f":"Temp!I111","v":0}]
[{"$f":"Temp!A112","v":0},{"$f":"Temp!B112","v":0},{"$f":"Temp!AE112","v":0},{"$f":"Temp!F112","v":0},{"$f":"Temp!R112","v":0},{"$f":"Temp!I112","v":0}]
[{"$f":"Temp!A113","v":0},{"$f":"Temp!B113","v":0},{"$f":"Temp!AE113","v":0},{"$f":"Temp!F113","v":0},{"$f":"Temp!R113","v":0},{"$f":"Temp!I113","v":0}]
[{"$f":"Temp!A114","v":0},{"$f":"Temp!B114","v":0},{"$f":"Temp!AE114","v":0},{"$f":"Temp!F114","v":0},{"$f":"Temp!R114","v":0},{"$f":"Temp!I114","v":0}]
[{"$f":"Temp!A115","v":0},{"$f":"Temp!B115","v":0},{"$f":"Temp!AE115","v":0},{"$f":"Temp!F115","v":0},{"$f":"Temp!R115","v":0},{"$f":"Temp!I115","v":0}]
[{"$f":"Temp!A116","v":0},{"$f":"Temp!B116","v":0},{"$f":"Temp!AE116","v":0},{"$f":"Temp!F116","v":0},{"$f":"Temp!R116","v":0},{"$f":"Temp!I116","v":0}]
[{"$f":"Temp!A117","v":0},{"$f":"Temp!B117","v":0},{"$f":"Temp!AE117","v":0},{"$f":"Temp!F117","v":0},{"$f":"Temp!R117","v":0},{"$f":"Temp!I117","v":0}]
[{"$f":"Temp!A118","v":0},{"$f":"Temp!B118","v":0},{"$f":"Temp!AE118","v":0},{"$f":"Temp!F118","v":0},{"$f":"Temp!R118","v":0},{"$f":"Temp!I118","v":0}]
[{"$f":"Temp!A119","v":0},{"$f":"Temp!B119","v":0},{"$f":"Temp!AE119","v":0},{"$f":"Temp!F119","v":0},{"$f":"Temp!R119","v":0},{"$f":"Temp!I119","v":0}]
[{"$f":"Temp!A120","v":0},{"$f":"Temp!B120","v":0},{"$f":"Temp!AE120","v":0},{"$f":"Temp!F120","v":0},{"$f":"Temp!R120","v":0},{"$f":"Temp!I120","v":0}]
[{"$f":"Temp!A121","v":0},{"$f":"Temp!B121","v":0},{"$f":"Temp!AE121","v":0},{"$f":"Temp!F121","v":0},{"$f":"Temp!R121","v":0},{"$f":"Temp!I121","v":0}]
[{"$f":"Temp!A122","v":0},{"$f":"Temp!B122","v":0},{"$f":"Temp!AE122","v":0},{"$f":"Temp!F122","v":0},{"$f":"Temp!R122","v":0},{"$f":"Temp!I122","v":0}]
[{"$f":"Temp!A123","v":0},{"$f":"Temp!B123","v":0},{"$f":"Temp!AE123","v":0},{"$f":"Temp!F123","v":0},{"$f":"Temp!R123","v":0},{"$f":"Temp!I123","v":0}]
[{"$f":"Temp!A124","v":0},{"$f":"Temp!B124","v":0},{"$f":"Temp!AE124","v":0},{"$f":"Temp!F124","v":0},{"$f":"Temp!R124","v":0},{"$f":"Temp!I124","v":0}]
[{"$f":"Temp!A125","v":0},{"$f":"Temp!B125","v":0},{"$f":"Temp!AE125","v":0},{"$f":"Temp!F125","v":0},{"$f":"Temp!R125","v":0},{"$f":"Temp!I125","v":0}]
[{"$f":"Temp!A126","v":0},{"$f":"Temp!B126","v":0},{"$f":"Temp!AE126","v":0},{"$f":"Temp!F126","v":0},{"$f":"Temp!R126","v":0},{"$f":"Temp!I126","v":0}]
[{"$f":"Temp!A127","v":0},{"$f":"Temp!B127","v":0},{"$f":"Temp!AE127","v":0},{"$f":"Temp!F127","v":0},{"$f":"Temp!R127","v":0},{"$f":"Temp!I127","v":0}]
[{"$f":"Temp!A128","v":0},{"$f":"Temp!B128","v":0},{"$f":"Temp!AE128","v":0},{"$f":"Temp!F128","v":0},{"$f":"Temp!R128","v":0},{"$f":"Temp!I128","v":0}]
[{"$f":"Temp!A129","v":0},{"$f":"Temp!B129","v":0},{"$f":"Temp!AE129","v":0},{"$f":"Temp!F129","v":0},{"$f":"Temp!R129","v":0},{"$f":"Temp!I129","v":0}]
[{"$f":"Temp!A130","v":0},{"$f":"Temp!B130","v":0},{"$f":"Temp!AE130","v":0},{"$f":"Temp!F130","v":0},{"$f":"Temp!R130","v":0},{"$f":"Temp!I130","v":0}]
[{"$f":"Temp!A131","v":0},{"$f":"Temp!B131","v":0},{"$f":"Temp!AE131","v":0},{"$f":"Temp!F131","v":0},{"$f":"Temp!R131","v":0},{"$f":"Temp!I131","v":0}]
[{"$f":"Temp!A132","v":0},{"$f":"Temp!B132","v":0},{"$f":"Temp!AE132","v":0},{"$f":"Temp!F132","v":0},{"$f":"Temp!R132","v":0},{"$f":"Temp!I132","v":0}]
[{"$f":"Temp!A133","v":0},{"$f":"Temp!B133","v":0},{"$f":"Temp!AE133","v":0},{"$f":"Temp!F133","v":0},{"$f":"Temp!R133","v":0},{"$f":"Temp!I133","v":0}]
[{"$f":"Temp!A134","v":0},{"$f":"Temp!B134","v":0},{"$f":"Temp!AE134","v":0},{"$f":"Temp!F134","v":0},{"$f":"Temp!R134","v":0},{"$f":"Temp!I134","v":0}]
[{"$f":"Temp!A135","v":0},{"$f":"Temp!B135","v":0},{"$f":"Temp!AE135","v":0},{"$f":"Temp!F135","v":0},{"$f":"Temp!R135","v":0},{"$f":"Temp!I135","v":0}]
[{"$f":"Temp!A136","v":0},{"$f":"Temp!B136","v":0},{"$f":"Temp!AE136","v":0},{"$f":"Temp!F136","v":0},{"$f":"Temp!R136","v":0},{"$f":"Temp!I136","v":0}]
[{"$f":"Temp!A137","v":0},{"$f":"Temp!B137","v":0},{"$f":"Temp!AE137","v":0},{"$f":"Temp!F137","v":0},{"$f":"Temp!R137","v":0},{"$f":"Temp!I137","v":0}]
[{"$f":"Temp!A138","v":0},{"$f":"Temp!B138","v":0},{"$f":"Temp!AE138","v":0},{"$f":"Temp!F138","v":0},{"$f":"Temp!R138","v":0},{"$f":"Temp!I138","v":0}]
[{"$f":"Temp!A139","v":0},{"$f":"Temp!B139","v":0},{"$f":"Temp!AE139","v":0},{"$f":"Temp!F139","v":0},{"$f":"Temp!R139","v":0},{"$f":"Temp!I139","v":0}]
[{"$f":"Temp!A140","v":0},{"$f":"Temp!B140","v":0},{"$f":"Temp!AE140","v":0},{"$f":"Temp!F140","v":0},{"$f":"Temp!R140","v":0},{"$f":"Temp!I140","v":0}]
[{"$f":"Temp!A141","v":0},{"$f":"Temp!B141","v":0},{"$f":"Temp!AE141","v":0},{"$f":"Temp!F141","v":0},{"$f":"Temp!R141","v":0},{"$f":"Temp!I141","v":0}]
[{"$f":"Temp!A142","v":0},{"$f":"Temp!B142","v":0},{"$f":"Temp!AE142","v":0},{"$f":"Temp!F142","v":0},{"$f":"Temp!R142","v":0},{"$f":"Temp!I142","v":0}]
[{"$f":"Temp!A143","v":0},{"$f":"Temp!B143","v":0},{"$f":"Temp!AE143","v":0},{"$f":"Temp!F143","v":0},{"$f":"Temp!R143","v":0},{"$f":"Temp!I143","v":0}]
[{"$f":"Temp!A144","v":0},{"$f":"Temp!B144","v":0},{"$f":"Temp!AE144","v":0},{"$f":"Temp!F144","v":0},{"$f":"Temp!R144","v":0},{"$f":"Temp!I144","v":0}]
[{"$f":"Temp!A145","v":0},{"$f":"Temp!B145","v":0},{"$f":"Temp!AE145","v":0},{"$f":"Temp!F145","v":0},{"$f":"Temp!R145","v":0},{"$f":"Temp!I145","v":0}]
[{"$f":"Temp!A146","v":0},{"$f":"Temp!B146","v":0},{"$f":"Temp!AE146","v":0},{"$f":"Temp!F146","v":0},{"$f":"Temp!R146","v":0},{"$f":"Temp!I146","v":0}]
[{"$f":"Temp!A147","v":0},{"$f":"Temp!B147","v":0},{"$f":"Temp!AE147","v":0},{"$f":"Temp!F147","v":0},{"$f":"Temp!R147","v":0},{"$f":"Temp!I147","v":0}]
[{"$f":"Temp!A148","v":0},{"$f":"Temp!B148","v":0},{"$f":"Temp!AE148","v":0},{"$f":"Temp!F148","v":0},{"$f":"Temp!R148","v":0},{"$f":"Temp!I148","v":0}]
[{"$f":"Temp!A149","v":0},{"$f":"Temp!B149","v":0},{"$f":"Temp!AE149","v":0},{"$f":"Temp!F149","v":0},{"$f":"Temp!R149","v":0},{"$f":"Temp!I149","v":0}]
[{"$f":"Temp!A150","v":0},{"$f":"Temp!B150","v":0},{"$f":"Temp!AE150","v":0},{"$f":"Temp!F150","v":0},{"$f":"Temp!R150","v":0},{"$f":"Temp!I150","v":0}]
[{"$f":"Temp!A151","v":0},{"$f":"Temp!B151","v":0},{"$f":"Temp!AE151","v":0},{"$f":"Temp!F151","v":0},{"$f":"Temp!R151","v":0},{"$f":"Temp!I151","v":0}]
[{"$f":"Temp!A152","v":0},{"$f":"Temp!B152","v":0},{"$f":"Temp!AE152","v":0},{"$f":"Temp!F152","v":0},{"$f":"Temp!R152","v":0},{"$f":"Temp!I152","v":0}]
[{"$f":"Temp!A153","v":0},{"$f":"Temp!B153","v":0},{"$f":"Temp!AE153","v":0},{"$f":"Temp!F153","v":0},{"$f":"Temp!R153","v":0},{"$f":"Temp!I153","v":0}]
[{"$f":"Temp!A154","v":0},{"$f":"Temp!B154","v":0},{"$f":"Temp!AE154","v":0},{"$f":"Temp!F154","v":0},{"$f":"Temp!R154","v":0},{"$f":"Temp!I154","v":0}]
[{"$f":"Temp!A155","v":0},{"$f":"Temp!B155","v":0},{"$f":"Temp!AE155","v":0},{"$f":"Temp!F155","v":0},{"$f":"Temp!R155","v":0},{"$f":"Temp!I155","v":0}]
[{"$f":"Temp!A156","v":0},{"$f":"Temp!B156","v":0},{"$f":"Temp!AE156","v":0},{"$f":"Temp!F156","v":0},{"$f":"Temp!R156","v":0},{"$f":"Temp!I156","v":0}]
[{"$f":"Temp!A157","v":0},{"$f":"Temp!B157","v":0},{"$f":"Temp!AE157","v":0},{"$f":"Temp!F157","v":0},{"$f":"Temp!R157","v":0},{"$f":"Temp!I157","v":0}]
[{"$f":"Temp!A158","v":0},{"$f":"Temp!B158","v":0},{"$f":"Temp!AE158","v":0},{"$f":"Temp!F158","v":0},{"$f":"Temp!R158","v":0},{"$f":"Temp!I158","v":0}]
[{"$f":"Temp!A159","v":0},{"$f":"Temp!B159","v":0},{"$f":"Temp!AE159","v":0},{"$f":"Temp!F159","v":0},{"$f":"Temp!R159","v":0},{"$f":"Temp!I159","v":0}]
[{"$f":"Temp!A160","v":0},{"$f":"Temp!B160","v":0},{"$f":"Temp!AE160","v":0},{"$f":"Temp!F160","v":0},{"$f":"Temp!R160","v":0},{"$f":"Temp!I160","v":0}]
[{"$f":"Temp!A161","v":0},{"$f":"Temp!B161","v":0},{"$f":"Temp!AE161","v":0},{"$f":"Temp!F161","v":0},{"$f":"Temp!R161","v":0},{"$f":"Temp!I161","v":0}]
[{"$f":"Temp!A162","v":0},{"$f":"Temp!B162","v":0},{"$f":"Temp!AE162","v":0},{"$f":"Temp!F162","v":0},{"$f":"Temp!R162","v":0},{"$f":"Temp!I162","v":0}]
[{"$f":"Temp!A163","v":0},{"$f":"Temp!B163","v":0},{"$f":"Temp!AE163","v":0},{"$f":"Temp!F163","v":0},{"$f":"Temp!R163","v":0},{"$f":"Temp!I163","v":0}]
[{"$f":"Temp!A164","v":0},{"$f":"Temp!B164","v":0},{"$f":"Temp!AE164","v":0},{"$f":"Temp!F164","v":0},{"$f":"Temp!R164","v":0},{"$f":"Temp!I164","v":0}]
[{"$f":"Temp!A165","v":0},{"$f":"Temp!B165","v":0},{"$f":"Temp!AE165","v":0},{"$f":"Temp!F165","v":0},{"$f":"Temp!R165","v":0},{"$f":"Temp!I165","v":0}]
[{"$f":"Temp!A166","v":0},{"$f":"Temp!B166","v":0},{"$f":"Temp!AE166","v":0},{"$f":"Temp!F166","v":0},{"$f":"Temp!R166","v":0},{"$f":"Temp!I166","v":0}]
[{"$f":"Temp!A167","v":0},{"$f":"Temp!B167","v":0},{"$f":"Temp!AE167","v":0},{"$f":"Temp!F167","v":0},{"$f":"Temp!R167","v":0},{"$f":"Temp!I167","v":0}]
[{"$f":"Temp!A168","v":0},{"$f":"Temp!B168","v":0},{"$f":"Temp!AE168","v":0},{"$f":"Temp!F168","v":0},{"$f":"Temp!R168","v":0},{"$f":"Temp!I168","v":0}]
[{"$f":"Temp!A169","v":0},{"$f":"Temp!B169","v":0},{"$f":"Temp!AE169","v":0},{"$f":"Temp!F169","v":0},{"$f":"Temp!R169","v":0},{"$f":"Temp!I169","v":0}]
[{"$f":"Temp!A170","v":0},{"$f":"Temp!B170","v":0},{"$f":"Temp!AE170","v":0},{"$f":"Temp!F170","v":0},{"$f":"Temp!R170","v":0},{"$f":"Temp!I170","v":0}]
[{"$f":"Temp!A171","v":0},{"$f":"Temp!B171","v":0},{"$f":"Temp!AE171","v":0},{"$f":"Temp!F171","v":0},{"$f":"Temp!R171","v":0},{"$f":"Temp!I171","v":0}]
[{"$f":"Temp!A172","v":0},{"$f":"Temp!B172","v":0},{"$f":"Temp!AE172","v":0},{"$f":"Temp!F172","v":0},{"$f":"Temp!R172","v":0},{"$f":"Temp!I172","v":0}]
[{"$f":"Temp!A173","v":0},{"$f":"Temp!B173","v":0},{"$f":"Temp!AE173","v":0},{"$f":"Temp!F173","v":0},{"$f":"Temp!R173","v":0},{"$f":"Temp!I173","v":0}]
[{"$f":"Temp!A174","v":0},{"$f":"Temp!B174","v":0},{"$f":"Temp!AE174","v":0},{"$f":"Temp!F174","v":0},{"$f":"Temp!R174","v":0},{"$f":"Temp!I174","v":0}]
[{"$f":"Temp!A175","v":0},{"$f":"Temp!B175","v":0},{"$f":"Temp!AE175","v":0},{"$f":"Temp!F175","v":0},{"$f":"Temp!R175","v":0},{"$f":"Temp!I175","v":0}]
[{"$f":"Temp!A176","v":0},{"$f":"Temp!B176","v":0},{"$f":"Temp!AE176","v":0},{"$f":"Temp!F176","v":0},{"$f":"Temp!R176","v":0},{"$f":"Temp!I176","v":0}]
[{"$f":"Temp!A177","v":0},{"$f":"Temp!B177","v":0},{"$f":"Temp!AE177","v":0},{"$f":"Temp!F177","v":0},{"$f":"Temp!R177","v":0},{"$f":"Temp!I177","v":0}]
[{"$f":"Temp!A178","v":0},{"$f":"Temp!B178","v":0},{"$f":"Temp!AE178","v":0},{"$f":"Temp!F178","v":0},{"$f":"Temp!R178","v":0},{"$f":"Temp!I178","v":0}]
[{"$f":"Temp!A179","v":0},{"$f":"Temp!B179","v":0},{"$f":"Temp!AE179","v":0},{"$f":"Temp!F179","v":0},{"$f":"Temp!R179","v":0},{"$f":"Temp!I179","v":0}]
[{"$f":"Temp!A180","v":0},{"$f":"Temp!B180","v":0},{"$f":"Temp!AE180","v":0},{"$f":"Temp!F180","v":0},{"$f":"Temp!R180","v":0},{"$f":"Temp!I180","v":0}]
[{"$f":"Temp!A181","v":0},{"$f":"Temp!B181","v":0},{"$f":"Temp!AE181","v":0},{"$f":"Temp!F181","v":0},{"$f":"Temp!R181","v":0},{"$f":"Temp!I181","v":0}]
[{"$f":"Temp!A182","v":0},{"$f":"Temp!B182","v":0},{"$f":"Temp!AE182","v":0},{"$f":"Temp!F182","v":0},{"$f":"Temp!R182","v":0},{"$f":"Temp!I182","v":0}]
[{"$f":"Temp!A183","v":0},{"$f":"Temp!B183","v":0},{"$f":"Temp!AE183","v":0},{"$f":"Temp!F183","v":0},{"$f":"Temp!R183","v":0},{"$f":"Temp!I183","v":0}]
[{"$f":"Temp!A184","v":0},{"$f":"Temp!B184","v":0},{"$f":"Temp!AE184","v":0},{"$f":"Temp!F184","v":0},{"$f":"Temp!R184","v":0},{"$f":"Temp!I184","v":0}]
[{"$f":"Temp!A185","v":0},{"$f":"Temp!B185","v":0},{"$f":"Temp!AE185","v":0},{"$f":"Temp!F185","v":0},{"$f":"Temp!R185","v":0},{"$f":"Temp!I185","v":0}]
[{"$f":"Temp!A186","v":0},{"$f":"Temp!B186","v":0},{"$f":"Temp!AE186","v":0},{"$f":"Temp!F186","v":0},{"$f":"Temp!R186","v":0},{"$f":"Temp!I186","v":0}]
[{"$f":"Temp!A187","v":0},{"$f":"Temp!B187","v":0},{"$f":"Temp!AE187","v":0},{"$f":"Temp!F187","v":0},{"$f":"Temp!R187","v":0},{"$f":"Temp!I187","v":0}]
[{"$f":"Temp!A188","v":0},{"$f":"Temp!B188","v":0},{"$f":"Temp!AE188","v":0},{"$f":"Temp!F188","v":0},{"$f":"Temp!R188","v":0},{"$f":"Temp!I188","v":0}]
[{"$f":"Temp!A189","v":0},{"$f":"Temp!B189","v":0},{"$f":"Temp!AE189","v":0},{"$f":"Temp!F189","v":0},{"$f":"Temp!R189","v":0},{"$f":"Temp!I189","v":0}]
[{"$f":"Temp!A190","v":0},{"$f":"Temp!B190","v":0},{"$f":"Temp!AE190","v":0},{"$f":"Temp!F190","v":0},{"$f":"Temp!R190","v":0},{"$f":"Temp!I190","v":0}]
[{"$f":"Temp!A191","v":0},{"$f":"Temp!B191","v":0},{"$f":"Temp!AE191","v":0},{"$f":"Temp!F191","v":0},{"$f":"Temp!R191","v":0},{"$f":"Temp!I191","v":0}]
[{"$f":"Temp!A192","v":0},{"$f":"Temp!B192","v":0},{"$f":"Temp!AE192","v":0},{"$f":"Temp!F192","v":0},{"$f":"Temp!R192","v":0},{"$f":"Temp!I192","v":0}]
[{"$f":"Temp!A193","v":0},{"$f":"Temp!B193","v":0},{"$f":"Temp!AE193","v":0},{"$f":"Temp!F193","v":0},{"$f":"Temp!R193","v":0},{"$f":"Temp!I193","v":0}]
[{"$f":"Temp!A194","v":0},{"$f":"Temp!B194","v":0},{"$f":"Temp!AE194","v":0},{"$f":"Temp!F194","v":0},{"$f":"Temp!R194","v":0},{"$f":"Temp!I194","v":0}]
[{"$f":"Temp!A195","v":0},{"$f":"Temp!B195","v":0},{"$f":"Temp!AE195","v":0},{"$f":"Temp!F195","v":0},{"$f":"Temp!R195","v":0},{"$f":"Temp!I195","v":0}]
[{"$f":"Temp!A196","v":0},{"$f":"Temp!B196","v":0},{"$f":"Temp!AE196","v":0},{"$f":"Temp!F196","v":0},{"$f":"Temp!R196","v":0},{"$f":"Temp!I196","v":0}]
[{"$f":"Temp!A197","v":0},{"$f":"Temp!B197","v":0},{"$f":"Temp!AE197","v":0},{"$f":"Temp!F197","v":0},{"$f":"Temp!R197","v":0},{"$f":"Temp!I197","v":0}]
[{"$f":"Temp!A198","v":0},{"$f":"Temp!B198","v":0},{"$f":"Temp!AE198","v":0},{"$f":"Temp!F198","v":0},{"$f":"Temp!R198","v":0},{"$f":"Temp!I198","v":0}]
[{"$f":"Temp!A199","v":0},{"$f":"Temp!B199","v":0},{"$f":"Temp!AE199","v":0},{"$f":"Temp!F199","v":0},{"$f":"Temp!R199","v":0},{"$f":"Temp!I199","v":0}]
[{"$f":"Temp!A200","v":0},{"$f":"Temp!B200","v":0},{"$f":"Temp!AE200","v":0},{"$f":"Temp!F200","v":0},{"$f":"Temp!R200","v":0},{"$f":"Temp!I200","v":0}]

{"sheet":"Stats","index":14,"n_rows":21,"n_cols":2,"rows_kept":21,"cut":false,"hidden":false,"merged":[]}
["Statistiques*",{"$f":"NOW()","v":"2025-11-26T22:40:30.420"}]
["Date départ","2020-01-01"]
["Date fin","2026-12-31"]
["Partner n°",3338]
["TypeDoc1","Facture"]
["TypeDoc2","Avoir"]
["Art n°",1059]
["1 MONTANTS \nDates sélectionnées\nPartners = tous\nDocument sélectionné\nArticles = tous",{"$f":"SUMPRODUCT((Archive!$J$204:$J$5000=$B$5)*(Archive!$K$204:$K$5000>=$B$2)*(Archive!$K$204:$K$5000<=$B$3)*Archive!$G$204:$G$5000)\n+SUMPRODUCT((Archive!$J$204:$J$5000=$B$6)*(Archive!$K$204:$K$5000>=$B$2)*(Archive!$K$204:$K$5000<=$B$3)*Archive!$G$204:$G$5000)","v":9085.0395000000008}]
["1 QUANTITÉS\nDates sélectionnées\nPartner = tous\nDocument sélectionné\nArticle = tous",{"$f":"SUMPRODUCT((Archive!$J$204:$J$5000=$B$5)*(Archive!$K$204:$K$5000>=$B$2)*(Archive!$K$204:$K$5000<=$B$3)*Archive!$C$204:$C$5000)\n+SUMPRODUCT((Archive!$J$204:$J$5000=$B$6)*(Archive!$K$204:$K$5000>=$B$2)*(Archive!$K$204:$K$5000<=$B$3)*Archive!$C$204:$C$5000)","v":32}]
["2 MONTANTS\nDates sélectionnées\nPartner = sélectionné\nDocument sélectionné\nArticle = tous",{"$f":"SUMPRODUCT((Archive!$N$204:$N$5000=$B$4)*(Archive!$J$204:$J$5000=$B$5)*(Archive!$K$204:$K$5000>=$B$2)*(Archive!$K$204:$K$5000<=$B$3)*Archive!$G$204:$G$5000)\n+SUMPRODUCT((Archive!$N$204:$N$5000=$B$4)*(Archive!$J$204:$J$5000=$B$6)*(Archive!$K$204:$K$5000>=$B$2)*(Archive!$K$204:$K$5000<=$B$3)*Archive!$G$204:$G$5000)","v":1581.5199999999998}]
["2 QUANTITÉS\nDates sélectionnées\nPartners = sélectionné\nDocument sélectionné\nArticle = tous",{"$f":"SUMPRODUCT((Archive!$N$204:$N$5000=$B$4)*(Archive!$J$204:$J$5000=$B$5)*(Archive!$K$204:$K$5000>=$B$2)*(Archive!$K$204:$K$5000<=$B$3)*Archive!$C$204:$C$5000)\n+SUMPRODUCT((Archive!$N$204:$N$5000=$B$4)*(Archive!$J$204:$J$5000=$B$6)*(Archive!$K$204:$K$5000>=$B$2)*(Archive!$K$204:$K$5000<=$B$3)*Archive!$C$204:$C$5000)","v":9}]
["3 MONTANTS\nDates sélectionnées\nPartners = tous\nDocument sélectionné\nArticle = sélectionné",{"$f":"SUMPRODUCT((Archive!$J$204:$J$5000=$B$5)*(Archive!$A$204:$A$5000=$B$7)*(Archive!$K$204:$K$5000>=$B$2)*(Archive!$K$204:$K$5000<=$B$3)*Archive!$G$204:$G$5000)\n+SUMPRODUCT((Archive!$J$204:$J$5000=$B$6)*(Archive!$A$204:$A$5000=$B$7)*(Archive!$K$204:$K$5000>=$B$2)*(Archive!$K$204:$K$5000<=$B$3)*Archive!$G$204:$G$5000)","v":0}]
["3 QUANTITÉS\nDates sélectionnées\nPartners = tous\nDocument sélectionné\nArticle = sélectionné",{"$f":"SUMPRODUCT((Archive!$J$204:$J$5000=$B$5)*(Archive!$A$204:$A$5000=$B$7)*(Archive!$K$204:$K$5000>=$B$2)*(Archive!$K$204:$K$5000<=$B$3)*Archive!$C$204:$C$5000)\n+SUMPRODUCT((Archive!$J$204:$J$5000=$B$6)*(Archive!$A$204:$A$5000=$B$7)*(Archive!$K$204:$K$5000>=$B$2)*(Archive!$K$204:$K$5000<=$B$3)*Archive!$C$204:$C$5000)","v":0}]
["PAIEMENTS (ou Au crédit)\nEnregistrés dans Archive\nDates sélectionnées\nClient sélectionné ou tous",{"$f":"IF($B$4=\"\",SUMPRODUCT((Archive!$K$204:$K$5000>=$B$2)*(Archive!$K$204:$K$5000<=$B$3)*Archive!$AB$204:$AB$5000),SUMPRODUCT((Archive!$N$204:$N$5000=$B$4)*(Archive!$K$204:$K$5000>=$B$2)*(Archive!$K$204:$K$5000<=$B$3)*Archive!$AB$204:$AB$5000))","v":0}]
["BALANCE\n(en positif solde dû)\nDates sélectionnée\nClient sélectionné ou tous",{"$f":"IF($B$4=\"\",$B$8-$B$14,$B$10-$B$14)","v":1581.5199999999998}]
["1 Total TVA 1 (H) \nDates sélectionnés\nPartners = tous\nDocument sélectionné\nArticles = tous",{"$f":"SUMPRODUCT((Archive!$J$204:$J$5000=B5)*(Archive!$H$204:$H$5000=1)*(Archive!$K$204:$K$5000>=$B$2)*(Archive!$K$204:$K$5000<=$B$3)*Archive!$I$204:$I$5000)\n+SUMPRODUCT((Archive!$J$204:$J$5000=B6)*(Archive!$H$204:$H$5000=1)*(Archive!$K$204:$K$5000>=$B$2)*(Archive!$K$204:$K$5000<=$B$3)*Archive!$I$204:$I$5000)","v":637.39409610027894}]
["1 Total TVA 2 (H) \nDates sélectionnés\nPartners = tous\nDocument sélectionné\nArticles = tous",{"$f":"SUMPRODUCT((Archive!$J$204:$J$5000=$B$5)*(Archive!$H$204:$H$5000=2)*(Archive!$K$204:$K$5000>=$B$2)*(Archive!$K$204:$K$5000<=$B$3)*Archive!$I$204:$I$5000)\n+SUMPRODUCT((Archive!$J$204:$J$5000=$B$6)*(Archive!$H$204:$H$5000=2)*(Archive!$K$204:$K$5000>=$B$2)*(Archive!$K$204:$K$5000<=$B$3)*Archive!$I$204:$I$5000)","v":4.1414634146341456}]
["2 Total TVA 1 (H) \nDates sélectionnés\nPartners sélectionné\nDocument sélectionné\nArticles = tous",{"$f":"SUMPRODUCT((Archive!$N$204:$N$5000=$B$4)*(Archive!$J$204:$J$5000=$B$5)*(Archive!$H$204:$H$5000=1)*(Archive!$K$204:$K$5000>=$B$2)*(Archive!$K$204:$K$5000<=$B$3)*Archive!$I$204:$I$5000)\n+SUMPRODUCT((Archive!$N$204:$N$5000=$B$4)*(Archive!$J$204:$J$5000=$B$6)*(Archive!$H$204:$H$5000=1)*(Archive!$K$204:$K$5000>=$B$2)*(Archive!$K$204:$K$5000<=$B$3)*Archive!$I$204:$I$5000)","v":107.6713091922006}]
["2 Total TVA 2 (H) \nDates sélectionnés\nPartners sélectionné\nDocument sélectionné\nArticles = tous",{"$f":"SUMPRODUCT((Archive!$N$204:$N$5000=$B$4)*(Archive!$J$204:$J$5000=$B$5)*(Archive!$H$204:$H$5000=2)*(Archive!$K$204:$K$5000>=$B$2)*(Archive!$K$204:$K$5000<=$B$3)*Archive!$I$204:$I$5000)\n+SUMPRODUCT((Archive!$N$204:$N$5000=$B$4)*(Archive!$J$204:$J$5000=$B$6)*(Archive!$H$204:$H$5000=2)*(Archive!$K$204:$K$5000>=$B$2)*(Archive!$K$204:$K$5000<=$B$3)*Archive!$I$204:$I$5000)","v":1.8419512195121968}]
["*Sous réserve"]
["CA (ligne 8) Facturé dernière colonne moins (-) avant dernière colonne",{"$f":"B8-MAX(D8:IV8)","v":9085.0395000000008}]

{"sheet":"Tab.de bord","index":15,"n_rows":14,"n_cols":8,"rows_kept":14,"cut":false,"hidden":false,"merged":[[5,3,6,4]]}
[{"$f":"Variables!H2","v":"Analyse"},{"$f":"Variables!H3","v":"Résultats"}]
[{"$f":"Variables!H4","v":"Valeur du stock au prix de vente"},{"$f":"SUM(Articles!AJ5:AJ3007)","v":1127714.2999999998},{"$f":"Variables!E17","v":"CHF"}]
[{"$f":"Variables!H5","v":"Valeur du stock au prix d'achat"},{"$f":"SUM(Articles!L5:L3007)","v":676466.84799999988},{"$f":"Variables!E17","v":"CHF"}]
[{"$f":"Variables!H6","v":"= Marge brutte du stock"},{"$f":"100-(B3*100)/B2","v":40.014341575698744},"%"]
[{"$f":"Variables!H7","v":"Nb de pièces en stock"},{"$f":"SUM(Articles!K5:K3007)","v":1099.3},{"$f":"Variables!H15","v":"pièces/exemplaires"}]
[{"$f":"Variables!H8","v":"Somme des ventes au prix net"},{"$f":"SUM(Articles!AA5:AA3007)","v":91892.020000000019},{"$f":"Variables!E17","v":"CHF"},"Attention ne rien modifier sauf à partir de la cell. A15 et en-dessous"]
[{"$f":"Variables!H9","v":"Sommes des ventes au prix d'achat"},{"$f":"SUM(Articles!AI5:AI3007)","v":57574.626599999974},{"$f":"Variables!E17","v":"CHF"}]
[]
[]
[]
[]
[]
[null,{"$f":"Variables!H4","v":"Valeur du stock au prix de vente"},{"$f":"Variables!H5","v":"Valeur du stock au prix d'achat"},{"$f":"Variables!H6","v":"= Marge brutte du stock"},{"$f":"Variables!H7","v":"Nb de pièces en stock"},{"$f":"Variables!H8","v":"Somme des ventes au prix net"},{"$f":"Variables!H9","v":"Sommes des ventes au prix d'achat"},"Somme des achats"]
[{"$f":"NOW()","v":"2025-11-26T22:40:30.460"},{"$f":"B2","v":1127714.2999999998},{"$f":"B3","v":676466.84799999988},{"$f":"B4","v":40.014341575698744},{"$f":"B5","v":1099.3},{"$f":"B6","v":91892.020000000019},{"$f":"B7","v":57574.626599999974},{"$f":"Débiteurs!D1","v":345}]

{"sheet":"Débiteurs","index":16,"n_rows":3,"n_cols":7,"rows_kept":3,"cut":false,"hidden":false,"merged":[]}
[null,null,"Total Achats",{"$f":"SUM(D3:D100)","v":345}]
["Date commande","Date réception","Fournisseur/Débiteur","Achat","Date Paiement","Statut","Remarque"]
["2019-02-07","2020-02-14","Fournisseur ABC",345,"2020-02-19","A","RAS"]

{"sheet":"Variables","index":17,"n_rows":155,"n_cols":18,"rows_kept":155,"cut":false,"hidden":false,"merged":[]}
["TVA/VAT/MWSt/IVA","TypeDoc","Conditions de paiement, texte en pied de page",null,"Textes en \"Factures1\"","Textes des Boîtes de dialogues","Noms des Boutons de programme","Textes en \"Tab.de bord\"","Textes en \"Articles\"","Textes en \"CdeFourn\"","Textes en \"Partners\"","Textes en \"Archive\"","2 texte en pied de page",null,"Type Activité","Sujet","Priorité","Statut"]
[7.7,"Offre",1,"Payable net à la livraison : Postfinance, 3030 Berne\nIBAN : CH03 0900 0000 1012 3456 7\nBIC/SWIFT : POFICHBEXXX\nAvec nos remerciements anticipés","Date","Vous allez vider 'Factures1' de ses données","Envoyer à Archive(S)","Analyse","Réf.","Date","N° Client","Type Doc",1]
[2.5,"Devis",2,"Payable net à l'échéance : Postfinance, 3030 Berne\nIBAN : CH03 0900 0000 1012 3456 7\nBIC/SWIFT : POFICHBEXXX\nAvec nos remerciements anticipés","Doc. n°/réf.","Est-ce que la cellule active désigne bien la ligne que vous voulez afficher dans la feuille 'Factures1'? Ne vous placez PAS sur les lignes 1, 2 et 3.","Ligne manuel/auto(R)","Résultats","Désignation","N/réf.","Firme/Intitulé","Date",2,"Termes et conditions\n\nJ'accepte toutes les informations présentées dans ce document\n\nNom :        _______________________________\n\nDate :        _______________________________\n\nSignature :\n                 _______________________________","Appels","Autre","Faible","En attente"]
[0,"Confirmation de commande",3,"Nous exécutons votre ordre à votre pleine satisfaction","V/n° client","Entrez le code d'article que vous voulez saisir","Réinitialiser(Z)","Valeur du stock au prix de vente","Prix vente 1","V/n° partner","Prénom","N/réf:",3,"PAIEMENT\n\nJe, soussigné, atteste avoir reçu la somme de . . . . . . . . . . . . . . . . . . . . . . . . . . . . . . . \n\nNom :        _______________________________\n\nDate :        _______________________________\n\nSignature :\n                 _______________________________","Courriers","Démonstration","Haute","En cours"]
[null,"Facture",4,"Merci pour votre commande"," Référence","Est-ce que la cellule active désigne bien la ligne que vous voulez remettre en mode auto?","Preview & impression(I)","Valeur du stock au prix d'achat","Commande","N° d'article","Nom ","V/n° client:",4,"Ajoutez vos propres textes","E-mails","Invitation","Normal","Non demandé"]
["Taux de change Exchange Rate Wechselkurs","Bulletin de livraison",5,"Montant déjà reçu"," Désignation","Est-ce que la cellule active désigne bien la ligne que vous voulez remplir manuellement dans Facture1?","N° auto(N)","= Marge brutte du stock","Empl. dans Stock","Désignation","Rue/CP","Préambule",5,null,"Événements","Négociation",null,"Reporté"]
[0.95,"Avoir",6,"Le montant susmentionné vous sera crédité. Nous vous prions de nous faxer ce bon lors de votre prochaine commande afin que nous puissions déduire la somme indiquée. Merci beaucoup.","Qté","Connaissez-vous le code de fournisseur que vous allez devoir saisir?",null,"Nb de pièces en stock","Unité","Qté","NPA","Commentaires",6,null,"Fax","Proposition commerciale",null,"Terminé"]
["Raison sociale/Corporate/Firmen","1er rappel",7,"Si votre paiement s'est croisé avec ce rappel, veuillez nous en excuser et le considérer comme nul et non avenu.","Unité","Entrez le code du fournisseur pour lequel vous voulez passer commande","ArchToFact1","Somme des ventes au prix net","Prix achat","Unité","Localité","Conditions",7,null,"Tâches","Relance"]
["Votre raison sociale","2e rappel",8,"La facture mentionnée ci-dessus n'a pas encore été payée. Sans doute a-t-elle échappé à votre attention. Nous vous prions de bien vouloir verser le montant indiqué dans un délai de 10 jours. Si votre paiement s'est croisé avec le présent avis, nous vous prions de bien vouloir l'ignorer","Prix unitaire","Les entrées ont été mises à jour !","Art.New","Sommes des ventes au prix d'achat","Code TVA","V/Prix Net","Pays sauf CH","TVA1",8,null,null,"Remerciement suite contact"]
["Affichage écran de départ","Commandement de payer",9,"Facture acquittée en espèce avec nos remerciements.","%","Les sorties ont été mises à jour !","F.Art.(A)","Ventes TVA1","N° article Fourn","V/N° article","Langue","TVA2",9,null,null,"Suivi commercial"]
["No","Dépôt-Consignation",10,"Facture acquittée par carte de crédit/débit avec nos remerciements.","Total net","Vous désirez choisir le client? Etes-vous bien sur la ligne où il se trouve?","Entrées","dont TVA1","N° fournisseur","Remarque","Vide","Prix TTC",10]
["HT/TTC","Ordre de travail",11,null,"T","Vous désirez facturer un article. Etes-vous bien sur la ligne où il se trouve?\nL'état du stock indique une quantité de : ","Sorties","Ventes TVA2","Stock","Bulletin de commande","Rabais 1","Total critère",11]
["TTC","Quittance",12,null,"TVA","Votre facture est pleine. Veuillez créer un deuxième document","CF1","dont TVA2","Valeur stock","Retour marchandise","Rabais 2","Client nom, NPA",12]
[null,"Récapitulatif de la commande",13,null,"Total hors TVA",null,"CF2","Ventes TVA0","Cumul Entrées",null,"Tél","Paiement",13]
[null,"Accusé de réception de commande",14,null,"+ TVA",null,"NewPartner","pièces/exemplaires","Cumul Sorties",null,"Fax","Date Paiement",14]
["Échéance (jours)",null,15,null,"Total (TVA incluse)",null,"Chercher client(Q)","Attention ne pas effacer les données en bleu\nNe pas modifier la structure de la feuille","Entrée",null,"Natel","Critère 2",15]
[60,null,16,null,"CHF",null,"Choisir client(C)","Statistiques sur…","Sortie",null,"e-mail","Type Paiement",16]
["TypFormatDate",null,null,"Ne pas remplir au-delà","dont TVA","Indiquez une référence (par ex. les initiales de celui qui facture) souhaitées pour ce document. Si vous n'en souhaitez pas, n'indiquez rien","CF3_ViderCdeFournisseu","Client n°","Catégorie",null,"Web","Cat prix",null,"Ne pas remplir au-delà"]
["PC",null,null,null,"Total par TVA","Nouvel article - Veuillez compléter les données","CdeFournisseurPreview","Type de doc","PrixNetFourn",null,"Groupe","Échéance"]
["N° en cours",null,null,null,"Stock","Indiquez la quantité que vous souhaitez facturer","Statistiques du jour/heure","Dès date","Kurs",null,"Vide"]
[1011,"Ne pas remplir au-delà",null,null,"Total (TVA incluse)","Indiquez le rabais ('rien' à '100') que vous souhaitez accorder","Chercher article(q)","Jusqu'à date","Prix vente 2",null,"Vide"]
[null,null,null,null,"Qté totale : "," / Commande en cours : ",null,"Résultat","Prix vente 3",null,"Vide"]
[null,null,null,null,"Acompte / Paiement","Vous désirez passer ce document à Archive?",null,"Chiffre d'affaires…","Prix vente 4",null,"Vide"]
[null,null,null,null,"Solde à payer (TVA incluse)","Vous voulez enregistrer un paiement?",null,"Non utilisé","Champ libre pas effacer",null,"Vide"]
[null,null,null,null,"Qté totale : ","Indiquez le n° de facture (si vous n'indiquez rien: toutes les factures seront affichées)",null,"TypePaiement","Champ libre pas effacer",null,"Briefanrede"]
[null,null,null,null,null,"Le filtre a été enlevé!",null,"Dès date","Champ libre pas effacer",null,"Dern.mutation"]
[null,null,null,null,null,"Indiquez ce que vous recherchez (1 mot) ou laissez tel quel",null,"Jusqu'à date","Champ libre pas effacer",null,"Par"]
[null,null,null,null,null,"Vous allez pouvoir indiquer deux mots qui représentent votre article. Continuer?",null,"Payé TTC","PVT"]
[null,null,null,null,null,"Vous allez pouvoir indiquer le nom (colonne C) et la localité (Colonne G) du partner recherché. Continuer?",null,"Tot TVA1","St Init."]
[null,null,null,null,null,"Vous allez créer une facture qui compile un/des bulletin(s) de livraison\nSi 'Factures1' n'a pas été réinitialisée, dites 'Non' et réinitialisez d'abord 'Factures1'\nVoyez la feuille 'Aide' avant d'utiliser cette portion du programme",null,"Tot TVA2","St. Mini"]
[null,null,null,null,null,"Le nombre maximum de positions a été atteint\nRecommencez en restreignant la plage de dates au besoin",null,"Payé HT","PropCde"]
[null,null,null,null,null,null,null,null,"Cde"]
[null,null,null,null,null,null,null,null,"Date de Cde"]
[null,null,null,null,null,null,null,null,"Champ libre pas effacer"]
[null,null,null,null,null,null,null,null,"Poids (Kg)"]
[null,null,null,null,null,null,null,null,"PAT (ventes au prix d'achat total)"]
[null,null,null,null,null,null,null,null,"Val St au PV"]
[]
[null,"Français",null,"Français","Français","Français","Français","Français","Français","Français","Français","Français"]
[null,"Offre",1,"Payable net à la livraison : Postfinance, 3030 Berne\nIBAN : CH03 0900 0000 1012 3456 7\nBIC/SWIFT : POFICHBEXXX\nAvec nos remerciements anticipés","Date","Vous allez vider 'Factures1' de ses données","Envoyer à Archive(S)","Analyse","Réf.","Date","N° Client","Type Doc"]
[null,"Devis",2,"Payable net à l'échéance : Postfinance, 3030 Berne\nIBAN : CH03 0900 0000 1012 3456 7\nBIC/SWIFT : POFICHBEXXX\nAvec nos remerciements anticipés","Doc. n°/réf.","Est-ce que la cellule active désigne bien la ligne que vous voulez afficher dans la feuille 'Factures1'? Ne vous placez PAS sur les lignes 1, 2 et 3.","Ligne manuel/auto(R)","Résultats","Désignation","N/réf.","Firme/Intitulé","Date"]
[null,"Confirmation de commande",3,"Nous exécutons votre ordre à votre pleine satisfaction","V/n° client","Entrez le code d'article que vous voulez saisir","Réinitialiser(Z)","Valeur du stock au prix de vente","Prix vente 1","V/n° partner","Prénom","N/réf:"]
[null,"Facture",4,"Merci pour votre commande"," Référence","Est-ce que la cellule active désigne bien la ligne que vous voulez remettre en mode auto?","Preview & impression(I)","Valeur du stock au prix d'achat","Commande","N° d'article","Nom ","V/n° client:"]
[null,"Bulletin de livraison",5,"Montant déjà reçu"," Désignation","Est-ce que la cellule active désigne bien la ligne que vous voulez remplir manuellement dans Facture1?","N° auto(N)","= Marge brutte du stock","Empl. dans Stock","Désignation","Rue/CP","Préambule"]
[null,"Avoir",6,"Le montant susmentionné vous sera crédité. Nous vous prions de nous faxer ce bon lors de votre prochaine commande afin que nous puissions déduire la somme indiquée. Merci beaucoup.","Qté","Connaissez-vous le code de fournisseur que vous allez devoir saisir?",null,"Nb de pièces en stock","Unité","Qté","NPA","Commentaires"]
[null,"1er rappel",7,"Si votre paiement s'est croisé avec ce rappel, veuillez nous en excuser et le considérer comme nul et non avenu.","Unité","Entrez le code du fournisseur pour lequel vous voulez passer commande","ArchToFact1","Somme des ventes au prix net","Prix achat","Unité","Localité","Conditions"]
[null,"2e rappel",8,"La facture mentionnée ci-dessus n'a pas encore été payée. Sans doute a-t-elle échappé à votre attention. Nous vous prions de bien vouloir verser le montant indiqué dans un délai de 10 jours. Si votre paiement s'est croisé avec le présent avis, nous vous prions de bien vouloir l'ignorer","Prix unitaire","Les entrées ont été mises à jour !","Art.New","Sommes des ventes au prix d'achat","Code TVA","V/Prix Net","Pays sauf CH","TVA1"]
[null,"Commandement de payer",9,null,"%","Les sorties ont été mises à jour !","F.Art.(A)","Ventes TVA1","N° article Fourn","V/N° article","Langue","TVA2"]
[null,"Dépôt-Consignation",10,null,"Total net","Vous désirez choisir le client? Etes-vous bien sur la ligne où il se trouve?","Entrées","dont TVA1","N° fournisseur","Remarque","Vide","Prix TTC"]
[null,"Ordre de travail",11,null,"T","Vous désirez facturer un article. Etes-vous bien sur la ligne où il se trouve?\nL'état du stock indique une quantité de : ","Sorties","Ventes TVA2","Stock","Bulletin de commande","Rabais 1","Total critère"]
[null,"Quittance",12,null,"TVA","Votre facture est pleine. Veuillez créer un deuxième document","CF1","dont TVA2","Valeur stock","Retour marchandise","Rabais 2","Client nom, NPA"]
[null,"Récapitulatif de la commande",13,null,"Total hors TVA",null,"CF2","Ventes TVA0","Cumul Entrées",null,"Tél","Paiement"]
[null,"Accusé de réception de commande",14,null,"+ TVA",null,"NewPartner","pièces/exemplaires","Cumul Sorties",null,"Fax","Date Paiement"]
[null,null,15,null,"Total (TVA incluse)",null,"Chercher client(Q)","Attention ne pas effacer les données en bleu\nNe pas modifier la structure de la feuille","Entrée",null,"Natel","Critère 2"]
[null,null,16,null,"CHF",null,"Choisir client(C)","Statistiques sur…","Sortie",null,"e-mail","Type Paiement"]
[null,null,null,"Ne pas remplir au-delà","dont TVA","Indiquez une référence (par ex. les initiales de celui qui facture) souhaitées pour ce document. Si vous n'en souhaitez pas, n'indiquez rien","CF3_ViderCdeFournisseu","Client n°","Catégorie",null,"Web","Cat prix"]
[null,null,null,null,"Total par TVA","Nouvel article - Veuillez compléter les données","CdeFournisseurPreview","Type de doc","PrixNetFourn",null,"Groupe","Échéance"]
[null,null,null,null,"Stock","Indiquez la quantité que vous souhaitez facturer","Statistiques du jour/heure","Dès date","Kurs",null,"Vide"]
[null,"Ne pas remplir au-delà",null,null,"Total (TVA incluse)","Indiquez le rabais ('rien' à '100') que vous souhaitez accorder","Chercher article(q)","Jusqu'à date","Prix vente 2",null,"Vide"]
[null,null,null,null,"Qté totale : "," / Commande en cours : ",null,"Résultat","Prix vente 3",null,"Vide"]
[null,null,null,null,"Acompte / Paiement","Vous désirez passer ce document à Archive?",null,"Chiffre d'affaires…","Prix vente 4",null,"Vide"]
[null,null,null,null,"Solde à payer (TVA incluse)","Vous voulez enregistrer un paiement?",null,"Non utilisé","Champ libre pas effacer",null,"Vide"]
[null,null,null,null,"Qté totale : ","Indiquez le n° de facture (si vous n'indiquez rien: toutes les factures seront affichées)",null,"TypePaiement","Champ libre pas effacer",null,"Briefanrede"]
[null,null,null,null,null,"Le filtre a été enlevé!",null,"Dès date","Champ libre pas effacer",null,"Dern.mutation"]
[null,null,null,null,null,"Indiquez ce que vous recherchez (1 mot) ou laissez tel quel",null,"Jusqu'à date","Champ libre pas effacer",null,"Par"]
[null,null,null,null,null,"Vous allez pouvoir indiquer deux mots qui représentent votre article. Continuer?",null,"Payé TTC","PVT"]
[null,null,null,null,null,"Vous allez pouvoir indiquer le nom (colonne C) et la localité (Colonne G) du partner recherché. Continuer?",null,"Tot TVA1","St Init."]
[null,null,null,null,null,"Vous allez créer une facture qui compile un/des bulletin(s) de livraison\nSi 'Factures1' n'a pas été réinitialisée, dites 'Non' et réinitialisez d'abord 'Factures1'\nVoyez la feuille 'Aide' avant d'utiliser cette portion du programme",null,"Tot TVA2","St. Mini"]
[null,null,null,null,null,"Le nombre maximum de positions a été atteint\nRecommencez en restreignant la plage de dates au besoin",null,"Payé HT","PropCde"]
[null,null,null,null,null,null,null,null,"Cde"]
[null,null,null,null,null,null,null,null,"Date de Cde"]
[null,null,null,null,null,null,null,null,"Champ libre pas effacer"]
[null,null,null,null,null,null,null,null,"Poids (Kg)"]
[null,null,null,null,null,null,null,null,"PAT (ventes au prix d'achat total)"]
[null,null,null,null,null,null,null,null,"Val St au PV"]
[]
[]
[]
[null,"English",null,"English","English","English","English","English","English","English","English","English"]
[null,"Offer",1,"Payable in 10 days net","Date","You will delete all data of 'Bill1'","Send to Archive(S)","Analysis","Item","Date","N° Client","Type Doc"]
[null,"Estimation",2,"Payable in 30 days net","DocNr/Ref","The active cell well indicates the line which you want to show in the sheet 'Bill1'? Do not take place on lines 1 , 2 and 3.","Fill Line manualy/auto(R)","Effect","Designation","O/ref.","Firme/Intitulé","Date"]
[null,"Order Confirmation",3,"We execute your order to your full satisfaction","Cust.-Nr","Enter the code of article which you want to type","Reset \"Bill1\"(Z)","Valeur du stock au prix de vente","Retail price","Y/PartnerNb","Nom Prénom","N/réf:"]
[null,"Invoice",4,"Thank you for your order"," Item ref.","The active cell well indicates the line that you want to put back in automatic mode?","Preview & Print(I)","Valeur du stock au prix d'achat","Order","Item number","Contact","V/n° client:"]
[null,"Delivery note",5,"Payment already received"," Designation","The active cell well indicates the line which you want to fill manually in Bill1?","Aut.Num(N)","= Marge brutte du stock","Free field, do not erase","Designation","Rue/CP","Préambule"]
[null,"Credit",6,"The above-mentioned amount will be credited you. We ask you of us fax this check during your next order so that we can deduct indicated sum. Thank you very much.","Qty","Do you know supplier's code which you go to have to type?",null,"Nb de pièces en stock","Unit","Qté","NPA","Commentaires"]
[null,"Purchase Order",7,"If your payment crossed with this reminder, please excuse us it and consider it as invalid.","Unity","Type the code of the supplier for which you want to order","ArchToFact1","Somme des ventes au prix net","Cost price","Unit","Localité","Conditions"]
[null,null,8,null,"Unit Price","Inputs were updated!","Art.New","Sommes des ventes au prix d'achat","Code VAT","Y/Net Price","Pays sauf CH","Prix net"]
[null,null,9,null,"%","Outputs were updated!","Bill Art.(A)","Ventes TVA1","Item code supplier","V/Item Nb","Langue","TVA"]
[null,null,10,null,"Net Price","You wish to choose the customer? Are you well on the line where he is?","Input","dont TVA1","Supplier code","Comment","Vide","Prix TTC"]
[null,null,11,null,"V","You wish to charge an article. Are you well on the line where it is?\nThe status of the stock indicates a quantity of :  ","Output","Ventes TVA2","Stock","Order to supplier","Rabais 1","Total critère"]
[null,null,12,null,"VAT","Your invoice is full. Please create a second document","CF1","dont TVA2","Value stock","Merchandise Return","Rabais 2","Client nom, NPA"]
[null,null,13,null,"Total w/o VAT",null,"CF2","Ventes TVA0","Accumulation Input",null,"Tél","Paiement"]
[null,null,14,null,"+ VAT",null,"NewPartner","pièces/exemplaires","Accumulation Output",null,"Fax","Date Paiement"]
[null,null,15,null,"Total (VAT inclusiv)",null,"Search customer(Q)","Attention ne pas effacer les données en bleu\nNe pas modifier la structure de la feuille","Input",null,"Natel","Critère 2"]
[null,null,16,null,"$",null,"Choose Customer(C)","Statistiques sur…","Output",null,"e-mail","Typ paiment"]
[null,null,null,"Do not fill down","Of whom the VAT","Indicate a reference (by eg the initials of the one that charges) wished for this document. If you do not wish it, do not indicate anything","CF3_EmptyOrderSupplier","Client n°","Category",null,"Web","Cat Price"]
[null,null,null,null,"Total by VAT","New Item - Please complete the informations","OrderSupplPreview","Type de doc","Latest price supplier",null,"Groupe","Term"]
[null,null,null,null,"Stock","Please type the quantity you want to bill","Statistic day/hour","Dès date","Rate of exchange",null,"Vide"]
[null,"Do not fill down",null,null,"Total (TVA incluse)","Please type the discount (0-100) you want to give","Search item(q)","Jusqu'à date","Free field, do not erase",null,"Vide"]
[null,null,null,null,"Qté totale : "," / Current Orders : ",null,"Résultats","Free field, do not erase",null,"Vide"]
[null,null,null,null,"Acompte / Paiement","You wish to place this document to Archive?",null,"Turnover…","Free field, do not erase",null,"Vide"]
[null,null,null,null,"Solde à payer (TVA incluse)","You want to register a payment?",null,"blank","Free field, do not erase",null,"Vide"]
[null,null,null,null,"Total Qty : ","Indicate the number of invoice (if you do not indicate anything all the invoices will be shown)",null,"blank","Free field, do not erase",null,"Briefanrede"]
[null,null,null,null,null,"The filter was removed!",null,"Dès date","Free field, do not erase",null,"Dern.mutation"]
[null,null,null,null,null,"Indicate what you are looking for (1 word) or leave as it is",null,"Jusqu'à date","Free field, do not erase",null,"Par"]
[null,null,null,null,null,"You could indicate two words that represent your item. Continue?",null,"Résultat","PVT"]
[null,null,null,null,null,"You could indicate the name (column C) and city (Column G) of the partner sought. Continue?",null,null,"St Init."]
[null,null,null,null,null,"You will create an invoice which compiles one/more Delivery Note(s)\nIf 'Bill1' has not been reset, say 'No' and first reboot 'Bill1'\nSee sheet 'Help' before using this portion of the program",null,null,"St. Mini"]
[null,null,null,null,null,"The maximum number of positions has been reached\nRepeat by restricting the range of dates as much as possible",null,null,"PropCde"]
[null,null,null,null,null,null,null,null,"Cde"]
[null,null,null,null,null,null,null,null,"Date/Order"]
[null,null,null,null,null,null,null,null,"Free field, do not erase"]
[null,null,null,null,null,null,null,null,"Poids (Kg)"]
[null,null,null,null,null,null,null,null,"PAT (ventes au prix d'achat total)"]
[null,null,null,null,null,null,null,null,"Val St au PV"]
[]
[]
[]
[null,"Deutsch",null,"Deutsch","Deutsch","Deutsch","Deutsch","Deutsch","Deutsch","Deutsch","Deutsch","Deutsch"]
[null,"Offerte",1,"Zahlbar innert 10 Tagen rein netto","Datum","Sie werden alle Daten von 'Factures1' löschen","Archivieren(S)","Analyse","Ref.","Datum","Kunde-Nr","Type Doc"]
[null,"Kostenanschlag",2,"Zahlbar innert 30 Tagen rein netto","Doc. Nr","Ist die active Zelle wirklich auf die Zeile die Sie darstellen möchten? Stellen Sie sie nicht auf die Zeilen 1, 2 und 3.","Z-Text einfügen/löschen(R)","Ergebnis","Beschreibung","U/Ref.","Firma/Anrede","Date"]
[null,"Lieferschein",3,"Gerne führen wir diesen Auftrag zu Ihrer vollsten Zufriedenheit aus","Kunde Nr","Tippen Sie die Referenz der Artikel die Sie erfassen möchten","Neu beginnen(Z)","Werte der Lager am Verkaufspreis","Verkaufspreis","I/Partner-Nr","Anrede Vorname","N/réf:"]
[null,"Rechnung",4,"Besten Dank für Ihren geschätzten Auftrag"," Nummer","Ist die active Zelle auf die Zeile die Sie in Auto Modus wieder stellen möchten?","Ansicht & Drucken(I)","Werte der Lager am Kaufspreis","Best.","Artikel-Nr","Name","V/n° client:"]
[null,"Auftragbestätigung",5,"Betrag dankend erhalten"," Beschreibung","Ist die active Zelle auf die Zeile die Sie von Hand erfassen möchten?","Aut.Numm.(N)","= Brutto gewinn der Lager","Freies Feld, bitte nicht löchen","Beschreibung","Strasse/Postfach","Préambule"]
[null,"Gutschrift",6,"Der obenstehende Betrag wurde Ihnen gutgeschrieben. Wir bitten Sie, diese Gutschrift zusammen mit Ihrer nächsten Bestellung zu faxen und wir werden den Betrag abziehen. Besten Dank.","Menge","Kennen Sie die Referenz der Lieferant der Sie erfassen werden?",null,"Anzahl Stück am Lager","Einheit","Menge","PLZ","Commentaires"]
[null,"Erste Mahnung",7,"Wir würden uns freuen, bald wieder weitere Aufträge von Ihnen zu erhalten","Einheit","Tippen Sie die Referenz der Lieferant für denen Sie eine Bestellung erfassen möchten.","ArchToFact1","Summe des Verkaufs am Nettopreis","Kaufpreis","Einheit","Ort","Conditions"]
[null,null,8,"Mit bester Empfehlung","Einz.\nPreis","Die Eingänge würden a jour aktualisiert","Art.New","Summe des Verkaufs am Kaufspreis","MWSt-Code","I/Netto-Preis","Land (ausser CH)","Prix net"]
[null,null,9,"Sollten wir bis zu diesem Datum nicht im Besitz des Betrags sein, so werden wir unser Forderung durch Nachnahme erheben lassen. Sofern auch diese Massnahme ohne Erfog bleibt, werden wir uns zu unserem Bedauern gezwungen sehen, gerichtlich gegen Sie vorzugehen","%","Die Ausgänge würden a jour aktualisiert","Art.ber.(A)","Verkaüfe TVA1","Artikel-Ref. Lieferant","I/Artikel-Nr","Sprache","TVA"]
[null,null,10,"Hochachtungsvoll","Gesamt-P.Netto","Sie möchten eine Kunde wählen? Sind Sie wirklich auf die Zeile wo er sich befindet?","Eingang","dazu TVA1","Herstellernummer","Bemerkung","Vide","Prix TTC"]
[null,null,11,null,"M","Sie möchten ein Artikl berechnen? Sind Sie wirklich auf die Zeile wo er sich befindet?\nDer Zustand des Lagerhbestandes zeigt eine Menge von : ","Ausgang","Verkaüfe TVA2","Lager","Bestellformular","Rabatt 1","Total critère"]
[null,null,12,null,"MWSt","Das Dokument ist voll. Bitte, erstellen Sie ein neue Dokument","CF1","dazu TVA2","Lager Wert","Retour de marchandise","Rabatt 2","Client nom, NPA"]
[null,null,13,null,"Gesamtsumme ohne MWSt",null,"CF2","Verkaüfe TVA0","Eingang kumuliert",null,"Tel.","Paiement"]
[null,null,14,null,"+ MWSt",null,"NewPartner","Stücke/Exemplar","Ausgang kumuliert",null,"Fax","Date Paiement"]
[null,null,15,null,"Gesamtsumme (MWSt inkl.)",null,"Kunde suchen(Q)","Achtung, nicht löschen alles was in Blau ist. Die Struktur nicht ändern","Eingänge",null,"Natel","Critère 2"]
[null,null,16,null,"CHF",null,"Kunde wahlen(C)","Statistiken auf…","Ausgänge",null,"e-mail","Champ libre pas effacer"]
[null,null,null,"Füllen Sie keine Daten nach diese Zeile","dazu MWSt","Tippen Sie eine Referenz (z.B. die Initialen der Personn die berechnet, dieses Dokument). Wenn Sie wollen sie können auch keine Referenz geben","CF3_LöschenBestLieferant","Kunde Nr","Kategorie",null,"Web","Champ libre pas effacer"]
[null,null,null,null,"Gesamt per TVA","Neue Artikel. Bitte füllen Sie die Daten vollständig (die ganze Zeile)","BestLieferantPreview","Typ von Dokumente","Netto-Preis Lieferant",null,"Gruppe","Zahlungsfrist"]
[null,null,null,null,"Stock","Tippen Sie die Menge, die Sie fakturieren wollen","Statistik Tag und Uhr","Von Datum","Kurs",null,"Vide"]
[null,"Füllen Sie keine Daten nach diese Zeile",null,null,"Total (TVA incluse)","Tippen Sie den Rabatt ('nichts' bis 100), den sie geben wollen","Artikel suchen(q)","Bis Datum","Freies Feld, bitte nicht löchen",null,"Vide"]
[null,null,null,null,"Qté totale : "," / Bestellung im Lauf : ",null,"Ergebnis","Freies Feld, bitte nicht löchen",null,"Vide"]
[null,null,null,null,"Acompte / Paiement","Sie wünschen, dieses Dokument in Archive zu stellen?",null,"Umsatz","Freies Feld, bitte nicht löchen",null,"Vide"]
[null,null,null,null,"Solde à payer (TVA incluse)","Sie wollen eine Zahlung buchen?",null,"frei","Freies Feld, bitte nicht löchen",null,"Vide"]
[null,null,null,null,"Ges. Menge : ","Geben Sie eine Rechnung-Nummer (wenn Sie keine Nummer geben, alle Rechnungen werden angezeigt)",null,"frei","Freies Feld, bitte nicht löchen",null,"Briefanrede"]
[null,null,null,null,null,"Der Filter wurde entfernt!",null,"Von Datum","Freies Feld, bitte nicht löchen",null,"Letzte Mutation"]
[null,null,null,null,null,"Geben Sie, was Sie suchen (1 Wort) oder lassen wie es ist",null,"Bis Datum","Freies Feld, bitte nicht löchen",null,"Durch"]
[null,null,null,null,null,"Sie werden zwei Worten der gesuchte Artikel geben können. Weiter?",null,"Ergebnis","Gesamt Verkauf-Preis"]
[null,null,null,null,null,"Sie werden den Namen (Spalte C) und der Ort (Spalte G) den gesuchten partner geben können. Weiter?",null,null,"Anfangs-Lager"]
[null,null,null,null,null,"Sie werden eine Rechnung erstellen, die ein oder mehrere Lieferscheine kompiliert\nWenn 'Bill1\" nicht zurückgesetzt wurde, sagen Sie 'Nein', und leeren Sie zuerst 'Bill1'\nSehen Sie Blatt 'Hilfe' vor der Verwendung dieses Teils des Programms",null,null,"Minimal-Lager"]
[null,null,null,null,null,"Die maximale Anzahl der Positionen wurde erreicht\nWiederholen Sie durch die Beschränkung der Reichweite von Daten wie nötig",null,null,"Vorchlag-Bestellung"]
[null,null,null,null,null,null,null,null,"Bestellung"]
[null,null,null,null,null,null,null,null,"Datum/Best."]
[null,null,null,null,null,null,null,null,"Freies Feld, bitte nicht löchen"]
[null,null,null,null,null,null,null,null,"Poids (Kg)"]
[null,null,null,null,null,null,null,null,"Gesamt Einkaufspreis"]
[null,null,null,null,null,null,null,null,"Werte der Lager am Verkaufspreis"]

{"sheet":"Temp","index":18,"n_rows":1,"n_cols":36,"rows_kept":1,"cut":false,"hidden":true,"merged":[]}
["Réf.","Désignation","Prix vente","EAN","Champ libre","Unité","Prix achat","Code TVA","N° article Fourn","N° fournisseur","Stock","Valeur stock","Cumul Entrées","Cumul Sorties","Entrée","Sortie","Catégorie","PrixNetFourn","Kurs",null,null,null,null,null,null,null,"PVT","St Init.","St. Mini","PropCde","Cde","Date","Vide","Vide","PAT (ventes au prix d'achat total)","Val St au PV"]

{"sheet":"z","index":19,"n_rows":11,"n_cols":3,"rows_kept":11,"cut":false,"hidden":true,"merged":[]}
["StructureN","StructureA","FeuilleA"]
["E4","F4",{"$f":"IF(ISBLANK(Structure!F4),\"\",Structure!F4)","v":"Démarrage"}]
["E5","F5",{"$f":"IF(ISBLANK(Structure!F5),\"\",Structure!F5)","v":"PremiersPas"}]
["E6","F6",{"$f":"IF(ISBLANK(Structure!F6),\"\",Structure!F6)","v":"Aide"}]
["E7","F7",{"$f":"IF(ISBLANK(Structure!F7),\"\",Structure!F7)","v":"Archive"}]
["E8","F8",{"$f":"IF(ISBLANK(Structure!F8),\"\",Structure!F8)","v":"Factures1"}]
["E9","F9",{"$f":"IF(ISBLANK(Structure!F9),\"\",Structure!F9)","v":"Articles"}]
["E10","F10",{"$f":"IF(ISBLANK(Structure!F10),\"\",Structure!F10)","v":"Partners"}]
["E11","F11",{"$f":"IF(ISBLANK(Structure!F11),\"\",Structure!F11)","v":"CdeFourn"}]
["E12","F12",{"$f":"IF(ISBLANK(Structure!F12),\"\",Structure!F12)","v":"Tab.de bord"}]
[null,null,{"$f":"IF(ISBLANK(Structure!F13),\"\",Structure!F13)","v":""}]

{"sheet":"Structure","index":20,"n_rows":17,"n_cols":7,"rows_kept":17,"cut":false,"hidden":true,"merged":[[16,0,16,2],[1,0,1,2]]}
[null,null,"Noms originaux\nNe JAMAIS modifier","Nom anglais","Noms choisis"]
[]
[]
[null,null,"Démarrage","Start","Démarrage","Démarrage"]
[null,null,"PremiersPas","How to begin","PremiersPas","PremiersPas"]
[null,null,"Aide","Aide","Aide","Aide"]
[null,null,"Archive","Archive","Archive","Archive"]
[null,null,"Factures1","Factures1","Factures1","Factures1",15]
[null,null,"Articles","Articles","Articles","Articles"]
[null,null,"Partners","Partners","Partners","Partners"]
[null,null,"CdeFourn","CdeFourn","CdeFourn","CdeFourn",18]
[null,null,"Tab.de bord","Statistics","Tab.de bord","Tab.de bord",19]
[]
[]
[]
[]
["SPS/ SVA: Vers. 3.00.00f"]